{"text_format":"1","workbook":"xlsx","n_sheets":4,"sheets":["List Data","Master Template","Dummy Data","Sheet1"],"not_rendered":{"charts":122,"images":0,"macros":1,"external_links":1,"defined_names":14,"comments":0,"pivot_tables":0},"unopened":[],"bounds":{"document_bytes":16777216,"sheet_cells":100000,"rows_first":2000,"rows_last":500,"rows_between":2000,"halvings":0,"cell_chars":16384,"cell_head_chars":4096},"cells_cut":0,"cells_raw":0,"read":"whole","date_system":"1900"}

{"sheet":"List Data","index":0,"n_rows":181,"n_cols":24,"rows_kept":181,"cut":false,"hidden":false,"merged":[]}
["Location of Infection","Room numbers","Answer",null,"Month","Days in Month",null,"Year",null,"Facilities","Staff","Prescriber",null,"De-escalation",null,"Class","Anti_infective_agent","Cephalosporins","Fluoroquinolones","Macrolides","Penicillins","Sulfonamides","Tetracyclines","Urinary_anti_infectives"]
["UTI","001-1","Yes",null,"January",31,null,2016,null,"Fac1","Staff1","Dr1",null,"Continue",null,"Anti_infective_agent","Atovaquone","Cefaclor","Ciprofloxacin","Azithromycin","Amoxicillin","Sulfadiazine","Demeclocycline","Fosfomycin Tromethamine"]
["CAUTI","001-2","No",null,"February",28,null,2017,null,"Fac2","Staff2","Dr2",null,"Discontinue",null,"Cephalosporins","Aztreonam","Cefadroxil","Gatifloxacin","Clarithromycin","Amoxicillin-Pot Clavulanate","Sulfamethoxazole-Trimethoprim","Doxycycline","Methenamine"]
["Skin","002-1","Multi-Rx",null,"March",31,null,2018,null,"Fac3","Staff3","Dr3",null,"Change",null,"Fluoroquinolones","Clindamycin","CeFAZolin","LevoFLOXacin","Erythromycin","Ampicillin","SulfaSALAzine","Minocycline","Nitrofurantoin"]
["Resp","002-2","N/A",null,"April",30,null,2019,null,"Fac4","Staff4","Dr4",null,"Narrow",null,"Macrolides","Dapsone","Cefdinir","Moxifloxacin","Fidaxomicin","Ampicillin-Sulbactam","Vancomycin"]
["Eye","003-1",null,null,"May",31,null,2020,null,"Fac5","Staff5","Dr5",null,"Shorten",null,"Penicillins","DAPTOmycin","Cefepime","Ofloxacin",null,"Dicloxacillin","Zonisamide"]
["Ear","003-2",null,null,"June",30,null,2021,null,"Fac6","Staff6","Dr6",null,"Multi-Rx",null,"Sulfonamides","Ertapenem","Cefepime-Dextrose",null,null,"Nafcillin"]
["GI","004-1",null,null,"July",31,null,2022,null,"Fac7","Staff7","Dr7",null,null,null,"Tetracyclines","Ethambutol","Cefixime",null,null,"Oxacillin"]
["Blood","004-2",null,null,"August",31,null,2023,null,"Fac8","Staff8","Dr8",null,null,null,"Urinary_anti_infectives","Imipenem-Cilastatin","CefOXitin",null,null,"Penicillin G"]
["Genital","005-1",null,null,"September",30,null,2024,null,"Fac9","Staff9",null,null,null,null,null,"Linezolid","Cefpodoxime",null,null,"Penicillin V"]
["Other","005-2",null,null,"October",31,null,2025,null,"Fac10","Staff10",null,null,null,null,null,"Meropenem","Cefprozil",null,null,"Piperacillin-Tazobactam"]
["Multi-Rx","006-1",null,null,"November",30,null,2026,null,"Fac11","Staff11",null,null,null,null,null,"MetroNIDAZOLE","Ceftaroline"]
[null,"006-2",null,null,"December",31,null,2027,null,"Fac12","Staff12",null,null,null,null,null,"Pyrazinamide","Ceftaroline Fosamil"]
[null,"007-1",null,null,null,null,null,2028,null,"Fac13","Staff13",null,null,null,null,null,"Rifabutin","CefTAZidime"]
[null,"007-2",null,null,null,null,null,2029,null,"Fac14","Staff14",null,null,null,null,null,"Rifapentine","Ceftazidime-Avibactam"]
[null,"008-1",null,null,null,null,null,2030,null,"Fac15","Staff15",null,null,null,null,null,"RifAXIMin","CefTRIAXone"]
[null,"008-2",null,null,null,null,null,null,null,"Fac16","Staff16",null,null,null,null,null,"Sulfamethoxazole-Trimethoprim","Cefuroxime"]
[null,"009-1",null,null,null,null,null,null,null,"Fac17","Staff17",null,null,null,null,null,"Tigecycline","Cefuroxime Axetil"]
[null,"009-2",null,null,null,null,null,null,null,"Fac18","Staff18",null,null,null,null,null,"Tinidazole","Cephalexin"]
[null,"010-1",null,null,null,null,null,null,null,"Fac19","Staff19",null,null,null,null,null,"Trimethoprim"]
[null,"010-2",null,null,null,null,null,null,null,"Fac20","Staff20",null,null,null,null,null,"Vancomycin"]
[null,"011-1",null,null,null,null,null,null,null,"Fac21","Staff21"]
[null,"011-2",null,null,null,null,null,null,null,"Fac22","Staff22"]
[null,"012-1",null,null,null,null,null,null,null,"Fac23","Staff23"]
[null,"012-2",null,null,null,null,null,null,null,"Fac24","Staff24"]
[null,"013-1",null,null,null,null,null,null,null,"Fac25","Staff25"]
[null,"013-2",null,null,null,null,null,null,null,"Fac26","Staff26"]
[null,"014-1",null,null,null,null,null,null,null,"Fac27","Staff27"]
[null,"014-2",null,null,null,null,null,null,null,null,"Staff28"]
[null,"015-1",null,null,null,null,null,null,null,null,"Staff29"]
[null,"015-2",null,null,null,null,null,null,null,null,"Staff30"]
[null,"016-1",null,null,null,null,null,null,null,null,"Staff31"]
[null,"016-2",null,null," ",null,null,null,null,null,"Staff32"]
[null,"017-1",null,null," ",null,null,null,null,null,"Staff33"]
[null,"017-2",null,null," ",null,null,null,null,null,"Staff34"]
[null,"018-1",null,null,null,null,null,null,null,null,"Staff35"]
[null,"018-2",null,null,null,null,null,null,null,null,"Staff36"]
[null,"019-1",null,null," ",null,null,null,null,null,"Staff37"]
[null,"019-2",null,null,null,null,null,null,null,null,"Staff38"]
[null,"020-1",null,null,null,null,null,null,null,null,"Staff39"]
[null,"020-2",null,null,null,null,null,null,null,null,"Staff40"]
[null,"021-1"]
[null,"021-2"]
[null,"022-1"]
[null,"022-2"]
[null,"201-1"]
[null,"201-2"]
[null,"202-1"]
[null,"202-2"]
[null,"203-1"]
[null,"203-2"]
[null,"204-1"]
[null,"204-2"]
[null,"205-1"]
[null,"205-2"]
[null,"206-1"]
[null,"206-2"]
[null,"207-1"]
[null,"207-2"]
[null,"208-1"]
[null,"208-2"]
[null,"209-1"]
[null,"209-2"]
[null,"210-1"]
[null,"210-2"]
[null,"211-1"]
[null,"211-2"]
[null,"212-1"]
[null,"212-2"]
[null,"213-1"]
[null,"213-2"]
[null,"214-1"]
[null,"214-2"]
[null,"215-1"]
[null,"215-2"]
[null,"216-1"]
[null,"216-2"]
[null,"217-1"]
[null,"217-2"]
[null,"218-1"]
[null,"218-2"]
[null,"219-1"]
[null,"219-2"]
[null,"220-1"]
[null,"220-2"]
[null,"221-1"]
[null,"221-2"]
[null,"222-1"]
[null,"222-2"]
[null,"223-1"]
[null,"223-2"]
[null,"224-1"]
[null,"224-2"]
[null,"225-1"]
[null,"225-2"]
[null,"226-1"]
[null,"226-2"]
[null,"227-1"]
[null,"227-2"]
[null,"228-1"]
[null,"228-2"]
[null,"229-1"]
[null,"229-2"]
[null,"230-1"]
[null,"230-2"]
[null,"231-1"]
[null,"231-2"]
[null,"232-1"]
[null,"232-2"]
[null,"233-1"]
[null,"233-2"]
[null,"234-1"]
[null,"234-2"]
[null,"235-1"]
[null,"235-2"]
[null,"236-1"]
[null,"236-2"]
[null,"237-1"]
[null,"237-2"]
[null,"238-1"]
[null,"238-2"]
[null,"239-1"]
[null,"239-2"]
[null,"240-1"]
[null,"240-2"]
[null,"241-1"]
[null,"241-2"]
[null,"242-1"]
[null,"242-1"]
[null,"242-2"]
[null,"242-2"]
[null,"243-1"]
[null,"243-2"]
[null,"245-1"]
[null,"245-2"]
[null,"246-1"]
[null,"246-2"]
[null,"247-1"]
[null,"247-2"]
[null,"248-1"]
[null,"248-2"]
[null,"249-1"]
[null,"249-2"]
[null,"250-1"]
[null,"250-2"]
[null,"301-1"]
[null,"301-2"]
[null,"302-1"]
[null,"302-2"]
[null,"303-1"]
[null,"303-2"]
[null,"304-1"]
[null,"304-2"]
[null,"305-1"]
[null,"305-2"]
[null,"306-1"]
[null,"306-2"]
[null,"307-1"]
[null,"307-2"]
[null,"308-1"]
[null,"308-2"]
[null,"309-1"]
[null,"309-2"]
[null,"310-1"]
[null,"310-2"]
[null,"311-1"]
[null,"311-2"]
[null,"312-1"]
[null,"312-2"]
[null,"313-1"]
[null,"313-2"]
[null,"314-1"]
[null,"314-2"]
[null,"315-1"]
[null,"315-2"]
[null,"316-1"]
[null,"316-2"]
[null,"317-1"]
[null,"317-2"]
[null,"319-1"]
[null,"319-2"]

{"sheet":"Master Template","index":1,"n_rows":200,"n_cols":86,"rows_kept":200,"cut":false,"hidden":false,"merged":[[111,1,111,4],[111,5,111,12],[108,1,108,4],[108,5,108,12],[109,1,109,4],[109,5,109,12],[110,1,110,4],[110,5,110,12],[5,31,5,35],[5,3,6,3],[107,1,107,4],[107,5,107,12],[104,1,104,12],[105,1,105,4],[105,5,105,12],[106,1,106,4],[106,5,106,12],[31,37,32,49],[114,1,115,12],[1,3,1,4],[4,5,4,7],[4,9,4,10],[4,13,4,15],[4,16,4,17],[4,18,4,21],[5,37,5,49],[71,1,71,2],[71,34,71,35],[5,4,5,8],[5,9,5,11],[5,12,5,23],[5,24,5,28],[5,29,5,30]]}
[]
[null,null,null,"Print Reports:"]
[null,null,null,null,null,null,null,null,null,null,null,null,null,null,null,null,null,null,null,null,null,null,null,null,null,null,null,null,null,null,null,null,null,null,null,null,null,null,null,null,null,null,null,null,null,null,null,null,null,null,null,null,null,null,null,null,null,null,null,null,null,null,null,null,null,null,null,null,null,null,null,null,null,null,null,null,null,"Infection Events",null,null,null,"Symbol Translation",null,null,null,"Symbol Concatenatioin"]
[null,null,null,null,null,null,null,null,null,null,null,null,null,null,null,null,null,null,null,null,null,null,null,null,null,null,null,null,null,null,null,null,null,null,null,null,null,null,null,null,null,null,null,null,null,null,null,null,null,null,null,null,null,null,null,null,null,null,null,null,null,null,null,null,null,null,null,null,null,null,null,null,null,null,null,null,"Room Number","1st infection","2nd infection","3rd infection","4th infection","1st infection","2nd infection","3rd infection","4th infection","Up to 4, \"\" if none."]
[null,"Infection Control Surveillance Log               ",null,null,"Facility","Meadowbrook",null,null,"Month","August",null,"Year",2019,"Avg. Daily Census",null,null,null,null,"Resident Days per Month",null,null,null,null,null,null,null,null,null,null,null,null,null,null,null,null,null,null,null,null,null,null,null,null,null,null,null,null,null,null,null,null,null,null,null,null,null,null,null,null,null,null,null,null,null,null,null,null,null,null,null,null,null,null,null,null,null,{"$f":"'List Data'!B2","v":"001-1"},{"$f":"IFERROR(INDEX('Master Template'!$M$8:$M$37,SMALL(IF('Master Template'!$F$8:$F$37=$BY5,ROW('Master Template'!$F$8:$F$37)-7,\"\"),COLUMNS($BZ$4:BZ5))),\"\")","v":""},{"$f":"IFERROR(INDEX('Master Template'!$M$8:$M$37,SMALL(IF('Master Template'!$F$8:$F$37=$BY5,ROW('Master Template'!$F$8:$F$37)-7,\"\"),COLUMNS($BZ$4:CA5))),\"\")","v":""},{"$f":"IFERROR(INDEX('Master Template'!$M$8:$M$37,SMALL(IF('Master Template'!$F$8:$F$37=$BY5,ROW('Master Template'!$F$8:$F$37)-7,\"\"),COLUMNS($BZ$4:CB5))),\"\")","v":""},{"$f":"IFERROR(INDEX('Master Template'!$M$8:$M$37,SMALL(IF('Master Template'!$F$8:$F$37=$BY5,ROW('Master Template'!$F$8:$F$37)-7,\"\"),COLUMNS($BZ$4:CC5))),\"\")","v":""},{"$f":"IFERROR(VLOOKUP(BZ5,'Master Template'!$B$73:$C$83,2,FALSE),\"\")","v":""},{"$f":"IFERROR(VLOOKUP(CA5,'Master Template'!$B$73:$C$83,2,FALSE),\"\")","v":""},{"$f":"IFERROR(VLOOKUP(CB5,'Master Template'!$B$73:$C$83,2,FALSE),\"\")","v":""},{"$f":"IFERROR(VLOOKUP(CC5,'Master Template'!$B$73:$C$83,2,FALSE),\"\")","v":""},{"$f":"IF(CD5=\"\",\"\",IF(CE5=\"\",CD5,IF(CF5=\"\",CD5&\",\"&CE5,IF(CG5=\"\",CD5&\",\"&CE5&\",\"&CF5,CD5&\",\"&CE5&\",\"&CF5&\",\"&CG5))))","v":""}]
[null,"Consultant Pharmacist",null,"Medical Director Endorsement","Resident",null,null,null,null,"Staff",null,null,"Clinical Information",null,null,null,null,null,null,null,null,null,null,null,"Treatment",null,null,null,null,"Prescriber",null,"Therapy",null,null,null,null,null,"Infection Log Reports",null,null,null,null,null,null,null,null,null,null,null,null,null,null,null,null,null,null,null,null,null,null,null,null,null,null,null,null,null,null,null,null,null,null,null,null,null,null,{"$f":"'List Data'!B3","v":"001-2"},{"$f":"IFERROR(INDEX('Master Template'!$M$8:$M$37,SMALL(IF('Master Template'!$F$8:$F$37=$BY6,ROW('Master Template'!$F$8:$F$37)-7,\"\"),COLUMNS($BZ$4:BZ6))),\"\")","v":""},{"$f":"IFERROR(INDEX('Master Template'!$M$8:$M$37,SMALL(IF('Master Template'!$F$8:$F$37=$BY6,ROW('Master Template'!$F$8:$F$37)-7,\"\"),COLUMNS($BZ$4:CA6))),\"\")","v":""},{"$f":"IFERROR(INDEX('Master Template'!$M$8:$M$37,SMALL(IF('Master Template'!$F$8:$F$37=$BY6,ROW('Master Template'!$F$8:$F$37)-7,\"\"),COLUMNS($BZ$4:CB6))),\"\")","v":""},{"$f":"IFERROR(INDEX('Master Template'!$M$8:$M$37,SMALL(IF('Master Template'!$F$8:$F$37=$BY6,ROW('Master Template'!$F$8:$F$37)-7,\"\"),COLUMNS($BZ$4:CC6))),\"\")","v":""},{"$f":"IFERROR(VLOOKUP(BZ6,'Master Template'!$B$73:$C$83,2,FALSE),\"\")","v":""},{"$f":"IFERROR(VLOOKUP(CA6,'Master Template'!$B$73:$C$83,2,FALSE),\"\")","v":""},{"$f":"IFERROR(VLOOKUP(CB6,'Master Template'!$B$73:$C$83,2,FALSE),\"\")","v":""},{"$f":"IFERROR(VLOOKUP(CC6,'Master Template'!$B$73:$C$83,2,FALSE),\"\")","v":""},{"$f":"IF(CD6=\"\",\"\",IF(CE6=\"\",CD6,IF(CF6=\"\",CD6&\",\"&CE6,IF(CG6=\"\",CD6&\",\"&CE6&\",\"&CF6,CD6&\",\"&CE6&\",\"&CF6&\",\"&CG6))))","v":""}]
[null,"The prescription was Reviewed (ATB selection & therapy)","Was the original therapy Endorsed?",null,"Resident Name","Room","Date of Current Admission or Readmission","Date of Onset  ","Signs & \nSymptoms","CIC initially completed (BEFORE Rx)","Who submitted the order? (Staff)","Was a CIC Form Completed? (ultimately)","Location of Infection","Meets McGeer's Criteria","Lab Identified C. difficile Infection (CDI)","MRSA Infection","Admitted with Infection","Healthcare Acquired - Nosocomial Infection","Temp","X-Ray\nTaken","Culture Taken","Foley","Trach","Causative\nOrganism \n(list or \"none found\")","Class","Medication","Treatment","Follow-up \nDe-escalation","Diagnosis","Was this antibiotic prescribed at the facility?","Who prescribed this antibiotic?","Start Date","Stop Date","Length of Therapy (days)","Reportable\ninfections\nreported","Control Techniques Utilized",null,"Location","Admitted With","Nosocomial","Total","McGeer's Met","McGeer's Not Met","% Rate of McGeer's","CIC Completed (Nosocomial)","CIC Not Completed (Nosocomial)","% Rate of CIC (Nosocomial)","Average Length of Therapy (days)","Infection Rate (%)","Rate per 1,000 Resident Days (%)",null,null,null,null,null,null,null,null,null,null,null,null,null,null,null,null,null,null,null,null,null,null,null,null,null,null,{"$f":"'List Data'!B4","v":"002-1"},{"$f":"IFERROR(INDEX('Master Template'!$M$8:$M$37,SMALL(IF('Master Template'!$F$8:$F$37=$BY7,ROW('Master Template'!$F$8:$F$37)-7,\"\"),COLUMNS($BZ$4:BZ7))),\"\")","v":""},{"$f":"IFERROR(INDEX('Master Template'!$M$8:$M$37,SMALL(IF('Master Template'!$F$8:$F$37=$BY7,ROW('Master Template'!$F$8:$F$37)-7,\"\"),COLUMNS($BZ$4:CA7))),\"\")","v":""},{"$f":"IFERROR(INDEX('Master Template'!$M$8:$M$37,SMALL(IF('Master Template'!$F$8:$F$37=$BY7,ROW('Master Template'!$F$8:$F$37)-7,\"\"),COLUMNS($BZ$4:CB7))),\"\")","v":""},{"$f":"IFERROR(INDEX('Master Template'!$M$8:$M$37,SMALL(IF('Master Template'!$F$8:$F$37=$BY7,ROW('Master Template'!$F$8:$F$37)-7,\"\"),COLUMNS($BZ$4:CC7))),\"\")","v":""},{"$f":"IFERROR(VLOOKUP(BZ7,'Master Template'!$B$73:$C$83,2,FALSE),\"\")","v":""},{"$f":"IFERROR(VLOOKUP(CA7,'Master Template'!$B$73:$C$83,2,FALSE),\"\")","v":""},{"$f":"IFERROR(VLOOKUP(CB7,'Master Template'!$B$73:$C$83,2,FALSE),\"\")","v":""},{"$f":"IFERROR(VLOOKUP(CC7,'Master Template'!$B$73:$C$83,2,FALSE),\"\")","v":""},""]
[1,null,null,null,null,null,null,null,null,null,null,null,null,null,null,null,null,null,null,null,null,null,null,null,null,null,null,null,null,null,null,null,null,{"$f":"IFERROR(IF(AF8=\"\",\"\",(DATEDIF(AF8,AG8,\"D\")+1)),\"\")","v":""},null,null,null,"UTI",{"$f":"COUNTIFS($M$8:$M$36,'List Data'!A2,$Q$8:$Q$36,\"Yes\")","v":0},{"$f":"COUNTIFS($M$8:$M$36,'List Data'!A2,$R$8:$R$36,\"Yes\")","v":0},{"$f":"SUM(AM8:AN8)","v":0},{"$f":"COUNTIFS($M$8:$M$36,'List Data'!A2,$N$8:$N$36,\"Yes\")","v":0},{"$f":"COUNTIFS($M$8:$M$36,'List Data'!A2,$N$8:$N$36,\"No\")","v":0},{"$f":"IFERROR(AP8/(AQ8+AP8),\"\")","v":""},{"$f":"COUNTIFS($L$8:$L$37,\"Yes\",$M$8:$M$37,'List Data'!A2,$R$8:$R$37,\"Yes\")","v":0},{"$f":"COUNTIFS($L$8:$L$37,\"No\",$M$8:$M$37,'List Data'!A2,$R$8:$R$37,\"Yes\")","v":0},{"$f":"IFERROR(AS8/(AS8+AT8),\"\")","v":""},{"$f":"IFERROR(AVERAGEIF($M$8:$M$37,'List Data'!A2,$AH$8:$AH$37),\"\")","v":""},{"$f":"IFERROR((AO8/$Q$5)*100,\"\")","v":""},{"$f":"IFERROR((AO8/$W$5)*1000,\"\")","v":""},null,null,null,null,null,null,null,null,null,null,null,null,null,null,null,null,null,null,null,null,null,null,null,null,null,null,{"$f":"'List Data'!B5","v":"002-2"},{"$f":"IFERROR(INDEX('Master Template'!$M$8:$M$37,SMALL(IF('Master Template'!$F$8:$F$37=$BY8,ROW('Master Template'!$F$8:$F$37)-7,\"\"),COLUMNS($BZ$4:BZ8))),\"\")","v":""},{"$f":"IFERROR(INDEX('Master Template'!$M$8:$M$37,SMALL(IF('Master Template'!$F$8:$F$37=$BY8,ROW('Master Template'!$F$8:$F$37)-7,\"\"),COLUMNS($BZ$4:CA8))),\"\")","v":""},{"$f":"IFERROR(INDEX('Master Template'!$M$8:$M$37,SMALL(IF('Master Template'!$F$8:$F$37=$BY8,ROW('Master Template'!$F$8:$F$37)-7,\"\"),COLUMNS($BZ$4:CB8))),\"\")","v":""},{"$f":"IFERROR(INDEX('Master Template'!$M$8:$M$37,SMALL(IF('Master Template'!$F$8:$F$37=$BY8,ROW('Master Template'!$F$8:$F$37)-7,\"\"),COLUMNS($BZ$4:CC8))),\"\")","v":""},{"$f":"IFERROR(VLOOKUP(BZ8,'Master Template'!$B$73:$C$83,2,FALSE),\"\")","v":""},{"$f":"IFERROR(VLOOKUP(CA8,'Master Template'!$B$73:$C$83,2,FALSE),\"\")","v":""},{"$f":"IFERROR(VLOOKUP(CB8,'Master Template'!$B$73:$C$83,2,FALSE),\"\")","v":""},{"$f":"IFERROR(VLOOKUP(CC8,'Master Template'!$B$73:$C$83,2,FALSE),\"\")","v":""},""]
[2,null,null,null,null,null,null,null,null,null,null,null,null,null,null,null,null,null,null,null,null,null,null,null,null,null,null,null,null,null,null,null,null,{"$f":"IFERROR(IF(AF9=\"\",\"\",(DATEDIF(AF9,AG9,\"D\")+1)),\"\")","v":""},null,null,null,"Cath/UTI",{"$f":"COUNTIFS($M$8:$M$36,'List Data'!A3,$Q$8:$Q$36,\"Yes\")","v":0},{"$f":"COUNTIFS($M$8:$M$36,'List Data'!A3,$R$8:$R$36,\"Yes\")","v":0},{"$f":"SUM(AM9:AN9)","v":0},{"$f":"COUNTIFS($M$8:$M$36,'List Data'!A3,$N$8:$N$36,\"Yes\")","v":0},{"$f":"COUNTIFS($M$8:$M$36,'List Data'!A3,$N$8:$N$36,\"No\")","v":0},{"$f":"IFERROR(AP9/(AQ9+AP9),\"\")","v":""},{"$f":"COUNTIFS($L$8:$L$37,\"Yes\",$M$8:$M$37,'List Data'!A3,$R$8:$R$37,\"Yes\")","v":0},{"$f":"COUNTIFS($L$8:$L$37,\"No\",$M$8:$M$37,'List Data'!A3,$R$8:$R$37,\"Yes\")","v":0},{"$f":"IFERROR(AS9/(AS9+AT9),\"\")","v":""},{"$f":"IFERROR(AVERAGEIF($M$8:$M$37,'List Data'!A3,$AH$8:$AH$37),\"\")","v":""},{"$f":"IFERROR((AO9/$Q$5)*100,\"\")","v":""},{"$f":"IFERROR((AO9/$W$5)*1000,\"\")","v":""},null,null,null,null,null,null,null,null,null,null,null,null,null,null,null,null,null,null,null,null,null,null,null,null,null,null,{"$f":"'List Data'!B6","v":"003-1"},{"$f":"IFERROR(INDEX('Master Template'!$M$8:$M$37,SMALL(IF('Master Template'!$F$8:$F$37=$BY9,ROW('Master Template'!$F$8:$F$37)-7,\"\"),COLUMNS($BZ$4:BZ9))),\"\")","v":""},{"$f":"IFERROR(INDEX('Master Template'!$M$8:$M$37,SMALL(IF('Master Template'!$F$8:$F$37=$BY9,ROW('Master Template'!$F$8:$F$37)-7,\"\"),COLUMNS($BZ$4:CA9))),\"\")","v":""},{"$f":"IFERROR(INDEX('Master Template'!$M$8:$M$37,SMALL(IF('Master Template'!$F$8:$F$37=$BY9,ROW('Master Template'!$F$8:$F$37)-7,\"\"),COLUMNS($BZ$4:CB9))),\"\")","v":""},{"$f":"IFERROR(INDEX('Master Template'!$M$8:$M$37,SMALL(IF('Master Template'!$F$8:$F$37=$BY9,ROW('Master Template'!$F$8:$F$37)-7,\"\"),COLUMNS($BZ$4:CC9))),\"\")","v":""},{"$f":"IFERROR(VLOOKUP(BZ9,'Master Template'!$B$73:$C$83,2,FALSE),\"\")","v":""},{"$f":"IFERROR(VLOOKUP(CA9,'Master Template'!$B$73:$C$83,2,FALSE),\"\")","v":""},{"$f":"IFERROR(VLOOKUP(CB9,'Master Template'!$B$73:$C$83,2,FALSE),\"\")","v":""},{"$f":"IFERROR(VLOOKUP(CC9,'Master Template'!$B$73:$C$83,2,FALSE),\"\")","v":""},""]
[3,null,null,null,null,null,null,null,null,null,null,null,null,null,null,null,null,null,null,null,null,null,null,null,null,null,null,null,null,null,null,null,null,"",null,null,null,"Skin",{"$f":"COUNTIFS($M$8:$M$36,'List Data'!A4,$Q$8:$Q$36,\"Yes\")","v":0},{"$f":"COUNTIFS($M$8:$M$36,'List Data'!A4,$R$8:$R$36,\"Yes\")","v":0},0,{"$f":"COUNTIFS($M$8:$M$36,'List Data'!A4,$N$8:$N$36,\"Yes\")","v":0},{"$f":"COUNTIFS($M$8:$M$36,'List Data'!A4,$N$8:$N$36,\"No\")","v":0},"",{"$f":"COUNTIFS($L$8:$L$37,\"Yes\",$M$8:$M$37,'List Data'!A4,$R$8:$R$37,\"Yes\")","v":0},{"$f":"COUNTIFS($L$8:$L$37,\"No\",$M$8:$M$37,'List Data'!A4,$R$8:$R$37,\"Yes\")","v":0},"",{"$f":"IFERROR(AVERAGEIF($M$8:$M$37,'List Data'!A4,$AH$8:$AH$37),\"\")","v":""},"","",null,null,null,null,null,null,null,null,null,null,null,null,null,null,null,null,null,null,null,null,null,null,null,null,null,null,{"$f":"'List Data'!B7","v":"003-2"},{"$f":"IFERROR(INDEX('Master Template'!$M$8:$M$37,SMALL(IF('Master Template'!$F$8:$F$37=$BY10,ROW('Master Template'!$F$8:$F$37)-7,\"\"),COLUMNS($BZ$4:BZ10))),\"\")","v":""},{"$f":"IFERROR(INDEX('Master Template'!$M$8:$M$37,SMALL(IF('Master Template'!$F$8:$F$37=$BY10,ROW('Master Template'!$F$8:$F$37)-7,\"\"),COLUMNS($BZ$4:CA10))),\"\")","v":""},{"$f":"IFERROR(INDEX('Master Template'!$M$8:$M$37,SMALL(IF('Master Template'!$F$8:$F$37=$BY10,ROW('Master Template'!$F$8:$F$37)-7,\"\"),COLUMNS($BZ$4:CB10))),\"\")","v":""},{"$f":"IFERROR(INDEX('Master Template'!$M$8:$M$37,SMALL(IF('Master Template'!$F$8:$F$37=$BY10,ROW('Master Template'!$F$8:$F$37)-7,\"\"),COLUMNS($BZ$4:CC10))),\"\")","v":""},{"$f":"IFERROR(VLOOKUP(BZ10,'Master Template'!$B$73:$C$83,2,FALSE),\"\")","v":""},{"$f":"IFERROR(VLOOKUP(CA10,'Master Template'!$B$73:$C$83,2,FALSE),\"\")","v":""},{"$f":"IFERROR(VLOOKUP(CB10,'Master Template'!$B$73:$C$83,2,FALSE),\"\")","v":""},{"$f":"IFERROR(VLOOKUP(CC10,'Master Template'!$B$73:$C$83,2,FALSE),\"\")","v":""},""]
[4,null,null,null,null,null,null,null,null,null,null,null,null,null,null,null,null,null,null,null,null,null,null,null,null,null,null,null,null,null,null,null,null,"",null,null,null,"Respiratory",{"$f":"COUNTIFS($M$8:$M$36,'List Data'!A5,$Q$8:$Q$36,\"Yes\")","v":0},{"$f":"COUNTIFS($M$8:$M$36,'List Data'!A5,$R$8:$R$36,\"Yes\")","v":0},0,{"$f":"COUNTIFS($M$8:$M$36,'List Data'!A5,$N$8:$N$36,\"Yes\")","v":0},{"$f":"COUNTIFS($M$8:$M$36,'List Data'!A5,$N$8:$N$36,\"No\")","v":0},"",{"$f":"COUNTIFS($L$8:$L$37,\"Yes\",$M$8:$M$37,'List Data'!A5,$R$8:$R$37,\"Yes\")","v":0},{"$f":"COUNTIFS($L$8:$L$37,\"No\",$M$8:$M$37,'List Data'!A5,$R$8:$R$37,\"Yes\")","v":0},"",{"$f":"IFERROR(AVERAGEIF($M$8:$M$37,'List Data'!A5,$AH$8:$AH$37),\"\")","v":""},"","",null,null,null,null,null,null,null,null,null,null,null,null,null,null,null,null,null,null,null,null,null,null,null,null,null,null,{"$f":"'List Data'!B8","v":"004-1"},{"$f":"IFERROR(INDEX('Master Template'!$M$8:$M$37,SMALL(IF('Master Template'!$F$8:$F$37=$BY11,ROW('Master Template'!$F$8:$F$37)-7,\"\"),COLUMNS($BZ$4:BZ11))),\"\")","v":""},{"$f":"IFERROR(INDEX('Master Template'!$M$8:$M$37,SMALL(IF('Master Template'!$F$8:$F$37=$BY11,ROW('Master Template'!$F$8:$F$37)-7,\"\"),COLUMNS($BZ$4:CA11))),\"\")","v":""},{"$f":"IFERROR(INDEX('Master Template'!$M$8:$M$37,SMALL(IF('Master Template'!$F$8:$F$37=$BY11,ROW('Master Template'!$F$8:$F$37)-7,\"\"),COLUMNS($BZ$4:CB11))),\"\")","v":""},{"$f":"IFERROR(INDEX('Master Template'!$M$8:$M$37,SMALL(IF('Master Template'!$F$8:$F$37=$BY11,ROW('Master Template'!$F$8:$F$37)-7,\"\"),COLUMNS($BZ$4:CC11))),\"\")","v":""},{"$f":"IFERROR(VLOOKUP(BZ11,'Master Template'!$B$73:$C$83,2,FALSE),\"\")","v":""},{"$f":"IFERROR(VLOOKUP(CA11,'Master Template'!$B$73:$C$83,2,FALSE),\"\")","v":""},{"$f":"IFERROR(VLOOKUP(CB11,'Master Template'!$B$73:$C$83,2,FALSE),\"\")","v":""},{"$f":"IFERROR(VLOOKUP(CC11,'Master Template'!$B$73:$C$83,2,FALSE),\"\")","v":""},""]
[5,null,null,null,null,null,null,null,null,null,null,null,null,null,null,null,null,null,null,null,null,null,null,null,null,null,null,null,null,null,null,null,null,"",null,null,null,"Eye",{"$f":"COUNTIFS($M$8:$M$36,'List Data'!A6,$Q$8:$Q$36,\"Yes\")","v":0},{"$f":"COUNTIFS($M$8:$M$36,'List Data'!A6,$R$8:$R$36,\"Yes\")","v":0},0,{"$f":"COUNTIFS($M$8:$M$36,'List Data'!A6,$N$8:$N$36,\"Yes\")","v":0},{"$f":"COUNTIFS($M$8:$M$36,'List Data'!A6,$N$8:$N$36,\"No\")","v":0},"",{"$f":"COUNTIFS($L$8:$L$37,\"Yes\",$M$8:$M$37,'List Data'!A6,$R$8:$R$37,\"Yes\")","v":0},{"$f":"COUNTIFS($L$8:$L$37,\"No\",$M$8:$M$37,'List Data'!A6,$R$8:$R$37,\"Yes\")","v":0},"",{"$f":"IFERROR(AVERAGEIF($M$8:$M$37,'List Data'!A6,$AH$8:$AH$37),\"\")","v":""},"","",null,null,null,null,null,null,null,null,null,null,null,null,null,null,null,null,null,null,null,null,null,null,null,null,null,null,{"$f":"'List Data'!B9","v":"004-2"},{"$f":"IFERROR(INDEX('Master Template'!$M$8:$M$37,SMALL(IF('Master Template'!$F$8:$F$37=$BY12,ROW('Master Template'!$F$8:$F$37)-7,\"\"),COLUMNS($BZ$4:BZ12))),\"\")","v":""},{"$f":"IFERROR(INDEX('Master Template'!$M$8:$M$37,SMALL(IF('Master Template'!$F$8:$F$37=$BY12,ROW('Master Template'!$F$8:$F$37)-7,\"\"),COLUMNS($BZ$4:CA12))),\"\")","v":""},{"$f":"IFERROR(INDEX('Master Template'!$M$8:$M$37,SMALL(IF('Master Template'!$F$8:$F$37=$BY12,ROW('Master Template'!$F$8:$F$37)-7,\"\"),COLUMNS($BZ$4:CB12))),\"\")","v":""},{"$f":"IFERROR(INDEX('Master Template'!$M$8:$M$37,SMALL(IF('Master Template'!$F$8:$F$37=$BY12,ROW('Master Template'!$F$8:$F$37)-7,\"\"),COLUMNS($BZ$4:CC12))),\"\")","v":""},{"$f":"IFERROR(VLOOKUP(BZ12,'Master Template'!$B$73:$C$83,2,FALSE),\"\")","v":""},{"$f":"IFERROR(VLOOKUP(CA12,'Master Template'!$B$73:$C$83,2,FALSE),\"\")","v":""},{"$f":"IFERROR(VLOOKUP(CB12,'Master Template'!$B$73:$C$83,2,FALSE),\"\")","v":""},{"$f":"IFERROR(VLOOKUP(CC12,'Master Template'!$B$73:$C$83,2,FALSE),\"\")","v":""},""]
[6,null,null,null,null,null,null,null,null,null,null,null,null,null,null,null,null,null,null,null,null,null,null,null,null,null,null,null,null,null,null,null,null,"",null,null,null,"Ear",{"$f":"COUNTIFS($M$8:$M$36,'List Data'!A7,$Q$8:$Q$36,\"Yes\")","v":0},{"$f":"COUNTIFS($M$8:$M$36,'List Data'!A7,$R$8:$R$36,\"Yes\")","v":0},0,{"$f":"COUNTIFS($M$8:$M$36,'List Data'!A7,$N$8:$N$36,\"Yes\")","v":0},{"$f":"COUNTIFS($M$8:$M$36,'List Data'!A7,$N$8:$N$36,\"No\")","v":0},"",{"$f":"COUNTIFS($L$8:$L$37,\"Yes\",$M$8:$M$37,'List Data'!A7,$R$8:$R$37,\"Yes\")","v":0},{"$f":"COUNTIFS($L$8:$L$37,\"No\",$M$8:$M$37,'List Data'!A7,$R$8:$R$37,\"Yes\")","v":0},"",{"$f":"IFERROR(AVERAGEIF($M$8:$M$37,'List Data'!A7,$AH$8:$AH$37),\"\")","v":""},"","",null,null,null,null,null,null,null,null,null,null,null,null,null,null,null,null,null,null,null,null,null,null,null,null,null,null,{"$f":"'List Data'!B10","v":"005-1"},{"$f":"IFERROR(INDEX('Master Template'!$M$8:$M$37,SMALL(IF('Master Template'!$F$8:$F$37=$BY13,ROW('Master Template'!$F$8:$F$37)-7,\"\"),COLUMNS($BZ$4:BZ13))),\"\")","v":""},{"$f":"IFERROR(INDEX('Master Template'!$M$8:$M$37,SMALL(IF('Master Template'!$F$8:$F$37=$BY13,ROW('Master Template'!$F$8:$F$37)-7,\"\"),COLUMNS($BZ$4:CA13))),\"\")","v":""},{"$f":"IFERROR(INDEX('Master Template'!$M$8:$M$37,SMALL(IF('Master Template'!$F$8:$F$37=$BY13,ROW('Master Template'!$F$8:$F$37)-7,\"\"),COLUMNS($BZ$4:CB13))),\"\")","v":""},{"$f":"IFERROR(INDEX('Master Template'!$M$8:$M$37,SMALL(IF('Master Template'!$F$8:$F$37=$BY13,ROW('Master Template'!$F$8:$F$37)-7,\"\"),COLUMNS($BZ$4:CC13))),\"\")","v":""},{"$f":"IFERROR(VLOOKUP(BZ13,'Master Template'!$B$73:$C$83,2,FALSE),\"\")","v":""},{"$f":"IFERROR(VLOOKUP(CA13,'Master Template'!$B$73:$C$83,2,FALSE),\"\")","v":""},{"$f":"IFERROR(VLOOKUP(CB13,'Master Template'!$B$73:$C$83,2,FALSE),\"\")","v":""},{"$f":"IFERROR(VLOOKUP(CC13,'Master Template'!$B$73:$C$83,2,FALSE),\"\")","v":""},""]
[7,null,null,null,null,null,null,null,null,null,null,null,null,null,null,null,null,null,null,null,null,null,null,null,null,null,null,null,null,null,null,null,null,"",null,null,null,"GI",{"$f":"COUNTIFS($M$8:$M$36,'List Data'!A8,$Q$8:$Q$36,\"Yes\")","v":0},{"$f":"COUNTIFS($M$8:$M$36,'List Data'!A8,$R$8:$R$36,\"Yes\")","v":0},0,{"$f":"COUNTIFS($M$8:$M$36,'List Data'!A8,$N$8:$N$36,\"Yes\")","v":0},{"$f":"COUNTIFS($M$8:$M$36,'List Data'!A8,$N$8:$N$36,\"No\")","v":0},"",{"$f":"COUNTIFS($L$8:$L$37,\"Yes\",$M$8:$M$37,'List Data'!A8,$R$8:$R$37,\"Yes\")","v":0},{"$f":"COUNTIFS($L$8:$L$37,\"No\",$M$8:$M$37,'List Data'!A8,$R$8:$R$37,\"Yes\")","v":0},"",{"$f":"IFERROR(AVERAGEIF($M$8:$M$37,'List Data'!A8,$AH$8:$AH$37),\"\")","v":""},"","",null,null,null,null,null,null,null,null,null,null,null,null,null,null,null,null,null,null,null,null,null,null,null,null,null,null,{"$f":"'List Data'!B11","v":"005-2"},{"$f":"IFERROR(INDEX('Master Template'!$M$8:$M$37,SMALL(IF('Master Template'!$F$8:$F$37=$BY14,ROW('Master Template'!$F$8:$F$37)-7,\"\"),COLUMNS($BZ$4:BZ14))),\"\")","v":""},{"$f":"IFERROR(INDEX('Master Template'!$M$8:$M$37,SMALL(IF('Master Template'!$F$8:$F$37=$BY14,ROW('Master Template'!$F$8:$F$37)-7,\"\"),COLUMNS($BZ$4:CA14))),\"\")","v":""},{"$f":"IFERROR(INDEX('Master Template'!$M$8:$M$37,SMALL(IF('Master Template'!$F$8:$F$37=$BY14,ROW('Master Template'!$F$8:$F$37)-7,\"\"),COLUMNS($BZ$4:CB14))),\"\")","v":""},{"$f":"IFERROR(INDEX('Master Template'!$M$8:$M$37,SMALL(IF('Master Template'!$F$8:$F$37=$BY14,ROW('Master Template'!$F$8:$F$37)-7,\"\"),COLUMNS($BZ$4:CC14))),\"\")","v":""},{"$f":"IFERROR(VLOOKUP(BZ14,'Master Template'!$B$73:$C$83,2,FALSE),\"\")","v":""},{"$f":"IFERROR(VLOOKUP(CA14,'Master Template'!$B$73:$C$83,2,FALSE),\"\")","v":""},{"$f":"IFERROR(VLOOKUP(CB14,'Master Template'!$B$73:$C$83,2,FALSE),\"\")","v":""},{"$f":"IFERROR(VLOOKUP(CC14,'Master Template'!$B$73:$C$83,2,FALSE),\"\")","v":""},""]
[8,null,null,null,null,null,null,null,null,null,null,null,null,null,null,null,null,null,null,null,null,null,null,null,null,null,null,null,null,null,null,null,null,"",null,null,null,"Blood",{"$f":"COUNTIFS($M$8:$M$36,'List Data'!A9,$Q$8:$Q$36,\"Yes\")","v":0},{"$f":"COUNTIFS($M$8:$M$36,'List Data'!A9,$R$8:$R$36,\"Yes\")","v":0},0,{"$f":"COUNTIFS($M$8:$M$36,'List Data'!A9,$N$8:$N$36,\"Yes\")","v":0},{"$f":"COUNTIFS($M$8:$M$36,'List Data'!A9,$N$8:$N$36,\"No\")","v":0},"",{"$f":"COUNTIFS($L$8:$L$37,\"Yes\",$M$8:$M$37,'List Data'!A9,$R$8:$R$37,\"Yes\")","v":0},{"$f":"COUNTIFS($L$8:$L$37,\"No\",$M$8:$M$37,'List Data'!A9,$R$8:$R$37,\"Yes\")","v":0},"",{"$f":"IFERROR(AVERAGEIF($M$8:$M$37,'List Data'!A9,$AH$8:$AH$37),\"\")","v":""},"","",null,null,null,null,null,null,null,null,null,null,null,null,null,null,null,null,null,null,null,null,null,null,null,null,null,null,{"$f":"'List Data'!B12","v":"006-1"},{"$f":"IFERROR(INDEX('Master Template'!$M$8:$M$37,SMALL(IF('Master Template'!$F$8:$F$37=$BY15,ROW('Master Template'!$F$8:$F$37)-7,\"\"),COLUMNS($BZ$4:BZ15))),\"\")","v":""},{"$f":"IFERROR(INDEX('Master Template'!$M$8:$M$37,SMALL(IF('Master Template'!$F$8:$F$37=$BY15,ROW('Master Template'!$F$8:$F$37)-7,\"\"),COLUMNS($BZ$4:CA15))),\"\")","v":""},{"$f":"IFERROR(INDEX('Master Template'!$M$8:$M$37,SMALL(IF('Master Template'!$F$8:$F$37=$BY15,ROW('Master Template'!$F$8:$F$37)-7,\"\"),COLUMNS($BZ$4:CB15))),\"\")","v":""},{"$f":"IFERROR(INDEX('Master Template'!$M$8:$M$37,SMALL(IF('Master Template'!$F$8:$F$37=$BY15,ROW('Master Template'!$F$8:$F$37)-7,\"\"),COLUMNS($BZ$4:CC15))),\"\")","v":""},{"$f":"IFERROR(VLOOKUP(BZ15,'Master Template'!$B$73:$C$83,2,FALSE),\"\")","v":""},{"$f":"IFERROR(VLOOKUP(CA15,'Master Template'!$B$73:$C$83,2,FALSE),\"\")","v":""},{"$f":"IFERROR(VLOOKUP(CB15,'Master Template'!$B$73:$C$83,2,FALSE),\"\")","v":""},{"$f":"IFERROR(VLOOKUP(CC15,'Master Template'!$B$73:$C$83,2,FALSE),\"\")","v":""},""]
[9,null,null,null,null,null,null,null,null,null,null,null,null,null,null,null,null,null,null,null,null,null,null,null,null,null,null,null,null,null,null,null,null,"",null,null,null,"Genital",{"$f":"COUNTIFS($M$8:$M$36,'List Data'!A10,$Q$8:$Q$36,\"Yes\")","v":0},{"$f":"COUNTIFS($M$8:$M$36,'List Data'!A10,$R$8:$R$36,\"Yes\")","v":0},0,{"$f":"COUNTIFS($M$8:$M$36,'List Data'!A10,$N$8:$N$36,\"Yes\")","v":0},{"$f":"COUNTIFS($M$8:$M$36,'List Data'!A10,$N$8:$N$36,\"No\")","v":0},"",{"$f":"COUNTIFS($L$8:$L$37,\"Yes\",$M$8:$M$37,'List Data'!A10,$R$8:$R$37,\"Yes\")","v":0},{"$f":"COUNTIFS($L$8:$L$37,\"No\",$M$8:$M$37,'List Data'!A10,$R$8:$R$37,\"Yes\")","v":0},"",{"$f":"IFERROR(AVERAGEIF($M$8:$M$37,'List Data'!A10,$AH$8:$AH$37),\"\")","v":""},"","",null,null,null,null,null,null,null,null,null,null,null,null,null,null,null,null,null,null,null,null,null,null,null,null,null,null,{"$f":"'List Data'!B13","v":"006-2"},{"$f":"IFERROR(INDEX('Master Template'!$M$8:$M$37,SMALL(IF('Master Template'!$F$8:$F$37=$BY16,ROW('Master Template'!$F$8:$F$37)-7,\"\"),COLUMNS($BZ$4:BZ16))),\"\")","v":""},{"$f":"IFERROR(INDEX('Master Template'!$M$8:$M$37,SMALL(IF('Master Template'!$F$8:$F$37=$BY16,ROW('Master Template'!$F$8:$F$37)-7,\"\"),COLUMNS($BZ$4:CA16))),\"\")","v":""},{"$f":"IFERROR(INDEX('Master Template'!$M$8:$M$37,SMALL(IF('Master Template'!$F$8:$F$37=$BY16,ROW('Master Template'!$F$8:$F$37)-7,\"\"),COLUMNS($BZ$4:CB16))),\"\")","v":""},{"$f":"IFERROR(INDEX('Master Template'!$M$8:$M$37,SMALL(IF('Master Template'!$F$8:$F$37=$BY16,ROW('Master Template'!$F$8:$F$37)-7,\"\"),COLUMNS($BZ$4:CC16))),\"\")","v":""},{"$f":"IFERROR(VLOOKUP(BZ16,'Master Template'!$B$73:$C$83,2,FALSE),\"\")","v":""},{"$f":"IFERROR(VLOOKUP(CA16,'Master Template'!$B$73:$C$83,2,FALSE),\"\")","v":""},{"$f":"IFERROR(VLOOKUP(CB16,'Master Template'!$B$73:$C$83,2,FALSE),\"\")","v":""},{"$f":"IFERROR(VLOOKUP(CC16,'Master Template'!$B$73:$C$83,2,FALSE),\"\")","v":""},""]
[10,null,null,null,null,null,null,null,null,null,null,null,null,null,null,null,null,null,null,null,null,null,null,null,null,null,null,null,null,null,null,null,null,"",null,null,null,"Other",{"$f":"COUNTIFS($M$8:$M$36,'List Data'!A11,$Q$8:$Q$36,\"Yes\")","v":0},{"$f":"COUNTIFS($M$8:$M$36,'List Data'!A11,$R$8:$R$36,\"Yes\")","v":0},0,{"$f":"COUNTIFS($M$8:$M$36,'List Data'!A11,$N$8:$N$36,\"Yes\")","v":0},{"$f":"COUNTIFS($M$8:$M$36,'List Data'!A11,$N$8:$N$36,\"No\")","v":0},"",{"$f":"COUNTIFS($L$8:$L$37,\"Yes\",$M$8:$M$37,'List Data'!A11,$R$8:$R$37,\"Yes\")","v":0},{"$f":"COUNTIFS($L$8:$L$37,\"No\",$M$8:$M$37,'List Data'!A11,$R$8:$R$37,\"Yes\")","v":0},"",{"$f":"IFERROR(AVERAGEIF($M$8:$M$37,'List Data'!A11,$AH$8:$AH$37),\"\")","v":""},"","",null,null,null,null,null,null,null,null,null,null,null,null,null,null,null,null,null,null,null,null,null,null,null,null,null,null,{"$f":"'List Data'!B14","v":"007-1"},{"$f":"IFERROR(INDEX('Master Template'!$M$8:$M$37,SMALL(IF('Master Template'!$F$8:$F$37=$BY17,ROW('Master Template'!$F$8:$F$37)-7,\"\"),COLUMNS($BZ$4:BZ17))),\"\")","v":""},{"$f":"IFERROR(INDEX('Master Template'!$M$8:$M$37,SMALL(IF('Master Template'!$F$8:$F$37=$BY17,ROW('Master Template'!$F$8:$F$37)-7,\"\"),COLUMNS($BZ$4:CA17))),\"\")","v":""},{"$f":"IFERROR(INDEX('Master Template'!$M$8:$M$37,SMALL(IF('Master Template'!$F$8:$F$37=$BY17,ROW('Master Template'!$F$8:$F$37)-7,\"\"),COLUMNS($BZ$4:CB17))),\"\")","v":""},{"$f":"IFERROR(INDEX('Master Template'!$M$8:$M$37,SMALL(IF('Master Template'!$F$8:$F$37=$BY17,ROW('Master Template'!$F$8:$F$37)-7,\"\"),COLUMNS($BZ$4:CC17))),\"\")","v":""},{"$f":"IFERROR(VLOOKUP(BZ17,'Master Template'!$B$73:$C$83,2,FALSE),\"\")","v":""},{"$f":"IFERROR(VLOOKUP(CA17,'Master Template'!$B$73:$C$83,2,FALSE),\"\")","v":""},{"$f":"IFERROR(VLOOKUP(CB17,'Master Template'!$B$73:$C$83,2,FALSE),\"\")","v":""},{"$f":"IFERROR(VLOOKUP(CC17,'Master Template'!$B$73:$C$83,2,FALSE),\"\")","v":""},""]
[11,null,null,null,null,null,null,null,null,null,null,null,null,null,null,null,null,null,null,null,null,null,null,null,null,null,null,null,null,null,null,null,null,"",null,null,null,"Infection","Admitted With","Nosocomial","Total",null,null,null,null,null,null,null,"Infection Rate (%)","Rate per 1,000 Resident Days (%)",null,null,null,null,null,null,null,null,null,null,null,null,null,null,null,null,null,null,null,null,null,null,null,null,null,null,{"$f":"'List Data'!B15","v":"007-2"},{"$f":"IFERROR(INDEX('Master Template'!$M$8:$M$37,SMALL(IF('Master Template'!$F$8:$F$37=$BY18,ROW('Master Template'!$F$8:$F$37)-7,\"\"),COLUMNS($BZ$4:BZ18))),\"\")","v":""},{"$f":"IFERROR(INDEX('Master Template'!$M$8:$M$37,SMALL(IF('Master Template'!$F$8:$F$37=$BY18,ROW('Master Template'!$F$8:$F$37)-7,\"\"),COLUMNS($BZ$4:CA18))),\"\")","v":""},{"$f":"IFERROR(INDEX('Master Template'!$M$8:$M$37,SMALL(IF('Master Template'!$F$8:$F$37=$BY18,ROW('Master Template'!$F$8:$F$37)-7,\"\"),COLUMNS($BZ$4:CB18))),\"\")","v":""},{"$f":"IFERROR(INDEX('Master Template'!$M$8:$M$37,SMALL(IF('Master Template'!$F$8:$F$37=$BY18,ROW('Master Template'!$F$8:$F$37)-7,\"\"),COLUMNS($BZ$4:CC18))),\"\")","v":""},{"$f":"IFERROR(VLOOKUP(BZ18,'Master Template'!$B$73:$C$83,2,FALSE),\"\")","v":""},{"$f":"IFERROR(VLOOKUP(CA18,'Master Template'!$B$73:$C$83,2,FALSE),\"\")","v":""},{"$f":"IFERROR(VLOOKUP(CB18,'Master Template'!$B$73:$C$83,2,FALSE),\"\")","v":""},{"$f":"IFERROR(VLOOKUP(CC18,'Master Template'!$B$73:$C$83,2,FALSE),\"\")","v":""},""]
[12,null,null,null,null,null,null,null,null,null,null,null,null,null,null,null,null,null,null,null,null,null,null,null,null,null,null,null,null,null,null,null,null,"",null,null,null,"CDI",{"$f":"COUNTIFS($O$8:$O$36,\"Yes\",$Q$8:$Q$36,\"Yes\")","v":0},{"$f":"COUNTIFS($O$8:$O$36,\"yes\",$R$8:$R$36,\"yes\")","v":0},{"$f":"SUM(AM19:AN19)","v":0},null,null,null,null,null,null,null,{"$f":"IFERROR((AO19/$Q$5)*100,\"\")","v":""},{"$f":"IFERROR((AO19/W5)*1000,\"\")","v":""},null,null,null,null,null,null,null,null,null,null,null,null,null,null,null,null,null,null,null,null,null,null,null,null,null,null,{"$f":"'List Data'!B16","v":"008-1"},{"$f":"IFERROR(INDEX('Master Template'!$M$8:$M$37,SMALL(IF('Master Template'!$F$8:$F$37=$BY19,ROW('Master Template'!$F$8:$F$37)-7,\"\"),COLUMNS($BZ$4:BZ19))),\"\")","v":""},{"$f":"IFERROR(INDEX('Master Template'!$M$8:$M$37,SMALL(IF('Master Template'!$F$8:$F$37=$BY19,ROW('Master Template'!$F$8:$F$37)-7,\"\"),COLUMNS($BZ$4:CA19))),\"\")","v":""},{"$f":"IFERROR(INDEX('Master Template'!$M$8:$M$37,SMALL(IF('Master Template'!$F$8:$F$37=$BY19,ROW('Master Template'!$F$8:$F$37)-7,\"\"),COLUMNS($BZ$4:CB19))),\"\")","v":""},{"$f":"IFERROR(INDEX('Master Template'!$M$8:$M$37,SMALL(IF('Master Template'!$F$8:$F$37=$BY19,ROW('Master Template'!$F$8:$F$37)-7,\"\"),COLUMNS($BZ$4:CC19))),\"\")","v":""},{"$f":"IFERROR(VLOOKUP(BZ19,'Master Template'!$B$73:$C$83,2,FALSE),\"\")","v":""},{"$f":"IFERROR(VLOOKUP(CA19,'Master Template'!$B$73:$C$83,2,FALSE),\"\")","v":""},{"$f":"IFERROR(VLOOKUP(CB19,'Master Template'!$B$73:$C$83,2,FALSE),\"\")","v":""},{"$f":"IFERROR(VLOOKUP(CC19,'Master Template'!$B$73:$C$83,2,FALSE),\"\")","v":""},""]
[13,null,null,null,null,null,null,null,null,null,null,null,null,null,null,null,null,null,null,null,null,null,null,null,null,null,null,null,null,null,null,null,null,"",null,null,null,"MRSA",{"$f":"COUNTIFS($P$8:$P$36,\"Yes\",$Q$8:$Q$36,\"Yes\")","v":0},{"$f":"COUNTIFS($P$8:$P$36,\"yes\",$R$8:$R$36,\"yes\")","v":0},{"$f":"SUM(AM20:AN20)","v":0},null,null,null,null,null,null,null,{"$f":"IFERROR((AO20/$Q$5)*100,\"\")","v":""},{"$f":"IFERROR((AO20/W5)*1000,\"\")","v":""},null,null,null,null,null,null,null,null,null,null,null,null,null,null,null,null,null,null,null,null,null,null,null,null,null,null,{"$f":"'List Data'!B17","v":"008-2"},{"$f":"IFERROR(INDEX('Master Template'!$M$8:$M$37,SMALL(IF('Master Template'!$F$8:$F$37=$BY20,ROW('Master Template'!$F$8:$F$37)-7,\"\"),COLUMNS($BZ$4:BZ20))),\"\")","v":""},{"$f":"IFERROR(INDEX('Master Template'!$M$8:$M$37,SMALL(IF('Master Template'!$F$8:$F$37=$BY20,ROW('Master Template'!$F$8:$F$37)-7,\"\"),COLUMNS($BZ$4:CA20))),\"\")","v":""},{"$f":"IFERROR(INDEX('Master Template'!$M$8:$M$37,SMALL(IF('Master Template'!$F$8:$F$37=$BY20,ROW('Master Template'!$F$8:$F$37)-7,\"\"),COLUMNS($BZ$4:CB20))),\"\")","v":""},{"$f":"IFERROR(INDEX('Master Template'!$M$8:$M$37,SMALL(IF('Master Template'!$F$8:$F$37=$BY20,ROW('Master Template'!$F$8:$F$37)-7,\"\"),COLUMNS($BZ$4:CC20))),\"\")","v":""},{"$f":"IFERROR(VLOOKUP(BZ20,'Master Template'!$B$73:$C$83,2,FALSE),\"\")","v":""},{"$f":"IFERROR(VLOOKUP(CA20,'Master Template'!$B$73:$C$83,2,FALSE),\"\")","v":""},{"$f":"IFERROR(VLOOKUP(CB20,'Master Template'!$B$73:$C$83,2,FALSE),\"\")","v":""},{"$f":"IFERROR(VLOOKUP(CC20,'Master Template'!$B$73:$C$83,2,FALSE),\"\")","v":""},""]
[14,null,null,null,null,null,null,null,null,null,null,null,null,null,null,null,null,null,null,null,null,null,null,null,null,null,null,null,null,null,null,null,null,"",null,null,null,"Prescriber","McGeer's Met","McGeer's Not Met","Prescriber  % Rate of McGeer's","Continued ","Discontinued","Changed","Narrowed","Shortened","Total Number of De-escalations","Prescriber Average Length of Therapy (days)","Prescriber Average Length of Therapy, McGeer's Met (days)","Prescriber Average Length of Therapy, McGeer's Not Met (days)",null,null,null,null,null,null,null,null,null,null,null,null,null,null,null,null,null,null,null,null,null,null,null,null,null,null,{"$f":"'List Data'!B18","v":"009-1"},{"$f":"IFERROR(INDEX('Master Template'!$M$8:$M$37,SMALL(IF('Master Template'!$F$8:$F$37=$BY21,ROW('Master Template'!$F$8:$F$37)-7,\"\"),COLUMNS($BZ$4:BZ21))),\"\")","v":""},{"$f":"IFERROR(INDEX('Master Template'!$M$8:$M$37,SMALL(IF('Master Template'!$F$8:$F$37=$BY21,ROW('Master Template'!$F$8:$F$37)-7,\"\"),COLUMNS($BZ$4:CA21))),\"\")","v":""},{"$f":"IFERROR(INDEX('Master Template'!$M$8:$M$37,SMALL(IF('Master Template'!$F$8:$F$37=$BY21,ROW('Master Template'!$F$8:$F$37)-7,\"\"),COLUMNS($BZ$4:CB21))),\"\")","v":""},{"$f":"IFERROR(INDEX('Master Template'!$M$8:$M$37,SMALL(IF('Master Template'!$F$8:$F$37=$BY21,ROW('Master Template'!$F$8:$F$37)-7,\"\"),COLUMNS($BZ$4:CC21))),\"\")","v":""},{"$f":"IFERROR(VLOOKUP(BZ21,'Master Template'!$B$73:$C$83,2,FALSE),\"\")","v":""},{"$f":"IFERROR(VLOOKUP(CA21,'Master Template'!$B$73:$C$83,2,FALSE),\"\")","v":""},{"$f":"IFERROR(VLOOKUP(CB21,'Master Template'!$B$73:$C$83,2,FALSE),\"\")","v":""},{"$f":"IFERROR(VLOOKUP(CC21,'Master Template'!$B$73:$C$83,2,FALSE),\"\")","v":""},""]
[15,null,null,null,null,null,null,null,null,null,null,null,null,null,null,null,null,null,null,null,null,null,null,null,null,null,null,null,null,null,null,null,null,"",null,null,null,{"$f":"'List Data'!L2","v":"Dr1"},{"$f":"COUNTIFS($AE$8:$AE$37,'List Data'!L2,$N$8:$N$37,\"Yes\")","v":0},{"$f":"COUNTIFS($AE$8:$AE$37,'List Data'!L2,$N$8:$N$37,\"No\")","v":0},{"$f":"IFERROR(AM22/(AN22+AM22),\"\")","v":""},{"$f":"COUNTIFS($AE$7:$AE$37,'List Data'!L2,$AB$7:$AB$37,\"Continue\")","v":0},{"$f":"COUNTIFS($AE$7:$AE$37,'List Data'!L2,$AB$7:$AB$37,\"discontinue\")","v":0},{"$f":"COUNTIFS($AE$7:$AE$37,'List Data'!L2,$AB$7:$AB$37,\"change\")","v":0},{"$f":"COUNTIFS($AE$7:$AE$37,'List Data'!L2,$AB$7:$AB$37,\"narrow\")","v":0},{"$f":"COUNTIFS($AE$7:$AE$37,'List Data'!L2,$AB$7:$AB$37,\"shorten\")","v":0},{"$f":"SUM(AQ22:AT22)","v":0},{"$f":"IFERROR(AVERAGEIF($AE$7:$AE$37,'List Data'!L2,$AH$7:$AH$37),\"\")","v":""},{"$f":"IFERROR(AVERAGEIFS($AH$7:$AH$37,$AE$7:$AE$37,'List Data'!L2,$N$7:$N$37,\"Yes\"),\"\")","v":""},{"$f":"IFERROR(AVERAGEIFS($AH$7:$AH$37,$AE$7:$AE$37,'List Data'!L2,$N$7:$N$37,\"No\"),\"\")","v":""},null,null,null,null,null,null,null,null,null,null,null,null,null,null,null,null,null,null,null,null,null,null,null,null,null,null,{"$f":"'List Data'!B19","v":"009-2"},{"$f":"IFERROR(INDEX('Master Template'!$M$8:$M$37,SMALL(IF('Master Template'!$F$8:$F$37=$BY22,ROW('Master Template'!$F$8:$F$37)-7,\"\"),COLUMNS($BZ$4:BZ22))),\"\")","v":""},{"$f":"IFERROR(INDEX('Master Template'!$M$8:$M$37,SMALL(IF('Master Template'!$F$8:$F$37=$BY22,ROW('Master Template'!$F$8:$F$37)-7,\"\"),COLUMNS($BZ$4:CA22))),\"\")","v":""},{"$f":"IFERROR(INDEX('Master Template'!$M$8:$M$37,SMALL(IF('Master Template'!$F$8:$F$37=$BY22,ROW('Master Template'!$F$8:$F$37)-7,\"\"),COLUMNS($BZ$4:CB22))),\"\")","v":""},{"$f":"IFERROR(INDEX('Master Template'!$M$8:$M$37,SMALL(IF('Master Template'!$F$8:$F$37=$BY22,ROW('Master Template'!$F$8:$F$37)-7,\"\"),COLUMNS($BZ$4:CC22))),\"\")","v":""},{"$f":"IFERROR(VLOOKUP(BZ22,'Master Template'!$B$73:$C$83,2,FALSE),\"\")","v":""},{"$f":"IFERROR(VLOOKUP(CA22,'Master Template'!$B$73:$C$83,2,FALSE),\"\")","v":""},{"$f":"IFERROR(VLOOKUP(CB22,'Master Template'!$B$73:$C$83,2,FALSE),\"\")","v":""},{"$f":"IFERROR(VLOOKUP(CC22,'Master Template'!$B$73:$C$83,2,FALSE),\"\")","v":""},""]
[16,null,null,null,null,null,null,null,null,null,null,null,null,null,null,null,null,null,null,null,null,null,null,null,null,null,null,null,null,null,null,null,null,"",null,null,null,{"$f":"'List Data'!L3","v":"Dr2"},{"$f":"COUNTIFS($AE$8:$AE$37,'List Data'!L3,$N$8:$N$37,\"Yes\")","v":0},{"$f":"COUNTIFS($AE$8:$AE$37,'List Data'!L3,$N$8:$N$37,\"No\")","v":0},{"$f":"IFERROR(AM23/(AN23+AM23),\"\")","v":""},{"$f":"COUNTIFS($AE$7:$AE$37,'List Data'!L3,$AB$7:$AB$37,\"Continue\")","v":0},{"$f":"COUNTIFS($AE$7:$AE$37,'List Data'!L3,$AB$7:$AB$37,\"discontinue\")","v":0},{"$f":"COUNTIFS($AE$7:$AE$37,'List Data'!L3,$AB$7:$AB$37,\"change\")","v":0},{"$f":"COUNTIFS($AE$7:$AE$37,'List Data'!L3,$AB$7:$AB$37,\"narrow\")","v":0},{"$f":"COUNTIFS($AE$7:$AE$37,'List Data'!L3,$AB$7:$AB$37,\"shorten\")","v":0},{"$f":"SUM(AQ23:AT23)","v":0},{"$f":"IFERROR(AVERAGEIF($AE$7:$AE$37,'List Data'!L3,$AH$7:$AH$37),\"\")","v":""},{"$f":"IFERROR(AVERAGEIFS($AH$7:$AH$37,$AE$7:$AE$37,'List Data'!L3,$N$7:$N$37,\"Yes\"),\"\")","v":""},{"$f":"IFERROR(AVERAGEIFS($AH$7:$AH$37,$AE$7:$AE$37,'List Data'!L3,$N$7:$N$37,\"No\"),\"\")","v":""},null,null,null,null,null,null,null,null,null,null,null,null,null,null,null,null,null,null,null,null,null,null,null,null,null,null,{"$f":"'List Data'!B20","v":"010-1"},{"$f":"IFERROR(INDEX('Master Template'!$M$8:$M$37,SMALL(IF('Master Template'!$F$8:$F$37=$BY23,ROW('Master Template'!$F$8:$F$37)-7,\"\"),COLUMNS($BZ$4:BZ23))),\"\")","v":""},{"$f":"IFERROR(INDEX('Master Template'!$M$8:$M$37,SMALL(IF('Master Template'!$F$8:$F$37=$BY23,ROW('Master Template'!$F$8:$F$37)-7,\"\"),COLUMNS($BZ$4:CA23))),\"\")","v":""},{"$f":"IFERROR(INDEX('Master Template'!$M$8:$M$37,SMALL(IF('Master Template'!$F$8:$F$37=$BY23,ROW('Master Template'!$F$8:$F$37)-7,\"\"),COLUMNS($BZ$4:CB23))),\"\")","v":""},{"$f":"IFERROR(INDEX('Master Template'!$M$8:$M$37,SMALL(IF('Master Template'!$F$8:$F$37=$BY23,ROW('Master Template'!$F$8:$F$37)-7,\"\"),COLUMNS($BZ$4:CC23))),\"\")","v":""},{"$f":"IFERROR(VLOOKUP(BZ23,'Master Template'!$B$73:$C$83,2,FALSE),\"\")","v":""},{"$f":"IFERROR(VLOOKUP(CA23,'Master Template'!$B$73:$C$83,2,FALSE),\"\")","v":""},{"$f":"IFERROR(VLOOKUP(CB23,'Master Template'!$B$73:$C$83,2,FALSE),\"\")","v":""},{"$f":"IFERROR(VLOOKUP(CC23,'Master Template'!$B$73:$C$83,2,FALSE),\"\")","v":""},""]
[17,null,null,null,null,null,null,null,null,null,null,null,null,null,null,null,null,null,null,null,null,null,null,null,null,null,null,null,null,null,null,null,null,"",null,null,null,{"$f":"'List Data'!L4","v":"Dr3"},{"$f":"COUNTIFS($AE$8:$AE$37,'List Data'!L4,$N$8:$N$37,\"Yes\")","v":0},{"$f":"COUNTIFS($AE$8:$AE$37,'List Data'!L4,$N$8:$N$37,\"No\")","v":0},"",{"$f":"COUNTIFS($AE$7:$AE$37,'List Data'!L4,$AB$7:$AB$37,\"Continue\")","v":0},{"$f":"COUNTIFS($AE$7:$AE$37,'List Data'!L4,$AB$7:$AB$37,\"discontinue\")","v":0},{"$f":"COUNTIFS($AE$7:$AE$37,'List Data'!L4,$AB$7:$AB$37,\"change\")","v":0},{"$f":"COUNTIFS($AE$7:$AE$37,'List Data'!L4,$AB$7:$AB$37,\"narrow\")","v":0},{"$f":"COUNTIFS($AE$7:$AE$37,'List Data'!L4,$AB$7:$AB$37,\"shorten\")","v":0},0,{"$f":"IFERROR(AVERAGEIF($AE$7:$AE$37,'List Data'!L4,$AH$7:$AH$37),\"\")","v":""},{"$f":"IFERROR(AVERAGEIFS($AH$7:$AH$37,$AE$7:$AE$37,'List Data'!L4,$N$7:$N$37,\"Yes\"),\"\")","v":""},{"$f":"IFERROR(AVERAGEIFS($AH$7:$AH$37,$AE$7:$AE$37,'List Data'!L4,$N$7:$N$37,\"No\"),\"\")","v":""},null,null,null,null,null,null,null,null,null,null,null,null,null,null,null,null,null,null,null,null,null,null,null,null,null,null,{"$f":"'List Data'!B21","v":"010-2"},{"$f":"IFERROR(INDEX('Master Template'!$M$8:$M$37,SMALL(IF('Master Template'!$F$8:$F$37=$BY24,ROW('Master Template'!$F$8:$F$37)-7,\"\"),COLUMNS($BZ$4:BZ24))),\"\")","v":""},{"$f":"IFERROR(INDEX('Master Template'!$M$8:$M$37,SMALL(IF('Master Template'!$F$8:$F$37=$BY24,ROW('Master Template'!$F$8:$F$37)-7,\"\"),COLUMNS($BZ$4:CA24))),\"\")","v":""},{"$f":"IFERROR(INDEX('Master Template'!$M$8:$M$37,SMALL(IF('Master Template'!$F$8:$F$37=$BY24,ROW('Master Template'!$F$8:$F$37)-7,\"\"),COLUMNS($BZ$4:CB24))),\"\")","v":""},{"$f":"IFERROR(INDEX('Master Template'!$M$8:$M$37,SMALL(IF('Master Template'!$F$8:$F$37=$BY24,ROW('Master Template'!$F$8:$F$37)-7,\"\"),COLUMNS($BZ$4:CC24))),\"\")","v":""},{"$f":"IFERROR(VLOOKUP(BZ24,'Master Template'!$B$73:$C$83,2,FALSE),\"\")","v":""},{"$f":"IFERROR(VLOOKUP(CA24,'Master Template'!$B$73:$C$83,2,FALSE),\"\")","v":""},{"$f":"IFERROR(VLOOKUP(CB24,'Master Template'!$B$73:$C$83,2,FALSE),\"\")","v":""},{"$f":"IFERROR(VLOOKUP(CC24,'Master Template'!$B$73:$C$83,2,FALSE),\"\")","v":""},""]
[18,null,null,null,null,null,null,null,null,null,null,null,null,null,null,null,null,null,null,null,null,null,null,null,null,null,null,null,null,null,null,null,null,"",null,null,null,{"$f":"'List Data'!L5","v":"Dr4"},{"$f":"COUNTIFS($AE$8:$AE$37,'List Data'!L5,$N$8:$N$37,\"Yes\")","v":0},{"$f":"COUNTIFS($AE$8:$AE$37,'List Data'!L5,$N$8:$N$37,\"No\")","v":0},"",{"$f":"COUNTIFS($AE$7:$AE$37,'List Data'!L5,$AB$7:$AB$37,\"Continue\")","v":0},{"$f":"COUNTIFS($AE$7:$AE$37,'List Data'!L5,$AB$7:$AB$37,\"discontinue\")","v":0},{"$f":"COUNTIFS($AE$7:$AE$37,'List Data'!L5,$AB$7:$AB$37,\"change\")","v":0},{"$f":"COUNTIFS($AE$7:$AE$37,'List Data'!L5,$AB$7:$AB$37,\"narrow\")","v":0},{"$f":"COUNTIFS($AE$7:$AE$37,'List Data'!L5,$AB$7:$AB$37,\"shorten\")","v":0},0,{"$f":"IFERROR(AVERAGEIF($AE$7:$AE$37,'List Data'!L5,$AH$7:$AH$37),\"\")","v":""},{"$f":"IFERROR(AVERAGEIFS($AH$7:$AH$37,$AE$7:$AE$37,'List Data'!L5,$N$7:$N$37,\"Yes\"),\"\")","v":""},{"$f":"IFERROR(AVERAGEIFS($AH$7:$AH$37,$AE$7:$AE$37,'List Data'!L5,$N$7:$N$37,\"No\"),\"\")","v":""},null,null,null,null,null,null,null,null,null,null,null,null,null,null,null,null,null,null,null,null,null,null,null,null,null,null,{"$f":"'List Data'!B22","v":"011-1"},{"$f":"IFERROR(INDEX('Master Template'!$M$8:$M$37,SMALL(IF('Master Template'!$F$8:$F$37=$BY25,ROW('Master Template'!$F$8:$F$37)-7,\"\"),COLUMNS($BZ$4:BZ25))),\"\")","v":""},{"$f":"IFERROR(INDEX('Master Template'!$M$8:$M$37,SMALL(IF('Master Template'!$F$8:$F$37=$BY25,ROW('Master Template'!$F$8:$F$37)-7,\"\"),COLUMNS($BZ$4:CA25))),\"\")","v":""},{"$f":"IFERROR(INDEX('Master Template'!$M$8:$M$37,SMALL(IF('Master Template'!$F$8:$F$37=$BY25,ROW('Master Template'!$F$8:$F$37)-7,\"\"),COLUMNS($BZ$4:CB25))),\"\")","v":""},{"$f":"IFERROR(INDEX('Master Template'!$M$8:$M$37,SMALL(IF('Master Template'!$F$8:$F$37=$BY25,ROW('Master Template'!$F$8:$F$37)-7,\"\"),COLUMNS($BZ$4:CC25))),\"\")","v":""},{"$f":"IFERROR(VLOOKUP(BZ25,'Master Template'!$B$73:$C$83,2,FALSE),\"\")","v":""},{"$f":"IFERROR(VLOOKUP(CA25,'Master Template'!$B$73:$C$83,2,FALSE),\"\")","v":""},{"$f":"IFERROR(VLOOKUP(CB25,'Master Template'!$B$73:$C$83,2,FALSE),\"\")","v":""},{"$f":"IFERROR(VLOOKUP(CC25,'Master Template'!$B$73:$C$83,2,FALSE),\"\")","v":""},""]
[19,null,null,null,null,null,null,null,null,null,null,null,null,null,null,null,null,null,null,null,null,null,null,null,null,null,null,null,null,null,null,null,null,"",null,null,null,{"$f":"'List Data'!L6","v":"Dr5"},{"$f":"COUNTIFS($AE$8:$AE$37,'List Data'!L6,$N$8:$N$37,\"Yes\")","v":0},{"$f":"COUNTIFS($AE$8:$AE$37,'List Data'!L6,$N$8:$N$37,\"No\")","v":0},"",{"$f":"COUNTIFS($AE$7:$AE$37,'List Data'!L6,$AB$7:$AB$37,\"Continue\")","v":0},{"$f":"COUNTIFS($AE$7:$AE$37,'List Data'!L6,$AB$7:$AB$37,\"discontinue\")","v":0},{"$f":"COUNTIFS($AE$7:$AE$37,'List Data'!L6,$AB$7:$AB$37,\"change\")","v":0},{"$f":"COUNTIFS($AE$7:$AE$37,'List Data'!L6,$AB$7:$AB$37,\"narrow\")","v":0},{"$f":"COUNTIFS($AE$7:$AE$37,'List Data'!L6,$AB$7:$AB$37,\"shorten\")","v":0},0,{"$f":"IFERROR(AVERAGEIF($AE$7:$AE$37,'List Data'!L6,$AH$7:$AH$37),\"\")","v":""},{"$f":"IFERROR(AVERAGEIFS($AH$7:$AH$37,$AE$7:$AE$37,'List Data'!L6,$N$7:$N$37,\"Yes\"),\"\")","v":""},{"$f":"IFERROR(AVERAGEIFS($AH$7:$AH$37,$AE$7:$AE$37,'List Data'!L6,$N$7:$N$37,\"No\"),\"\")","v":""},null,null,null,null,null,null,null,null,null,null,null,null,null,null,null,null,null,null,null,null,null,null,null,null,null,null,{"$f":"'List Data'!B23","v":"011-2"},{"$f":"IFERROR(INDEX('Master Template'!$M$8:$M$37,SMALL(IF('Master Template'!$F$8:$F$37=$BY26,ROW('Master Template'!$F$8:$F$37)-7,\"\"),COLUMNS($BZ$4:BZ26))),\"\")","v":""},{"$f":"IFERROR(INDEX('Master Template'!$M$8:$M$37,SMALL(IF('Master Template'!$F$8:$F$37=$BY26,ROW('Master Template'!$F$8:$F$37)-7,\"\"),COLUMNS($BZ$4:CA26))),\"\")","v":""},{"$f":"IFERROR(INDEX('Master Template'!$M$8:$M$37,SMALL(IF('Master Template'!$F$8:$F$37=$BY26,ROW('Master Template'!$F$8:$F$37)-7,\"\"),COLUMNS($BZ$4:CB26))),\"\")","v":""},{"$f":"IFERROR(INDEX('Master Template'!$M$8:$M$37,SMALL(IF('Master Template'!$F$8:$F$37=$BY26,ROW('Master Template'!$F$8:$F$37)-7,\"\"),COLUMNS($BZ$4:CC26))),\"\")","v":""},{"$f":"IFERROR(VLOOKUP(BZ26,'Master Template'!$B$73:$C$83,2,FALSE),\"\")","v":""},{"$f":"IFERROR(VLOOKUP(CA26,'Master Template'!$B$73:$C$83,2,FALSE),\"\")","v":""},{"$f":"IFERROR(VLOOKUP(CB26,'Master Template'!$B$73:$C$83,2,FALSE),\"\")","v":""},{"$f":"IFERROR(VLOOKUP(CC26,'Master Template'!$B$73:$C$83,2,FALSE),\"\")","v":""},""]
[20,null,null,null,null,null,null,null,null,null,null,null,null,null,null,null,null,null,null,null,null,null,null,null,null,null,null,null,null,null,null,null,null,"",null,null,null,{"$f":"'List Data'!L7","v":"Dr6"},{"$f":"COUNTIFS($AE$8:$AE$37,'List Data'!L7,$N$8:$N$37,\"Yes\")","v":0},{"$f":"COUNTIFS($AE$8:$AE$37,'List Data'!L7,$N$8:$N$37,\"No\")","v":0},"",{"$f":"COUNTIFS($AE$7:$AE$37,'List Data'!L7,$AB$7:$AB$37,\"Continue\")","v":0},{"$f":"COUNTIFS($AE$7:$AE$37,'List Data'!L7,$AB$7:$AB$37,\"discontinue\")","v":0},{"$f":"COUNTIFS($AE$7:$AE$37,'List Data'!L7,$AB$7:$AB$37,\"change\")","v":0},{"$f":"COUNTIFS($AE$7:$AE$37,'List Data'!L7,$AB$7:$AB$37,\"narrow\")","v":0},{"$f":"COUNTIFS($AE$7:$AE$37,'List Data'!L7,$AB$7:$AB$37,\"shorten\")","v":0},0,{"$f":"IFERROR(AVERAGEIF($AE$7:$AE$37,'List Data'!L7,$AH$7:$AH$37),\"\")","v":""},{"$f":"IFERROR(AVERAGEIFS($AH$7:$AH$37,$AE$7:$AE$37,'List Data'!L7,$N$7:$N$37,\"Yes\"),\"\")","v":""},{"$f":"IFERROR(AVERAGEIFS($AH$7:$AH$37,$AE$7:$AE$37,'List Data'!L7,$N$7:$N$37,\"No\"),\"\")","v":""},null,null,null,null,null,null,null,null,null,null,null,null,null,null,null,null,null,null,null,null,null,null,null,null,null,null,{"$f":"'List Data'!B24","v":"012-1"},{"$f":"IFERROR(INDEX('Master Template'!$M$8:$M$37,SMALL(IF('Master Template'!$F$8:$F$37=$BY27,ROW('Master Template'!$F$8:$F$37)-7,\"\"),COLUMNS($BZ$4:BZ27))),\"\")","v":""},{"$f":"IFERROR(INDEX('Master Template'!$M$8:$M$37,SMALL(IF('Master Template'!$F$8:$F$37=$BY27,ROW('Master Template'!$F$8:$F$37)-7,\"\"),COLUMNS($BZ$4:CA27))),\"\")","v":""},{"$f":"IFERROR(INDEX('Master Template'!$M$8:$M$37,SMALL(IF('Master Template'!$F$8:$F$37=$BY27,ROW('Master Template'!$F$8:$F$37)-7,\"\"),COLUMNS($BZ$4:CB27))),\"\")","v":""},{"$f":"IFERROR(INDEX('Master Template'!$M$8:$M$37,SMALL(IF('Master Template'!$F$8:$F$37=$BY27,ROW('Master Template'!$F$8:$F$37)-7,\"\"),COLUMNS($BZ$4:CC27))),\"\")","v":""},{"$f":"IFERROR(VLOOKUP(BZ27,'Master Template'!$B$73:$C$83,2,FALSE),\"\")","v":""},{"$f":"IFERROR(VLOOKUP(CA27,'Master Template'!$B$73:$C$83,2,FALSE),\"\")","v":""},{"$f":"IFERROR(VLOOKUP(CB27,'Master Template'!$B$73:$C$83,2,FALSE),\"\")","v":""},{"$f":"IFERROR(VLOOKUP(CC27,'Master Template'!$B$73:$C$83,2,FALSE),\"\")","v":""},""]
[21,null,null,null,null,null,null,null,null,null,null,null,null,null,null,null,null,null,null,null,null,null,null,null,null,null,null,null,null,null,null,null,null,"",null,null,null,{"$f":"'List Data'!L8","v":"Dr7"},{"$f":"COUNTIFS($AE$8:$AE$37,'List Data'!L8,$N$8:$N$37,\"Yes\")","v":0},{"$f":"COUNTIFS($AE$8:$AE$37,'List Data'!L8,$N$8:$N$37,\"No\")","v":0},"",{"$f":"COUNTIFS($AE$7:$AE$37,'List Data'!L8,$AB$7:$AB$37,\"Continue\")","v":0},{"$f":"COUNTIFS($AE$7:$AE$37,'List Data'!L8,$AB$7:$AB$37,\"discontinue\")","v":0},{"$f":"COUNTIFS($AE$7:$AE$37,'List Data'!L8,$AB$7:$AB$37,\"change\")","v":0},{"$f":"COUNTIFS($AE$7:$AE$37,'List Data'!L8,$AB$7:$AB$37,\"narrow\")","v":0},{"$f":"COUNTIFS($AE$7:$AE$37,'List Data'!L8,$AB$7:$AB$37,\"shorten\")","v":0},0,{"$f":"IFERROR(AVERAGEIF($AE$7:$AE$37,'List Data'!L8,$AH$7:$AH$37),\"\")","v":""},{"$f":"IFERROR(AVERAGEIFS($AH$7:$AH$37,$AE$7:$AE$37,'List Data'!L8,$N$7:$N$37,\"Yes\"),\"\")","v":""},{"$f":"IFERROR(AVERAGEIFS($AH$7:$AH$37,$AE$7:$AE$37,'List Data'!L8,$N$7:$N$37,\"No\"),\"\")","v":""},null,null,null,null,null,null,null,null,null,null,null,null,null,null,null,null,null,null,null,null,null,null,null,null,null,null,{"$f":"'List Data'!B25","v":"012-2"},{"$f":"IFERROR(INDEX('Master Template'!$M$8:$M$37,SMALL(IF('Master Template'!$F$8:$F$37=$BY28,ROW('Master Template'!$F$8:$F$37)-7,\"\"),COLUMNS($BZ$4:BZ28))),\"\")","v":""},{"$f":"IFERROR(INDEX('Master Template'!$M$8:$M$37,SMALL(IF('Master Template'!$F$8:$F$37=$BY28,ROW('Master Template'!$F$8:$F$37)-7,\"\"),COLUMNS($BZ$4:CA28))),\"\")","v":""},{"$f":"IFERROR(INDEX('Master Template'!$M$8:$M$37,SMALL(IF('Master Template'!$F$8:$F$37=$BY28,ROW('Master Template'!$F$8:$F$37)-7,\"\"),COLUMNS($BZ$4:CB28))),\"\")","v":""},{"$f":"IFERROR(INDEX('Master Template'!$M$8:$M$37,SMALL(IF('Master Template'!$F$8:$F$37=$BY28,ROW('Master Template'!$F$8:$F$37)-7,\"\"),COLUMNS($BZ$4:CC28))),\"\")","v":""},{"$f":"IFERROR(VLOOKUP(BZ28,'Master Template'!$B$73:$C$83,2,FALSE),\"\")","v":""},{"$f":"IFERROR(VLOOKUP(CA28,'Master Template'!$B$73:$C$83,2,FALSE),\"\")","v":""},{"$f":"IFERROR(VLOOKUP(CB28,'Master Template'!$B$73:$C$83,2,FALSE),\"\")","v":""},{"$f":"IFERROR(VLOOKUP(CC28,'Master Template'!$B$73:$C$83,2,FALSE),\"\")","v":""},""]
[22,null,null,null,null,null,null,null,null,null,null,null,null,null,null,null,null,null,null,null,null,null,null,null,null,null,null,null,null,null,null,null,null,"",null,null,null,{"$f":"'List Data'!L9","v":"Dr8"},{"$f":"COUNTIFS($AE$8:$AE$37,'List Data'!L9,$N$8:$N$37,\"Yes\")","v":0},{"$f":"COUNTIFS($AE$8:$AE$37,'List Data'!L9,$N$8:$N$37,\"No\")","v":0},"",{"$f":"COUNTIFS($AE$7:$AE$37,'List Data'!L9,$AB$7:$AB$37,\"Continue\")","v":0},{"$f":"COUNTIFS($AE$7:$AE$37,'List Data'!L9,$AB$7:$AB$37,\"discontinue\")","v":0},{"$f":"COUNTIFS($AE$7:$AE$37,'List Data'!L9,$AB$7:$AB$37,\"change\")","v":0},{"$f":"COUNTIFS($AE$7:$AE$37,'List Data'!L9,$AB$7:$AB$37,\"narrow\")","v":0},{"$f":"COUNTIFS($AE$7:$AE$37,'List Data'!L9,$AB$7:$AB$37,\"shorten\")","v":0},{"$f":"SUM(AQ29:AT29)","v":0},{"$f":"IFERROR(AVERAGEIF($AE$7:$AE$37,'List Data'!L9,$AH$7:$AH$37),\"\")","v":""},{"$f":"IFERROR(AVERAGEIFS($AH$7:$AH$37,$AE$7:$AE$37,'List Data'!L9,$N$7:$N$37,\"Yes\"),\"\")","v":""},{"$f":"IFERROR(AVERAGEIFS($AH$7:$AH$37,$AE$7:$AE$37,'List Data'!L9,$N$7:$N$37,\"No\"),\"\")","v":""},null,null,null,null,null,null,null,null,null,null,null,null,null,null,null,null,null,null,null,null,null,null,null,null,null,null,{"$f":"'List Data'!B26","v":"013-1"},{"$f":"IFERROR(INDEX('Master Template'!$M$8:$M$37,SMALL(IF('Master Template'!$F$8:$F$37=$BY29,ROW('Master Template'!$F$8:$F$37)-7,\"\"),COLUMNS($BZ$4:BZ29))),\"\")","v":""},{"$f":"IFERROR(INDEX('Master Template'!$M$8:$M$37,SMALL(IF('Master Template'!$F$8:$F$37=$BY29,ROW('Master Template'!$F$8:$F$37)-7,\"\"),COLUMNS($BZ$4:CA29))),\"\")","v":""},{"$f":"IFERROR(INDEX('Master Template'!$M$8:$M$37,SMALL(IF('Master Template'!$F$8:$F$37=$BY29,ROW('Master Template'!$F$8:$F$37)-7,\"\"),COLUMNS($BZ$4:CB29))),\"\")","v":""},{"$f":"IFERROR(INDEX('Master Template'!$M$8:$M$37,SMALL(IF('Master Template'!$F$8:$F$37=$BY29,ROW('Master Template'!$F$8:$F$37)-7,\"\"),COLUMNS($BZ$4:CC29))),\"\")","v":""},{"$f":"IFERROR(VLOOKUP(BZ29,'Master Template'!$B$73:$C$83,2,FALSE),\"\")","v":""},{"$f":"IFERROR(VLOOKUP(CA29,'Master Template'!$B$73:$C$83,2,FALSE),\"\")","v":""},{"$f":"IFERROR(VLOOKUP(CB29,'Master Template'!$B$73:$C$83,2,FALSE),\"\")","v":""},{"$f":"IFERROR(VLOOKUP(CC29,'Master Template'!$B$73:$C$83,2,FALSE),\"\")","v":""},""]
[23,null,null,null,null,null,null,null,null,null,null,null,null,null,null,null,null,null,null,null,null,null,null,null,null,null,null,null,null,null,null,null,null,"",null,null,null,"Facility Total",{"$f":"SUM(AM22:AM28)","v":0},{"$f":"SUM(AN22:AN28)","v":0},null,{"$f":"SUM(AP22:AP28)","v":0},0,0,0,0,0,null,null,null,null,null,null,null,null,null,null,null,null,null,null,null,null,null,null,null,null,null,null,null,null,null,null,null,null,null,{"$f":"'List Data'!B27","v":"013-2"},{"$f":"IFERROR(INDEX('Master Template'!$M$8:$M$37,SMALL(IF('Master Template'!$F$8:$F$37=$BY30,ROW('Master Template'!$F$8:$F$37)-7,\"\"),COLUMNS($BZ$4:BZ30))),\"\")","v":""},{"$f":"IFERROR(INDEX('Master Template'!$M$8:$M$37,SMALL(IF('Master Template'!$F$8:$F$37=$BY30,ROW('Master Template'!$F$8:$F$37)-7,\"\"),COLUMNS($BZ$4:CA30))),\"\")","v":""},{"$f":"IFERROR(INDEX('Master Template'!$M$8:$M$37,SMALL(IF('Master Template'!$F$8:$F$37=$BY30,ROW('Master Template'!$F$8:$F$37)-7,\"\"),COLUMNS($BZ$4:CB30))),\"\")","v":""},{"$f":"IFERROR(INDEX('Master Template'!$M$8:$M$37,SMALL(IF('Master Template'!$F$8:$F$37=$BY30,ROW('Master Template'!$F$8:$F$37)-7,\"\"),COLUMNS($BZ$4:CC30))),\"\")","v":""},{"$f":"IFERROR(VLOOKUP(BZ30,'Master Template'!$B$73:$C$83,2,FALSE),\"\")","v":""},{"$f":"IFERROR(VLOOKUP(CA30,'Master Template'!$B$73:$C$83,2,FALSE),\"\")","v":""},{"$f":"IFERROR(VLOOKUP(CB30,'Master Template'!$B$73:$C$83,2,FALSE),\"\")","v":""},{"$f":"IFERROR(VLOOKUP(CC30,'Master Template'!$B$73:$C$83,2,FALSE),\"\")","v":""},""]
[24,null,null,null,null,null,null,null,null,null,null,null,null,null,null,null,null,null,null,null,null,null,null,null,null,null,null,null,null,null,null,null,null,"",null,null,null,"Facility Average",null,null,{"$f":"IFERROR(SUM(AM22:AM28)/SUM(AM22:AN28),\"\")","v":""},{"$f":"AVERAGE(AP22:AP28)","v":0},0,0,0,0,0,{"$f":"IFERROR(SUM($AH$8:$AH$37)/SUM(AO8:AO17),\"\")","v":""},{"$f":"IFERROR(AVERAGEIF(N8:N37,\"=yes\",AH8:AH37),\"\")","v":""},{"$f":"IFERROR(AVERAGEIF(N8:N37,\"=NO\",AH8:AH37),\"\")","v":""},null,null,null,null,null,null,null,null,null,null,null,null,null,null,null,null,null,null,null,null,null,null,null,null,null,null,{"$f":"'List Data'!B28","v":"014-1"},{"$f":"IFERROR(INDEX('Master Template'!$M$8:$M$37,SMALL(IF('Master Template'!$F$8:$F$37=$BY31,ROW('Master Template'!$F$8:$F$37)-7,\"\"),COLUMNS($BZ$4:BZ31))),\"\")","v":""},{"$f":"IFERROR(INDEX('Master Template'!$M$8:$M$37,SMALL(IF('Master Template'!$F$8:$F$37=$BY31,ROW('Master Template'!$F$8:$F$37)-7,\"\"),COLUMNS($BZ$4:CA31))),\"\")","v":""},{"$f":"IFERROR(INDEX('Master Template'!$M$8:$M$37,SMALL(IF('Master Template'!$F$8:$F$37=$BY31,ROW('Master Template'!$F$8:$F$37)-7,\"\"),COLUMNS($BZ$4:CB31))),\"\")","v":""},{"$f":"IFERROR(INDEX('Master Template'!$M$8:$M$37,SMALL(IF('Master Template'!$F$8:$F$37=$BY31,ROW('Master Template'!$F$8:$F$37)-7,\"\"),COLUMNS($BZ$4:CC31))),\"\")","v":""},{"$f":"IFERROR(VLOOKUP(BZ31,'Master Template'!$B$73:$C$83,2,FALSE),\"\")","v":""},{"$f":"IFERROR(VLOOKUP(CA31,'Master Template'!$B$73:$C$83,2,FALSE),\"\")","v":""},{"$f":"IFERROR(VLOOKUP(CB31,'Master Template'!$B$73:$C$83,2,FALSE),\"\")","v":""},{"$f":"IFERROR(VLOOKUP(CC31,'Master Template'!$B$73:$C$83,2,FALSE),\"\")","v":""},""]
[25,null,null,null,null,null,null,null,null,null,null,null,null,null,null,null,null,null,null,null,null,null,null,null,null,null,null,null,null,null,null,null,null,"",null,null,null,"-(Rate (%) calculated by # of each infection per month divided by average resident census of month x 100  =rate (%)\n-(Rate per 1,000 Resident Days (%) calculated by # of each infections per month divided by total resident days in month with the product multiplied by 1,000 = rate(%))\n-Outbreaks are triggered when 2 or more infections are identified and the infections are clustered in one neighborhood/hallway/unit",null,null,null,null,null,null,null,null,null,null,null,null,null,null,null,null,null,null,null,null,null,null,null,null,null,null,null,null,null,null,null,null,null,null,null,null,null,null,{"$f":"'List Data'!B29","v":"014-2"},{"$f":"IFERROR(INDEX('Master Template'!$M$8:$M$37,SMALL(IF('Master Template'!$F$8:$F$37=$BY32,ROW('Master Template'!$F$8:$F$37)-7,\"\"),COLUMNS($BZ$4:BZ32))),\"\")","v":""},{"$f":"IFERROR(INDEX('Master Template'!$M$8:$M$37,SMALL(IF('Master Template'!$F$8:$F$37=$BY32,ROW('Master Template'!$F$8:$F$37)-7,\"\"),COLUMNS($BZ$4:CA32))),\"\")","v":""},{"$f":"IFERROR(INDEX('Master Template'!$M$8:$M$37,SMALL(IF('Master Template'!$F$8:$F$37=$BY32,ROW('Master Template'!$F$8:$F$37)-7,\"\"),COLUMNS($BZ$4:CB32))),\"\")","v":""},{"$f":"IFERROR(INDEX('Master Template'!$M$8:$M$37,SMALL(IF('Master Template'!$F$8:$F$37=$BY32,ROW('Master Template'!$F$8:$F$37)-7,\"\"),COLUMNS($BZ$4:CC32))),\"\")","v":""},{"$f":"IFERROR(VLOOKUP(BZ32,'Master Template'!$B$73:$C$83,2,FALSE),\"\")","v":""},{"$f":"IFERROR(VLOOKUP(CA32,'Master Template'!$B$73:$C$83,2,FALSE),\"\")","v":""},{"$f":"IFERROR(VLOOKUP(CB32,'Master Template'!$B$73:$C$83,2,FALSE),\"\")","v":""},{"$f":"IFERROR(VLOOKUP(CC32,'Master Template'!$B$73:$C$83,2,FALSE),\"\")","v":""},""]
[26,null,null,null,null,null,null,null,null,null,null,null,null,null,null,null,null,null,null,null,null,null,null,null,null,null,null,null,null,null,null,null,null,"",null,null,null,null,null,null,null,null,null,null,null,null,null,null,null,null,null,null,null,null,null,null,null,null,null,null,null,null,null,null,null,null,null,null,null,null,null,null,null,null,null,null,{"$f":"'List Data'!B30","v":"015-1"},{"$f":"IFERROR(INDEX('Master Template'!$M$8:$M$37,SMALL(IF('Master Template'!$F$8:$F$37=$BY33,ROW('Master Template'!$F$8:$F$37)-7,\"\"),COLUMNS($BZ$4:BZ33))),\"\")","v":""},{"$f":"IFERROR(INDEX('Master Template'!$M$8:$M$37,SMALL(IF('Master Template'!$F$8:$F$37=$BY33,ROW('Master Template'!$F$8:$F$37)-7,\"\"),COLUMNS($BZ$4:CA33))),\"\")","v":""},{"$f":"IFERROR(INDEX('Master Template'!$M$8:$M$37,SMALL(IF('Master Template'!$F$8:$F$37=$BY33,ROW('Master Template'!$F$8:$F$37)-7,\"\"),COLUMNS($BZ$4:CB33))),\"\")","v":""},{"$f":"IFERROR(INDEX('Master Template'!$M$8:$M$37,SMALL(IF('Master Template'!$F$8:$F$37=$BY33,ROW('Master Template'!$F$8:$F$37)-7,\"\"),COLUMNS($BZ$4:CC33))),\"\")","v":""},{"$f":"IFERROR(VLOOKUP(BZ33,'Master Template'!$B$73:$C$83,2,FALSE),\"\")","v":""},{"$f":"IFERROR(VLOOKUP(CA33,'Master Template'!$B$73:$C$83,2,FALSE),\"\")","v":""},{"$f":"IFERROR(VLOOKUP(CB33,'Master Template'!$B$73:$C$83,2,FALSE),\"\")","v":""},{"$f":"IFERROR(VLOOKUP(CC33,'Master Template'!$B$73:$C$83,2,FALSE),\"\")","v":""},""]
[27,null,null,null,null,null,null,null,null,null,null,null,null,null,null,null,null,null,null,null,null,null,null,null,null,null,null,null,null,null,null,null,null,"",null,null,null,"Pharmacy/  Prescription Review","% Prescriptions Reviewed","% Consultant Pharmacist Endorsed","% Consultant Pharmacist Not-Endorsed","% Med Director Endorsed",null,null,null,null,null,null,null,null,null,null,null,null,null,null,null,null,null,null,null,null,null,null,null,null,null,null,null,null,null,null,null,null,null,null,{"$f":"'List Data'!B31","v":"015-2"},{"$f":"IFERROR(INDEX('Master Template'!$M$8:$M$37,SMALL(IF('Master Template'!$F$8:$F$37=$BY34,ROW('Master Template'!$F$8:$F$37)-7,\"\"),COLUMNS($BZ$4:BZ34))),\"\")","v":""},{"$f":"IFERROR(INDEX('Master Template'!$M$8:$M$37,SMALL(IF('Master Template'!$F$8:$F$37=$BY34,ROW('Master Template'!$F$8:$F$37)-7,\"\"),COLUMNS($BZ$4:CA34))),\"\")","v":""},{"$f":"IFERROR(INDEX('Master Template'!$M$8:$M$37,SMALL(IF('Master Template'!$F$8:$F$37=$BY34,ROW('Master Template'!$F$8:$F$37)-7,\"\"),COLUMNS($BZ$4:CB34))),\"\")","v":""},{"$f":"IFERROR(INDEX('Master Template'!$M$8:$M$37,SMALL(IF('Master Template'!$F$8:$F$37=$BY34,ROW('Master Template'!$F$8:$F$37)-7,\"\"),COLUMNS($BZ$4:CC34))),\"\")","v":""},{"$f":"IFERROR(VLOOKUP(BZ34,'Master Template'!$B$73:$C$83,2,FALSE),\"\")","v":""},{"$f":"IFERROR(VLOOKUP(CA34,'Master Template'!$B$73:$C$83,2,FALSE),\"\")","v":""},{"$f":"IFERROR(VLOOKUP(CB34,'Master Template'!$B$73:$C$83,2,FALSE),\"\")","v":""},{"$f":"IFERROR(VLOOKUP(CC34,'Master Template'!$B$73:$C$83,2,FALSE),\"\")","v":""},""]
[28,null,null,null,null,null,null,null,null,null,null,null,null,null,null,null,null,null,null,null,null,null,null,null,null,null,null,null,null,null,null,null,null,"",null,null,null,null,{"$f":"IFERROR((COUNTIF($B$8:$B$37, \"Yes\")/((COUNTIF($B$8:$B$37,\"No\"))+(COUNTIF($B$8:$B$37, \"yes\")))),\"\")","v":""},{"$f":"IFERROR((COUNTIF($C$8:$C$37, \"Yes\")/((COUNTIF($C$8:$C$37,\"No\"))+(COUNTIF($C$8:$C$37, \"yes\")))),\"\")","v":""},{"$f":"IFERROR((COUNTIF($C$8:$C$37, \"No\")/((COUNTIF($C$8:$C$37,\"No\"))+(COUNTIF($C$8:$C$37, \"yes\")))),\"\")","v":""},{"$f":"IFERROR((COUNTIF($D$8:$D$37, \"Yes\")/((COUNTIF($D$8:$D$37,\"No\"))+(COUNTIF($D$8:$D$37, \"yes\")))),\"\")","v":""},null,null,null,null,null,null,null,null,null,null,null,null,null,null,null,null,null,null,null,null,null,null,null,null,null,null,null,null,null,null,null,null,null,null,{"$f":"'List Data'!B32","v":"016-1"},{"$f":"IFERROR(INDEX('Master Template'!$M$8:$M$37,SMALL(IF('Master Template'!$F$8:$F$37=$BY35,ROW('Master Template'!$F$8:$F$37)-7,\"\"),COLUMNS($BZ$4:BZ35))),\"\")","v":""},{"$f":"IFERROR(INDEX('Master Template'!$M$8:$M$37,SMALL(IF('Master Template'!$F$8:$F$37=$BY35,ROW('Master Template'!$F$8:$F$37)-7,\"\"),COLUMNS($BZ$4:CA35))),\"\")","v":""},{"$f":"IFERROR(INDEX('Master Template'!$M$8:$M$37,SMALL(IF('Master Template'!$F$8:$F$37=$BY35,ROW('Master Template'!$F$8:$F$37)-7,\"\"),COLUMNS($BZ$4:CB35))),\"\")","v":""},{"$f":"IFERROR(INDEX('Master Template'!$M$8:$M$37,SMALL(IF('Master Template'!$F$8:$F$37=$BY35,ROW('Master Template'!$F$8:$F$37)-7,\"\"),COLUMNS($BZ$4:CC35))),\"\")","v":""},{"$f":"IFERROR(VLOOKUP(BZ35,'Master Template'!$B$73:$C$83,2,FALSE),\"\")","v":""},{"$f":"IFERROR(VLOOKUP(CA35,'Master Template'!$B$73:$C$83,2,FALSE),\"\")","v":""},{"$f":"IFERROR(VLOOKUP(CB35,'Master Template'!$B$73:$C$83,2,FALSE),\"\")","v":""},{"$f":"IFERROR(VLOOKUP(CC35,'Master Template'!$B$73:$C$83,2,FALSE),\"\")","v":""},""]
[29,null,null,null,null,null,null,null,null,null,null,null,null,null,null,null,null,null,null,null,null,null,null,null,null,null,null,null,null,null,null,null,null,"",null,null,null,"Staff","CIC completed Before","CIC Not completed Before","% CIC completed Before"," ",null,null,null,null,null,null,null,null,null,null,null,null,null,null,null,null,null,null,null,null,null,null,null,null,null,null,null,null,null,null,null,null,null,null,{"$f":"'List Data'!B33","v":"016-2"},{"$f":"IFERROR(INDEX('Master Template'!$M$8:$M$37,SMALL(IF('Master Template'!$F$8:$F$37=$BY36,ROW('Master Template'!$F$8:$F$37)-7,\"\"),COLUMNS($BZ$4:BZ36))),\"\")","v":""},{"$f":"IFERROR(INDEX('Master Template'!$M$8:$M$37,SMALL(IF('Master Template'!$F$8:$F$37=$BY36,ROW('Master Template'!$F$8:$F$37)-7,\"\"),COLUMNS($BZ$4:CA36))),\"\")","v":""},{"$f":"IFERROR(INDEX('Master Template'!$M$8:$M$37,SMALL(IF('Master Template'!$F$8:$F$37=$BY36,ROW('Master Template'!$F$8:$F$37)-7,\"\"),COLUMNS($BZ$4:CB36))),\"\")","v":""},{"$f":"IFERROR(INDEX('Master Template'!$M$8:$M$37,SMALL(IF('Master Template'!$F$8:$F$37=$BY36,ROW('Master Template'!$F$8:$F$37)-7,\"\"),COLUMNS($BZ$4:CC36))),\"\")","v":""},{"$f":"IFERROR(VLOOKUP(BZ36,'Master Template'!$B$73:$C$83,2,FALSE),\"\")","v":""},{"$f":"IFERROR(VLOOKUP(CA36,'Master Template'!$B$73:$C$83,2,FALSE),\"\")","v":""},{"$f":"IFERROR(VLOOKUP(CB36,'Master Template'!$B$73:$C$83,2,FALSE),\"\")","v":""},{"$f":"IFERROR(VLOOKUP(CC36,'Master Template'!$B$73:$C$83,2,FALSE),\"\")","v":""},""]
[30,null,null,null,null,null,null,null,null,null,null,null,null,null,null,null,null,null,null,null,null,null,null,null,null,null,null,null,null,null,null,null,null,"",null,null,null,{"$f":"'List Data'!K2","v":"Staff1"},{"$f":"COUNTIFS($J$8:$J$37,\"yes\",$K$8:$K$37,'List Data'!K2,$R$8:$R$37,\"Yes\")","v":0},{"$f":"COUNTIFS($J$8:$J$37,\"No\",$K$8:$K$37,'List Data'!K2,$R$8:$R$37,\"Yes\")","v":0},{"$f":"IFERROR(AM37/(AN37+AM37),\"\")","v":""},null,null,null,null,null,null,null,null,null,null,null,null,null,null,null,null,null,null,null,null,null,null,null,null,null,null,null,null,null,null,null,null,null,null,null,{"$f":"'List Data'!B34","v":"017-1"},{"$f":"IFERROR(INDEX('Master Template'!$M$8:$M$37,SMALL(IF('Master Template'!$F$8:$F$37=$BY37,ROW('Master Template'!$F$8:$F$37)-7,\"\"),COLUMNS($BZ$4:BZ37))),\"\")","v":""},{"$f":"IFERROR(INDEX('Master Template'!$M$8:$M$37,SMALL(IF('Master Template'!$F$8:$F$37=$BY37,ROW('Master Template'!$F$8:$F$37)-7,\"\"),COLUMNS($BZ$4:CA37))),\"\")","v":""},{"$f":"IFERROR(INDEX('Master Template'!$M$8:$M$37,SMALL(IF('Master Template'!$F$8:$F$37=$BY37,ROW('Master Template'!$F$8:$F$37)-7,\"\"),COLUMNS($BZ$4:CB37))),\"\")","v":""},{"$f":"IFERROR(INDEX('Master Template'!$M$8:$M$37,SMALL(IF('Master Template'!$F$8:$F$37=$BY37,ROW('Master Template'!$F$8:$F$37)-7,\"\"),COLUMNS($BZ$4:CC37))),\"\")","v":""},{"$f":"IFERROR(VLOOKUP(BZ37,'Master Template'!$B$73:$C$83,2,FALSE),\"\")","v":""},{"$f":"IFERROR(VLOOKUP(CA37,'Master Template'!$B$73:$C$83,2,FALSE),\"\")","v":""},{"$f":"IFERROR(VLOOKUP(CB37,'Master Template'!$B$73:$C$83,2,FALSE),\"\")","v":""},{"$f":"IFERROR(VLOOKUP(CC37,'Master Template'!$B$73:$C$83,2,FALSE),\"\")","v":""},""]
[null,null,null,null,null,null,null,null,null,null,null,null,null,null,null,null,null,null,null,null,null,null,null,null,null,null,null,null,null,null,null,null,null,null,null,null,null,{"$f":"'List Data'!K3","v":"Staff2"},{"$f":"COUNTIFS($J$8:$J$37,\"yes\",$K$8:$K$37,'List Data'!K3,$R$8:$R$37,\"Yes\")","v":0},{"$f":"COUNTIFS($J$8:$J$37,\"No\",$K$8:$K$37,'List Data'!K3,$R$8:$R$37,\"Yes\")","v":0},{"$f":"IFERROR(AM38/(AN38+AM38),\"\")","v":""},null,null,null,null,null,null,null,null,null,null,null,null,null,null,null,null,null,null,null,null,null,null,null,null,null,null,null,null,null,null,null,null,null,null,null,{"$f":"'List Data'!B35","v":"017-2"},{"$f":"IFERROR(INDEX('Master Template'!$M$8:$M$37,SMALL(IF('Master Template'!$F$8:$F$37=$BY38,ROW('Master Template'!$F$8:$F$37)-7,\"\"),COLUMNS($BZ$4:BZ38))),\"\")","v":""},{"$f":"IFERROR(INDEX('Master Template'!$M$8:$M$37,SMALL(IF('Master Template'!$F$8:$F$37=$BY38,ROW('Master Template'!$F$8:$F$37)-7,\"\"),COLUMNS($BZ$4:CA38))),\"\")","v":""},{"$f":"IFERROR(INDEX('Master Template'!$M$8:$M$37,SMALL(IF('Master Template'!$F$8:$F$37=$BY38,ROW('Master Template'!$F$8:$F$37)-7,\"\"),COLUMNS($BZ$4:CB38))),\"\")","v":""},{"$f":"IFERROR(INDEX('Master Template'!$M$8:$M$37,SMALL(IF('Master Template'!$F$8:$F$37=$BY38,ROW('Master Template'!$F$8:$F$37)-7,\"\"),COLUMNS($BZ$4:CC38))),\"\")","v":""},{"$f":"IFERROR(VLOOKUP(BZ38,'Master Template'!$B$73:$C$83,2,FALSE),\"\")","v":""},{"$f":"IFERROR(VLOOKUP(CA38,'Master Template'!$B$73:$C$83,2,FALSE),\"\")","v":""},{"$f":"IFERROR(VLOOKUP(CB38,'Master Template'!$B$73:$C$83,2,FALSE),\"\")","v":""},{"$f":"IFERROR(VLOOKUP(CC38,'Master Template'!$B$73:$C$83,2,FALSE),\"\")","v":""},""]
[null,null,null,null,null,null,null,null,null,null,null,null,null,null,null,null,null,null,null,null,null,null,null,null,null,null,null,null,null,null,null,null,null,null,null,null,null,{"$f":"'List Data'!K4","v":"Staff3"},{"$f":"COUNTIFS($J$8:$J$37,\"yes\",$K$8:$K$37,'List Data'!K4,$R$8:$R$37,\"Yes\")","v":0},{"$f":"COUNTIFS($J$8:$J$37,\"No\",$K$8:$K$37,'List Data'!K4,$R$8:$R$37,\"Yes\")","v":0},"",null,null,null,null,null,null,null,null,null,null,null,null,null,null,null,null,null,null,null,null,null,null,null,null,null,null,null,null,null,null,null,null,null,null,null,{"$f":"'List Data'!B36","v":"018-1"},{"$f":"IFERROR(INDEX('Master Template'!$M$8:$M$37,SMALL(IF('Master Template'!$F$8:$F$37=$BY39,ROW('Master Template'!$F$8:$F$37)-7,\"\"),COLUMNS($BZ$4:BZ39))),\"\")","v":""},{"$f":"IFERROR(INDEX('Master Template'!$M$8:$M$37,SMALL(IF('Master Template'!$F$8:$F$37=$BY39,ROW('Master Template'!$F$8:$F$37)-7,\"\"),COLUMNS($BZ$4:CA39))),\"\")","v":""},{"$f":"IFERROR(INDEX('Master Template'!$M$8:$M$37,SMALL(IF('Master Template'!$F$8:$F$37=$BY39,ROW('Master Template'!$F$8:$F$37)-7,\"\"),COLUMNS($BZ$4:CB39))),\"\")","v":""},{"$f":"IFERROR(INDEX('Master Template'!$M$8:$M$37,SMALL(IF('Master Template'!$F$8:$F$37=$BY39,ROW('Master Template'!$F$8:$F$37)-7,\"\"),COLUMNS($BZ$4:CC39))),\"\")","v":""},{"$f":"IFERROR(VLOOKUP(BZ39,'Master Template'!$B$73:$C$83,2,FALSE),\"\")","v":""},{"$f":"IFERROR(VLOOKUP(CA39,'Master Template'!$B$73:$C$83,2,FALSE),\"\")","v":""},{"$f":"IFERROR(VLOOKUP(CB39,'Master Template'!$B$73:$C$83,2,FALSE),\"\")","v":""},{"$f":"IFERROR(VLOOKUP(CC39,'Master Template'!$B$73:$C$83,2,FALSE),\"\")","v":""},""]
[null,null,null,null,null,null,null,null,null,null,null,null,null,null,null,null,null,null,null,null,null,null,null,null,null,null,null,null,null,null,null,null,null,null,null,null,null,{"$f":"'List Data'!K5","v":"Staff4"},{"$f":"COUNTIFS($J$8:$J$37,\"yes\",$K$8:$K$37,'List Data'!K5,$R$8:$R$37,\"Yes\")","v":0},{"$f":"COUNTIFS($J$8:$J$37,\"No\",$K$8:$K$37,'List Data'!K5,$R$8:$R$37,\"Yes\")","v":0},"",null,null,null,null,null,null,null,null,null,null,null,null,null,null,null,null,null,null,null,null,null,null,null,null,null,null,null,null,null,null,null,null,null,null,null,{"$f":"'List Data'!B37","v":"018-2"},{"$f":"IFERROR(INDEX('Master Template'!$M$8:$M$37,SMALL(IF('Master Template'!$F$8:$F$37=$BY40,ROW('Master Template'!$F$8:$F$37)-7,\"\"),COLUMNS($BZ$4:BZ40))),\"\")","v":""},{"$f":"IFERROR(INDEX('Master Template'!$M$8:$M$37,SMALL(IF('Master Template'!$F$8:$F$37=$BY40,ROW('Master Template'!$F$8:$F$37)-7,\"\"),COLUMNS($BZ$4:CA40))),\"\")","v":""},{"$f":"IFERROR(INDEX('Master Template'!$M$8:$M$37,SMALL(IF('Master Template'!$F$8:$F$37=$BY40,ROW('Master Template'!$F$8:$F$37)-7,\"\"),COLUMNS($BZ$4:CB40))),\"\")","v":""},{"$f":"IFERROR(INDEX('Master Template'!$M$8:$M$37,SMALL(IF('Master Template'!$F$8:$F$37=$BY40,ROW('Master Template'!$F$8:$F$37)-7,\"\"),COLUMNS($BZ$4:CC40))),\"\")","v":""},{"$f":"IFERROR(VLOOKUP(BZ40,'Master Template'!$B$73:$C$83,2,FALSE),\"\")","v":""},{"$f":"IFERROR(VLOOKUP(CA40,'Master Template'!$B$73:$C$83,2,FALSE),\"\")","v":""},{"$f":"IFERROR(VLOOKUP(CB40,'Master Template'!$B$73:$C$83,2,FALSE),\"\")","v":""},{"$f":"IFERROR(VLOOKUP(CC40,'Master Template'!$B$73:$C$83,2,FALSE),\"\")","v":""},""]
[null,null,null,null,null,null,null,null,null,null,null,null,null,null,null,null,null,null,null,null,null,null,null,null,null,null,null,null,null,null,null,null,null,null,null,null,null,{"$f":"'List Data'!K6","v":"Staff5"},{"$f":"COUNTIFS($J$8:$J$37,\"yes\",$K$8:$K$37,'List Data'!K6,$R$8:$R$37,\"Yes\")","v":0},{"$f":"COUNTIFS($J$8:$J$37,\"No\",$K$8:$K$37,'List Data'!K6,$R$8:$R$37,\"Yes\")","v":0},"",null,null,null,null,null,null,null,null,null,null,null,null,null,null,null,null,null,null,null,null,null,null,null,null,null,null,null,null,null,null,null,null,null,null,null,{"$f":"'List Data'!B38","v":"019-1"},{"$f":"IFERROR(INDEX('Master Template'!$M$8:$M$37,SMALL(IF('Master Template'!$F$8:$F$37=$BY41,ROW('Master Template'!$F$8:$F$37)-7,\"\"),COLUMNS($BZ$4:BZ41))),\"\")","v":""},{"$f":"IFERROR(INDEX('Master Template'!$M$8:$M$37,SMALL(IF('Master Template'!$F$8:$F$37=$BY41,ROW('Master Template'!$F$8:$F$37)-7,\"\"),COLUMNS($BZ$4:CA41))),\"\")","v":""},{"$f":"IFERROR(INDEX('Master Template'!$M$8:$M$37,SMALL(IF('Master Template'!$F$8:$F$37=$BY41,ROW('Master Template'!$F$8:$F$37)-7,\"\"),COLUMNS($BZ$4:CB41))),\"\")","v":""},{"$f":"IFERROR(INDEX('Master Template'!$M$8:$M$37,SMALL(IF('Master Template'!$F$8:$F$37=$BY41,ROW('Master Template'!$F$8:$F$37)-7,\"\"),COLUMNS($BZ$4:CC41))),\"\")","v":""},{"$f":"IFERROR(VLOOKUP(BZ41,'Master Template'!$B$73:$C$83,2,FALSE),\"\")","v":""},{"$f":"IFERROR(VLOOKUP(CA41,'Master Template'!$B$73:$C$83,2,FALSE),\"\")","v":""},{"$f":"IFERROR(VLOOKUP(CB41,'Master Template'!$B$73:$C$83,2,FALSE),\"\")","v":""},{"$f":"IFERROR(VLOOKUP(CC41,'Master Template'!$B$73:$C$83,2,FALSE),\"\")","v":""},""]
[null,null,null,null,null,null,null,null,null,null,null,null,null,null,null,null,null,null,null,null,null,null,null,null,null,null,null,null,null,null,null,null,null,null,null,null,null,{"$f":"'List Data'!K7","v":"Staff6"},{"$f":"COUNTIFS($J$8:$J$37,\"yes\",$K$8:$K$37,'List Data'!K7,$R$8:$R$37,\"Yes\")","v":0},{"$f":"COUNTIFS($J$8:$J$37,\"No\",$K$8:$K$37,'List Data'!K7,$R$8:$R$37,\"Yes\")","v":0},"",null,null,null,null,null,null,null,null,null,null,null,null,null,null,null,null,null,null,null,null,null,null,null,null,null,null,null,null,null,null,null,null,null,null,null,{"$f":"'List Data'!B39","v":"019-2"},{"$f":"IFERROR(INDEX('Master Template'!$M$8:$M$37,SMALL(IF('Master Template'!$F$8:$F$37=$BY42,ROW('Master Template'!$F$8:$F$37)-7,\"\"),COLUMNS($BZ$4:BZ42))),\"\")","v":""},{"$f":"IFERROR(INDEX('Master Template'!$M$8:$M$37,SMALL(IF('Master Template'!$F$8:$F$37=$BY42,ROW('Master Template'!$F$8:$F$37)-7,\"\"),COLUMNS($BZ$4:CA42))),\"\")","v":""},{"$f":"IFERROR(INDEX('Master Template'!$M$8:$M$37,SMALL(IF('Master Template'!$F$8:$F$37=$BY42,ROW('Master Template'!$F$8:$F$37)-7,\"\"),COLUMNS($BZ$4:CB42))),\"\")","v":""},{"$f":"IFERROR(INDEX('Master Template'!$M$8:$M$37,SMALL(IF('Master Template'!$F$8:$F$37=$BY42,ROW('Master Template'!$F$8:$F$37)-7,\"\"),COLUMNS($BZ$4:CC42))),\"\")","v":""},{"$f":"IFERROR(VLOOKUP(BZ42,'Master Template'!$B$73:$C$83,2,FALSE),\"\")","v":""},{"$f":"IFERROR(VLOOKUP(CA42,'Master Template'!$B$73:$C$83,2,FALSE),\"\")","v":""},{"$f":"IFERROR(VLOOKUP(CB42,'Master Template'!$B$73:$C$83,2,FALSE),\"\")","v":""},{"$f":"IFERROR(VLOOKUP(CC42,'Master Template'!$B$73:$C$83,2,FALSE),\"\")","v":""},""]
[null,null,null,null,null,null,null,null,null,null,null,null,null,null,null,null,null,null,null,null,null,null,null,null,null,null,null,null,null,null,null,null,null,null,null,null,null,{"$f":"'List Data'!K8","v":"Staff7"},{"$f":"COUNTIFS($J$8:$J$37,\"yes\",$K$8:$K$37,'List Data'!K8,$R$8:$R$37,\"Yes\")","v":0},{"$f":"COUNTIFS($J$8:$J$37,\"No\",$K$8:$K$37,'List Data'!K8,$R$8:$R$37,\"Yes\")","v":0},"",null,null,null,null,null,null,null,null,null,null,null,null,null,null,null,null,null,null,null,null,null,null,null,null,null,null,null,null,null,null,null,null,null,null,null,{"$f":"'List Data'!B40","v":"020-1"},{"$f":"IFERROR(INDEX('Master Template'!$M$8:$M$37,SMALL(IF('Master Template'!$F$8:$F$37=$BY43,ROW('Master Template'!$F$8:$F$37)-7,\"\"),COLUMNS($BZ$4:BZ43))),\"\")","v":""},{"$f":"IFERROR(INDEX('Master Template'!$M$8:$M$37,SMALL(IF('Master Template'!$F$8:$F$37=$BY43,ROW('Master Template'!$F$8:$F$37)-7,\"\"),COLUMNS($BZ$4:CA43))),\"\")","v":""},{"$f":"IFERROR(INDEX('Master Template'!$M$8:$M$37,SMALL(IF('Master Template'!$F$8:$F$37=$BY43,ROW('Master Template'!$F$8:$F$37)-7,\"\"),COLUMNS($BZ$4:CB43))),\"\")","v":""},{"$f":"IFERROR(INDEX('Master Template'!$M$8:$M$37,SMALL(IF('Master Template'!$F$8:$F$37=$BY43,ROW('Master Template'!$F$8:$F$37)-7,\"\"),COLUMNS($BZ$4:CC43))),\"\")","v":""},{"$f":"IFERROR(VLOOKUP(BZ43,'Master Template'!$B$73:$C$83,2,FALSE),\"\")","v":""},{"$f":"IFERROR(VLOOKUP(CA43,'Master Template'!$B$73:$C$83,2,FALSE),\"\")","v":""},{"$f":"IFERROR(VLOOKUP(CB43,'Master Template'!$B$73:$C$83,2,FALSE),\"\")","v":""},{"$f":"IFERROR(VLOOKUP(CC43,'Master Template'!$B$73:$C$83,2,FALSE),\"\")","v":""},""]
[null,null,null,null,null,null,null,null,null,null,null,null,null,null,null,null,null,null,null,null,null,null,null,null,null,null,null,null,null,null,null,null,null,null,null,null,null,{"$f":"'List Data'!K9","v":"Staff8"},{"$f":"COUNTIFS($J$8:$J$37,\"yes\",$K$8:$K$37,'List Data'!K9,$R$8:$R$37,\"Yes\")","v":0},{"$f":"COUNTIFS($J$8:$J$37,\"No\",$K$8:$K$37,'List Data'!K9,$R$8:$R$37,\"Yes\")","v":0},"",null,null,null,null,null,null,null,null,null,null,null,null,null,null,null,null,null,null,null,null,null,null,null,null,null,null,null,null,null,null,null,null,null,null,null,{"$f":"'List Data'!B41","v":"020-2"},{"$f":"IFERROR(INDEX('Master Template'!$M$8:$M$37,SMALL(IF('Master Template'!$F$8:$F$37=$BY44,ROW('Master Template'!$F$8:$F$37)-7,\"\"),COLUMNS($BZ$4:BZ44))),\"\")","v":""},{"$f":"IFERROR(INDEX('Master Template'!$M$8:$M$37,SMALL(IF('Master Template'!$F$8:$F$37=$BY44,ROW('Master Template'!$F$8:$F$37)-7,\"\"),COLUMNS($BZ$4:CA44))),\"\")","v":""},{"$f":"IFERROR(INDEX('Master Template'!$M$8:$M$37,SMALL(IF('Master Template'!$F$8:$F$37=$BY44,ROW('Master Template'!$F$8:$F$37)-7,\"\"),COLUMNS($BZ$4:CB44))),\"\")","v":""},{"$f":"IFERROR(INDEX('Master Template'!$M$8:$M$37,SMALL(IF('Master Template'!$F$8:$F$37=$BY44,ROW('Master Template'!$F$8:$F$37)-7,\"\"),COLUMNS($BZ$4:CC44))),\"\")","v":""},{"$f":"IFERROR(VLOOKUP(BZ44,'Master Template'!$B$73:$C$83,2,FALSE),\"\")","v":""},{"$f":"IFERROR(VLOOKUP(CA44,'Master Template'!$B$73:$C$83,2,FALSE),\"\")","v":""},{"$f":"IFERROR(VLOOKUP(CB44,'Master Template'!$B$73:$C$83,2,FALSE),\"\")","v":""},{"$f":"IFERROR(VLOOKUP(CC44,'Master Template'!$B$73:$C$83,2,FALSE),\"\")","v":""},""]
[null,null,null,null,null,null,null,null,null,null,null,null,null,null,null,null,null,null,null,null,null,null,null,null,null,null,null,null,null,null,null,null,null,null,null,null,null,{"$f":"'List Data'!K10","v":"Staff9"},{"$f":"COUNTIFS($J$8:$J$37,\"yes\",$K$8:$K$37,'List Data'!K10,$R$8:$R$37,\"Yes\")","v":0},{"$f":"COUNTIFS($J$8:$J$37,\"No\",$K$8:$K$37,'List Data'!K10,$R$8:$R$37,\"Yes\")","v":0},"",null,null,null,null,null,null,null,null,null,null,null,null,null,null,null,null,null,null,null,null,null,null,null,null,null,null,null,null,null,null,null,null,null,null,null,{"$f":"'List Data'!B42","v":"021-1"},{"$f":"IFERROR(INDEX('Master Template'!$M$8:$M$37,SMALL(IF('Master Template'!$F$8:$F$37=$BY45,ROW('Master Template'!$F$8:$F$37)-7,\"\"),COLUMNS($BZ$4:BZ45))),\"\")","v":""},{"$f":"IFERROR(INDEX('Master Template'!$M$8:$M$37,SMALL(IF('Master Template'!$F$8:$F$37=$BY45,ROW('Master Template'!$F$8:$F$37)-7,\"\"),COLUMNS($BZ$4:CA45))),\"\")","v":""},{"$f":"IFERROR(INDEX('Master Template'!$M$8:$M$37,SMALL(IF('Master Template'!$F$8:$F$37=$BY45,ROW('Master Template'!$F$8:$F$37)-7,\"\"),COLUMNS($BZ$4:CB45))),\"\")","v":""},{"$f":"IFERROR(INDEX('Master Template'!$M$8:$M$37,SMALL(IF('Master Template'!$F$8:$F$37=$BY45,ROW('Master Template'!$F$8:$F$37)-7,\"\"),COLUMNS($BZ$4:CC45))),\"\")","v":""},{"$f":"IFERROR(VLOOKUP(BZ45,'Master Template'!$B$73:$C$83,2,FALSE),\"\")","v":""},{"$f":"IFERROR(VLOOKUP(CA45,'Master Template'!$B$73:$C$83,2,FALSE),\"\")","v":""},{"$f":"IFERROR(VLOOKUP(CB45,'Master Template'!$B$73:$C$83,2,FALSE),\"\")","v":""},{"$f":"IFERROR(VLOOKUP(CC45,'Master Template'!$B$73:$C$83,2,FALSE),\"\")","v":""},""]
[null,null,null,null,null,null,null,null,null,null,null,null,null,null,null,null,null,null,null,null,null,null,null,null,null,null,null,null,null,null,null,null,null,null,null,null,null,{"$f":"'List Data'!K11","v":"Staff10"},{"$f":"COUNTIFS($J$8:$J$37,\"yes\",$K$8:$K$37,'List Data'!K11,$R$8:$R$37,\"Yes\")","v":0},{"$f":"COUNTIFS($J$8:$J$37,\"No\",$K$8:$K$37,'List Data'!K11,$R$8:$R$37,\"Yes\")","v":0},"",null,null,null,null,null,null,null,null,null,null,null,null,null,null,null,null,null,null,null,null,null,null,null,null,null,null,null,null,null,null,null,null,null,null,null,{"$f":"'List Data'!B43","v":"021-2"},{"$f":"IFERROR(INDEX('Master Template'!$M$8:$M$37,SMALL(IF('Master Template'!$F$8:$F$37=$BY46,ROW('Master Template'!$F$8:$F$37)-7,\"\"),COLUMNS($BZ$4:BZ46))),\"\")","v":""},{"$f":"IFERROR(INDEX('Master Template'!$M$8:$M$37,SMALL(IF('Master Template'!$F$8:$F$37=$BY46,ROW('Master Template'!$F$8:$F$37)-7,\"\"),COLUMNS($BZ$4:CA46))),\"\")","v":""},{"$f":"IFERROR(INDEX('Master Template'!$M$8:$M$37,SMALL(IF('Master Template'!$F$8:$F$37=$BY46,ROW('Master Template'!$F$8:$F$37)-7,\"\"),COLUMNS($BZ$4:CB46))),\"\")","v":""},{"$f":"IFERROR(INDEX('Master Template'!$M$8:$M$37,SMALL(IF('Master Template'!$F$8:$F$37=$BY46,ROW('Master Template'!$F$8:$F$37)-7,\"\"),COLUMNS($BZ$4:CC46))),\"\")","v":""},{"$f":"IFERROR(VLOOKUP(BZ46,'Master Template'!$B$73:$C$83,2,FALSE),\"\")","v":""},{"$f":"IFERROR(VLOOKUP(CA46,'Master Template'!$B$73:$C$83,2,FALSE),\"\")","v":""},{"$f":"IFERROR(VLOOKUP(CB46,'Master Template'!$B$73:$C$83,2,FALSE),\"\")","v":""},{"$f":"IFERROR(VLOOKUP(CC46,'Master Template'!$B$73:$C$83,2,FALSE),\"\")","v":""},""]
[null,null,null,null,null,null,null,null,null,null,null,null,null,null,null,null,null,null,null,null,null,null,null,null,null,null,null,null,null,null,null,null,null,null,null,null,null,{"$f":"'List Data'!K12","v":"Staff11"},{"$f":"COUNTIFS($J$8:$J$37,\"yes\",$K$8:$K$37,'List Data'!K12,$R$8:$R$37,\"Yes\")","v":0},{"$f":"COUNTIFS($J$8:$J$37,\"No\",$K$8:$K$37,'List Data'!K12,$R$8:$R$37,\"Yes\")","v":0},"",null,null,null,null,null,null,null,null,null,null,null,null,null,null,null,null,null,null,null,null,null,null,null,null,null,null,null,null,null,null,null,null,null,null,null,{"$f":"'List Data'!B44","v":"022-1"},{"$f":"IFERROR(INDEX('Master Template'!$M$8:$M$37,SMALL(IF('Master Template'!$F$8:$F$37=$BY47,ROW('Master Template'!$F$8:$F$37)-7,\"\"),COLUMNS($BZ$4:BZ47))),\"\")","v":""},{"$f":"IFERROR(INDEX('Master Template'!$M$8:$M$37,SMALL(IF('Master Template'!$F$8:$F$37=$BY47,ROW('Master Template'!$F$8:$F$37)-7,\"\"),COLUMNS($BZ$4:CA47))),\"\")","v":""},{"$f":"IFERROR(INDEX('Master Template'!$M$8:$M$37,SMALL(IF('Master Template'!$F$8:$F$37=$BY47,ROW('Master Template'!$F$8:$F$37)-7,\"\"),COLUMNS($BZ$4:CB47))),\"\")","v":""},{"$f":"IFERROR(INDEX('Master Template'!$M$8:$M$37,SMALL(IF('Master Template'!$F$8:$F$37=$BY47,ROW('Master Template'!$F$8:$F$37)-7,\"\"),COLUMNS($BZ$4:CC47))),\"\")","v":""},{"$f":"IFERROR(VLOOKUP(BZ47,'Master Template'!$B$73:$C$83,2,FALSE),\"\")","v":""},{"$f":"IFERROR(VLOOKUP(CA47,'Master Template'!$B$73:$C$83,2,FALSE),\"\")","v":""},{"$f":"IFERROR(VLOOKUP(CB47,'Master Template'!$B$73:$C$83,2,FALSE),\"\")","v":""},{"$f":"IFERROR(VLOOKUP(CC47,'Master Template'!$B$73:$C$83,2,FALSE),\"\")","v":""},""]
[null,null,null,null,null,null,null,null,null,null,null,null,null,null,null,null,null,null,null,null,null,null,null,null,null,null,null,null,null,null,null,null,null,null,null,null,null,{"$f":"'List Data'!K13","v":"Staff12"},{"$f":"COUNTIFS($J$8:$J$37,\"yes\",$K$8:$K$37,'List Data'!K13,$R$8:$R$37,\"Yes\")","v":0},{"$f":"COUNTIFS($J$8:$J$37,\"No\",$K$8:$K$37,'List Data'!K13,$R$8:$R$37,\"Yes\")","v":0},"",null,null,null,null,null,null,null,null,null,null,null,null,null,null,null,null,null,null,null,null,null,null,null,null,null,null,null,null,null,null,null,null,null,null,null,{"$f":"'List Data'!B45","v":"022-2"},{"$f":"IFERROR(INDEX('Master Template'!$M$8:$M$37,SMALL(IF('Master Template'!$F$8:$F$37=$BY48,ROW('Master Template'!$F$8:$F$37)-7,\"\"),COLUMNS($BZ$4:BZ48))),\"\")","v":""},{"$f":"IFERROR(INDEX('Master Template'!$M$8:$M$37,SMALL(IF('Master Template'!$F$8:$F$37=$BY48,ROW('Master Template'!$F$8:$F$37)-7,\"\"),COLUMNS($BZ$4:CA48))),\"\")","v":""},{"$f":"IFERROR(INDEX('Master Template'!$M$8:$M$37,SMALL(IF('Master Template'!$F$8:$F$37=$BY48,ROW('Master Template'!$F$8:$F$37)-7,\"\"),COLUMNS($BZ$4:CB48))),\"\")","v":""},{"$f":"IFERROR(INDEX('Master Template'!$M$8:$M$37,SMALL(IF('Master Template'!$F$8:$F$37=$BY48,ROW('Master Template'!$F$8:$F$37)-7,\"\"),COLUMNS($BZ$4:CC48))),\"\")","v":""},{"$f":"IFERROR(VLOOKUP(BZ48,'Master Template'!$B$73:$C$83,2,FALSE),\"\")","v":""},{"$f":"IFERROR(VLOOKUP(CA48,'Master Template'!$B$73:$C$83,2,FALSE),\"\")","v":""},{"$f":"IFERROR(VLOOKUP(CB48,'Master Template'!$B$73:$C$83,2,FALSE),\"\")","v":""},{"$f":"IFERROR(VLOOKUP(CC48,'Master Template'!$B$73:$C$83,2,FALSE),\"\")","v":""},""]
[null,null,null,null,null,null,null,null,null,null,null,null,null,null,null,null,null,null,null,null,null,null,null,null,null,null,null,null,null,null,null,null,null,null,null,null,null,{"$f":"'List Data'!K14","v":"Staff13"},{"$f":"COUNTIFS($J$8:$J$37,\"yes\",$K$8:$K$37,'List Data'!K14,$R$8:$R$37,\"Yes\")","v":0},{"$f":"COUNTIFS($J$8:$J$37,\"No\",$K$8:$K$37,'List Data'!K14,$R$8:$R$37,\"Yes\")","v":0},"",null,null,null,null,null,null,null,null,null,null,null,null,null,null,null,null,null,null,null,null,null,null,null,null,null,null,null,null,null,null,null,null,null,null,null,{"$f":"'List Data'!B46","v":"201-1"},{"$f":"IFERROR(INDEX('Master Template'!$M$8:$M$37,SMALL(IF('Master Template'!$F$8:$F$37=$BY49,ROW('Master Template'!$F$8:$F$37)-7,\"\"),COLUMNS($BZ$4:BZ49))),\"\")","v":""},{"$f":"IFERROR(INDEX('Master Template'!$M$8:$M$37,SMALL(IF('Master Template'!$F$8:$F$37=$BY49,ROW('Master Template'!$F$8:$F$37)-7,\"\"),COLUMNS($BZ$4:CA49))),\"\")","v":""},{"$f":"IFERROR(INDEX('Master Template'!$M$8:$M$37,SMALL(IF('Master Template'!$F$8:$F$37=$BY49,ROW('Master Template'!$F$8:$F$37)-7,\"\"),COLUMNS($BZ$4:CB49))),\"\")","v":""},{"$f":"IFERROR(INDEX('Master Template'!$M$8:$M$37,SMALL(IF('Master Template'!$F$8:$F$37=$BY49,ROW('Master Template'!$F$8:$F$37)-7,\"\"),COLUMNS($BZ$4:CC49))),\"\")","v":""},{"$f":"IFERROR(VLOOKUP(BZ49,'Master Template'!$B$73:$C$83,2,FALSE),\"\")","v":""},{"$f":"IFERROR(VLOOKUP(CA49,'Master Template'!$B$73:$C$83,2,FALSE),\"\")","v":""},{"$f":"IFERROR(VLOOKUP(CB49,'Master Template'!$B$73:$C$83,2,FALSE),\"\")","v":""},{"$f":"IFERROR(VLOOKUP(CC49,'Master Template'!$B$73:$C$83,2,FALSE),\"\")","v":""},""]
[null,null,null,null,null,null,null,null,null,null,null,null,null,null,null,null,null,null,null,null,null,null,null,null,null,null,null,null,null,null,null,null,null,null,null,null,null,{"$f":"'List Data'!K15","v":"Staff14"},{"$f":"COUNTIFS($J$8:$J$37,\"yes\",$K$8:$K$37,'List Data'!K15,$R$8:$R$37,\"Yes\")","v":0},{"$f":"COUNTIFS($J$8:$J$37,\"No\",$K$8:$K$37,'List Data'!K15,$R$8:$R$37,\"Yes\")","v":0},"",null,null,null,null,null,null,null,null,null,null,null,null,null,null,null,null,null,null,null,null,null,null,null,null,null,null,null,null,null,null,null,null,null,null,null,{"$f":"'List Data'!B47","v":"201-2"},{"$f":"IFERROR(INDEX('Master Template'!$M$8:$M$37,SMALL(IF('Master Template'!$F$8:$F$37=$BY50,ROW('Master Template'!$F$8:$F$37)-7,\"\"),COLUMNS($BZ$4:BZ50))),\"\")","v":""},{"$f":"IFERROR(INDEX('Master Template'!$M$8:$M$37,SMALL(IF('Master Template'!$F$8:$F$37=$BY50,ROW('Master Template'!$F$8:$F$37)-7,\"\"),COLUMNS($BZ$4:CA50))),\"\")","v":""},{"$f":"IFERROR(INDEX('Master Template'!$M$8:$M$37,SMALL(IF('Master Template'!$F$8:$F$37=$BY50,ROW('Master Template'!$F$8:$F$37)-7,\"\"),COLUMNS($BZ$4:CB50))),\"\")","v":""},{"$f":"IFERROR(INDEX('Master Template'!$M$8:$M$37,SMALL(IF('Master Template'!$F$8:$F$37=$BY50,ROW('Master Template'!$F$8:$F$37)-7,\"\"),COLUMNS($BZ$4:CC50))),\"\")","v":""},{"$f":"IFERROR(VLOOKUP(BZ50,'Master Template'!$B$73:$C$83,2,FALSE),\"\")","v":""},{"$f":"IFERROR(VLOOKUP(CA50,'Master Template'!$B$73:$C$83,2,FALSE),\"\")","v":""},{"$f":"IFERROR(VLOOKUP(CB50,'Master Template'!$B$73:$C$83,2,FALSE),\"\")","v":""},{"$f":"IFERROR(VLOOKUP(CC50,'Master Template'!$B$73:$C$83,2,FALSE),\"\")","v":""},""]
[null,null,null,null,null,null,null,null,null,null,null,null,null,null,null,null,null,null,null,null,null,null,null,null,null,null,null,null,null,null,null,null,null,null,null,null,null,{"$f":"'List Data'!K16","v":"Staff15"},{"$f":"COUNTIFS($J$8:$J$37,\"yes\",$K$8:$K$37,'List Data'!K16,$R$8:$R$37,\"Yes\")","v":0},{"$f":"COUNTIFS($J$8:$J$37,\"No\",$K$8:$K$37,'List Data'!K16,$R$8:$R$37,\"Yes\")","v":0},"",null,null,null,null,null,null,null,null,null,null,null,null,null,null,null,null,null,null,null,null,null,null,null,null,null,null,null,null,null,null,null,null,null,null,null,{"$f":"'List Data'!B48","v":"202-1"},{"$f":"IFERROR(INDEX('Master Template'!$M$8:$M$37,SMALL(IF('Master Template'!$F$8:$F$37=$BY51,ROW('Master Template'!$F$8:$F$37)-7,\"\"),COLUMNS($BZ$4:BZ51))),\"\")","v":""},{"$f":"IFERROR(INDEX('Master Template'!$M$8:$M$37,SMALL(IF('Master Template'!$F$8:$F$37=$BY51,ROW('Master Template'!$F$8:$F$37)-7,\"\"),COLUMNS($BZ$4:CA51))),\"\")","v":""},{"$f":"IFERROR(INDEX('Master Template'!$M$8:$M$37,SMALL(IF('Master Template'!$F$8:$F$37=$BY51,ROW('Master Template'!$F$8:$F$37)-7,\"\"),COLUMNS($BZ$4:CB51))),\"\")","v":""},{"$f":"IFERROR(INDEX('Master Template'!$M$8:$M$37,SMALL(IF('Master Template'!$F$8:$F$37=$BY51,ROW('Master Template'!$F$8:$F$37)-7,\"\"),COLUMNS($BZ$4:CC51))),\"\")","v":""},{"$f":"IFERROR(VLOOKUP(BZ51,'Master Template'!$B$73:$C$83,2,FALSE),\"\")","v":""},{"$f":"IFERROR(VLOOKUP(CA51,'Master Template'!$B$73:$C$83,2,FALSE),\"\")","v":""},{"$f":"IFERROR(VLOOKUP(CB51,'Master Template'!$B$73:$C$83,2,FALSE),\"\")","v":""},{"$f":"IFERROR(VLOOKUP(CC51,'Master Template'!$B$73:$C$83,2,FALSE),\"\")","v":""},""]
[null,null,null,null,null,null,null,null,null,null,null,null,null,null,null,null,null,null,null,null,null,null,null,null,null,null,null,null,null,null,null,null,null,null,null,null,null,{"$f":"'List Data'!K17","v":"Staff16"},{"$f":"COUNTIFS($J$8:$J$37,\"yes\",$K$8:$K$37,'List Data'!K17,$R$8:$R$37,\"Yes\")","v":0},{"$f":"COUNTIFS($J$8:$J$37,\"No\",$K$8:$K$37,'List Data'!K17,$R$8:$R$37,\"Yes\")","v":0},"",null,null,null,null,null,null,null,null,null,null,null,null,null,null,null,null,null,null,null,null,null,null,null,null,null,null,null,null,null,null,null,null,null,null,null,{"$f":"'List Data'!B49","v":"202-2"},{"$f":"IFERROR(INDEX('Master Template'!$M$8:$M$37,SMALL(IF('Master Template'!$F$8:$F$37=$BY52,ROW('Master Template'!$F$8:$F$37)-7,\"\"),COLUMNS($BZ$4:BZ52))),\"\")","v":""},{"$f":"IFERROR(INDEX('Master Template'!$M$8:$M$37,SMALL(IF('Master Template'!$F$8:$F$37=$BY52,ROW('Master Template'!$F$8:$F$37)-7,\"\"),COLUMNS($BZ$4:CA52))),\"\")","v":""},{"$f":"IFERROR(INDEX('Master Template'!$M$8:$M$37,SMALL(IF('Master Template'!$F$8:$F$37=$BY52,ROW('Master Template'!$F$8:$F$37)-7,\"\"),COLUMNS($BZ$4:CB52))),\"\")","v":""},{"$f":"IFERROR(INDEX('Master Template'!$M$8:$M$37,SMALL(IF('Master Template'!$F$8:$F$37=$BY52,ROW('Master Template'!$F$8:$F$37)-7,\"\"),COLUMNS($BZ$4:CC52))),\"\")","v":""},{"$f":"IFERROR(VLOOKUP(BZ52,'Master Template'!$B$73:$C$83,2,FALSE),\"\")","v":""},{"$f":"IFERROR(VLOOKUP(CA52,'Master Template'!$B$73:$C$83,2,FALSE),\"\")","v":""},{"$f":"IFERROR(VLOOKUP(CB52,'Master Template'!$B$73:$C$83,2,FALSE),\"\")","v":""},{"$f":"IFERROR(VLOOKUP(CC52,'Master Template'!$B$73:$C$83,2,FALSE),\"\")","v":""},""]
[null,null,null,null,null,null,null,null,null,null,null,null,null,null,null,null,null,null,null,null,null,null,null,null,null,null,null,null,null,null,null,null,null,null,null,null,null,{"$f":"'List Data'!K18","v":"Staff17"},{"$f":"COUNTIFS($J$8:$J$37,\"yes\",$K$8:$K$37,'List Data'!K18,$R$8:$R$37,\"Yes\")","v":0},{"$f":"COUNTIFS($J$8:$J$37,\"No\",$K$8:$K$37,'List Data'!K18,$R$8:$R$37,\"Yes\")","v":0},"",null,null,null,null,null,null,null,null,null,null,null,null,null,null,null,null,null,null,null,null,null,null,null,null,null,null,null,null,null,null,null,null,null,null,null,{"$f":"'List Data'!B50","v":"203-1"},{"$f":"IFERROR(INDEX('Master Template'!$M$8:$M$37,SMALL(IF('Master Template'!$F$8:$F$37=$BY53,ROW('Master Template'!$F$8:$F$37)-7,\"\"),COLUMNS($BZ$4:BZ53))),\"\")","v":""},{"$f":"IFERROR(INDEX('Master Template'!$M$8:$M$37,SMALL(IF('Master Template'!$F$8:$F$37=$BY53,ROW('Master Template'!$F$8:$F$37)-7,\"\"),COLUMNS($BZ$4:CA53))),\"\")","v":""},{"$f":"IFERROR(INDEX('Master Template'!$M$8:$M$37,SMALL(IF('Master Template'!$F$8:$F$37=$BY53,ROW('Master Template'!$F$8:$F$37)-7,\"\"),COLUMNS($BZ$4:CB53))),\"\")","v":""},{"$f":"IFERROR(INDEX('Master Template'!$M$8:$M$37,SMALL(IF('Master Template'!$F$8:$F$37=$BY53,ROW('Master Template'!$F$8:$F$37)-7,\"\"),COLUMNS($BZ$4:CC53))),\"\")","v":""},{"$f":"IFERROR(VLOOKUP(BZ53,'Master Template'!$B$73:$C$83,2,FALSE),\"\")","v":""},{"$f":"IFERROR(VLOOKUP(CA53,'Master Template'!$B$73:$C$83,2,FALSE),\"\")","v":""},{"$f":"IFERROR(VLOOKUP(CB53,'Master Template'!$B$73:$C$83,2,FALSE),\"\")","v":""},{"$f":"IFERROR(VLOOKUP(CC53,'Master Template'!$B$73:$C$83,2,FALSE),\"\")","v":""},""]
[null,null,null,null,null,null,null,null,null,null,null,null,null,null,null,null,null,null,null,null,null,null,null,null,null,null,null,null,null,null,null,null,null,null,null,null,null,{"$f":"'List Data'!K19","v":"Staff18"},{"$f":"COUNTIFS($J$8:$J$37,\"yes\",$K$8:$K$37,'List Data'!K19,$R$8:$R$37,\"Yes\")","v":0},{"$f":"COUNTIFS($J$8:$J$37,\"No\",$K$8:$K$37,'List Data'!K19,$R$8:$R$37,\"Yes\")","v":0},"",null,null,null,null,null,null,null,null,null,null,null,null,null,null,null,null,null,null,null,null,null,null,null,null,null,null,null,null,null,null,null,null,null,null,null,{"$f":"'List Data'!B51","v":"203-2"},{"$f":"IFERROR(INDEX('Master Template'!$M$8:$M$37,SMALL(IF('Master Template'!$F$8:$F$37=$BY54,ROW('Master Template'!$F$8:$F$37)-7,\"\"),COLUMNS($BZ$4:BZ54))),\"\")","v":""},{"$f":"IFERROR(INDEX('Master Template'!$M$8:$M$37,SMALL(IF('Master Template'!$F$8:$F$37=$BY54,ROW('Master Template'!$F$8:$F$37)-7,\"\"),COLUMNS($BZ$4:CA54))),\"\")","v":""},{"$f":"IFERROR(INDEX('Master Template'!$M$8:$M$37,SMALL(IF('Master Template'!$F$8:$F$37=$BY54,ROW('Master Template'!$F$8:$F$37)-7,\"\"),COLUMNS($BZ$4:CB54))),\"\")","v":""},{"$f":"IFERROR(INDEX('Master Template'!$M$8:$M$37,SMALL(IF('Master Template'!$F$8:$F$37=$BY54,ROW('Master Template'!$F$8:$F$37)-7,\"\"),COLUMNS($BZ$4:CC54))),\"\")","v":""},{"$f":"IFERROR(VLOOKUP(BZ54,'Master Template'!$B$73:$C$83,2,FALSE),\"\")","v":""},{"$f":"IFERROR(VLOOKUP(CA54,'Master Template'!$B$73:$C$83,2,FALSE),\"\")","v":""},{"$f":"IFERROR(VLOOKUP(CB54,'Master Template'!$B$73:$C$83,2,FALSE),\"\")","v":""},{"$f":"IFERROR(VLOOKUP(CC54,'Master Template'!$B$73:$C$83,2,FALSE),\"\")","v":""},""]
[null,null,null,null,null,null,null,null,null,null,null,null,null,null,null,null,null,null,null,null,null,null,null,null,null,null,null,null,null,null,null,null,null,null,null,null,null,{"$f":"'List Data'!K20","v":"Staff19"},{"$f":"COUNTIFS($J$8:$J$37,\"yes\",$K$8:$K$37,'List Data'!K20,$R$8:$R$37,\"Yes\")","v":0},{"$f":"COUNTIFS($J$8:$J$37,\"No\",$K$8:$K$37,'List Data'!K20,$R$8:$R$37,\"Yes\")","v":0},"",null,null,null,null,null,null,null,null,null,null,null,null,null,null,null,null,null,null,null,null,null,null,null,null,null,null,null,null,null,null,null,null,null,null,null,{"$f":"'List Data'!B52","v":"204-1"},{"$f":"IFERROR(INDEX('Master Template'!$M$8:$M$37,SMALL(IF('Master Template'!$F$8:$F$37=$BY55,ROW('Master Template'!$F$8:$F$37)-7,\"\"),COLUMNS($BZ$4:BZ55))),\"\")","v":""},{"$f":"IFERROR(INDEX('Master Template'!$M$8:$M$37,SMALL(IF('Master Template'!$F$8:$F$37=$BY55,ROW('Master Template'!$F$8:$F$37)-7,\"\"),COLUMNS($BZ$4:CA55))),\"\")","v":""},{"$f":"IFERROR(INDEX('Master Template'!$M$8:$M$37,SMALL(IF('Master Template'!$F$8:$F$37=$BY55,ROW('Master Template'!$F$8:$F$37)-7,\"\"),COLUMNS($BZ$4:CB55))),\"\")","v":""},{"$f":"IFERROR(INDEX('Master Template'!$M$8:$M$37,SMALL(IF('Master Template'!$F$8:$F$37=$BY55,ROW('Master Template'!$F$8:$F$37)-7,\"\"),COLUMNS($BZ$4:CC55))),\"\")","v":""},{"$f":"IFERROR(VLOOKUP(BZ55,'Master Template'!$B$73:$C$83,2,FALSE),\"\")","v":""},{"$f":"IFERROR(VLOOKUP(CA55,'Master Template'!$B$73:$C$83,2,FALSE),\"\")","v":""},{"$f":"IFERROR(VLOOKUP(CB55,'Master Template'!$B$73:$C$83,2,FALSE),\"\")","v":""},{"$f":"IFERROR(VLOOKUP(CC55,'Master Template'!$B$73:$C$83,2,FALSE),\"\")","v":""},""]
[null,null,null,null,null,null,null,null,null,null,null,null,null,null,null,null,null,null,null,null,null,null,null,null,null,null,null,null,null,null,null,null,null,null,null,null,null,{"$f":"'List Data'!K21","v":"Staff20"},{"$f":"COUNTIFS($J$8:$J$37,\"yes\",$K$8:$K$37,'List Data'!K21,$R$8:$R$37,\"Yes\")","v":0},{"$f":"COUNTIFS($J$8:$J$37,\"No\",$K$8:$K$37,'List Data'!K21,$R$8:$R$37,\"Yes\")","v":0},"",null,null,null,null,null,null,null,null,null,null,null,null,null,null,null,null,null,null,null,null,null,null,null,null,null,null,null,null,null,null,null,null,null,null,null,{"$f":"'List Data'!B53","v":"204-2"},{"$f":"IFERROR(INDEX('Master Template'!$M$8:$M$37,SMALL(IF('Master Template'!$F$8:$F$37=$BY56,ROW('Master Template'!$F$8:$F$37)-7,\"\"),COLUMNS($BZ$4:BZ56))),\"\")","v":""},{"$f":"IFERROR(INDEX('Master Template'!$M$8:$M$37,SMALL(IF('Master Template'!$F$8:$F$37=$BY56,ROW('Master Template'!$F$8:$F$37)-7,\"\"),COLUMNS($BZ$4:CA56))),\"\")","v":""},{"$f":"IFERROR(INDEX('Master Template'!$M$8:$M$37,SMALL(IF('Master Template'!$F$8:$F$37=$BY56,ROW('Master Template'!$F$8:$F$37)-7,\"\"),COLUMNS($BZ$4:CB56))),\"\")","v":""},{"$f":"IFERROR(INDEX('Master Template'!$M$8:$M$37,SMALL(IF('Master Template'!$F$8:$F$37=$BY56,ROW('Master Template'!$F$8:$F$37)-7,\"\"),COLUMNS($BZ$4:CC56))),\"\")","v":""},{"$f":"IFERROR(VLOOKUP(BZ56,'Master Template'!$B$73:$C$83,2,FALSE),\"\")","v":""},{"$f":"IFERROR(VLOOKUP(CA56,'Master Template'!$B$73:$C$83,2,FALSE),\"\")","v":""},{"$f":"IFERROR(VLOOKUP(CB56,'Master Template'!$B$73:$C$83,2,FALSE),\"\")","v":""},{"$f":"IFERROR(VLOOKUP(CC56,'Master Template'!$B$73:$C$83,2,FALSE),\"\")","v":""},""]
[null,null,null,null,null,null,null,null,null,null,null,null,null,null,null,null,null,null,null,null,null,null,null,null,null,null,null,null,null,null,null,null,null,null,null,null,null,{"$f":"'List Data'!K22","v":"Staff21"},{"$f":"COUNTIFS($J$8:$J$37,\"yes\",$K$8:$K$37,'List Data'!K22,$R$8:$R$37,\"Yes\")","v":0},{"$f":"COUNTIFS($J$8:$J$37,\"No\",$K$8:$K$37,'List Data'!K22,$R$8:$R$37,\"Yes\")","v":0},"",null,null,null,null,null,null,null,null,null,null,null,null,null,null,null,null,null,null,null,null,null,null,null,null,null,null,null,null,null,null,null,null,null,null,null,{"$f":"'List Data'!B54","v":"205-1"},{"$f":"IFERROR(INDEX('Master Template'!$M$8:$M$37,SMALL(IF('Master Template'!$F$8:$F$37=$BY57,ROW('Master Template'!$F$8:$F$37)-7,\"\"),COLUMNS($BZ$4:BZ57))),\"\")","v":""},{"$f":"IFERROR(INDEX('Master Template'!$M$8:$M$37,SMALL(IF('Master Template'!$F$8:$F$37=$BY57,ROW('Master Template'!$F$8:$F$37)-7,\"\"),COLUMNS($BZ$4:CA57))),\"\")","v":""},{"$f":"IFERROR(INDEX('Master Template'!$M$8:$M$37,SMALL(IF('Master Template'!$F$8:$F$37=$BY57,ROW('Master Template'!$F$8:$F$37)-7,\"\"),COLUMNS($BZ$4:CB57))),\"\")","v":""},{"$f":"IFERROR(INDEX('Master Template'!$M$8:$M$37,SMALL(IF('Master Template'!$F$8:$F$37=$BY57,ROW('Master Template'!$F$8:$F$37)-7,\"\"),COLUMNS($BZ$4:CC57))),\"\")","v":""},{"$f":"IFERROR(VLOOKUP(BZ57,'Master Template'!$B$73:$C$83,2,FALSE),\"\")","v":""},{"$f":"IFERROR(VLOOKUP(CA57,'Master Template'!$B$73:$C$83,2,FALSE),\"\")","v":""},{"$f":"IFERROR(VLOOKUP(CB57,'Master Template'!$B$73:$C$83,2,FALSE),\"\")","v":""},{"$f":"IFERROR(VLOOKUP(CC57,'Master Template'!$B$73:$C$83,2,FALSE),\"\")","v":""},""]
[null,null,null,null,null,null,null,null,null,null,null,null,null,null,null,null,null,null,null,null,null,null,null,null,null,null,null,null,null,null,null,null,null,null,null,null,null,{"$f":"'List Data'!K23","v":"Staff22"},{"$f":"COUNTIFS($J$8:$J$37,\"yes\",$K$8:$K$37,'List Data'!K23,$R$8:$R$37,\"Yes\")","v":0},{"$f":"COUNTIFS($J$8:$J$37,\"No\",$K$8:$K$37,'List Data'!K23,$R$8:$R$37,\"Yes\")","v":0},"",null,null,null,null,null,null,null,null,null,null,null,null,null,null,null,null,null,null,null,null,null,null,null,null,null,null,null,null,null,null,null,null,null,null,null,{"$f":"'List Data'!B55","v":"205-2"},{"$f":"IFERROR(INDEX('Master Template'!$M$8:$M$37,SMALL(IF('Master Template'!$F$8:$F$37=$BY58,ROW('Master Template'!$F$8:$F$37)-7,\"\"),COLUMNS($BZ$4:BZ58))),\"\")","v":""},{"$f":"IFERROR(INDEX('Master Template'!$M$8:$M$37,SMALL(IF('Master Template'!$F$8:$F$37=$BY58,ROW('Master Template'!$F$8:$F$37)-7,\"\"),COLUMNS($BZ$4:CA58))),\"\")","v":""},{"$f":"IFERROR(INDEX('Master Template'!$M$8:$M$37,SMALL(IF('Master Template'!$F$8:$F$37=$BY58,ROW('Master Template'!$F$8:$F$37)-7,\"\"),COLUMNS($BZ$4:CB58))),\"\")","v":""},{"$f":"IFERROR(INDEX('Master Template'!$M$8:$M$37,SMALL(IF('Master Template'!$F$8:$F$37=$BY58,ROW('Master Template'!$F$8:$F$37)-7,\"\"),COLUMNS($BZ$4:CC58))),\"\")","v":""},{"$f":"IFERROR(VLOOKUP(BZ58,'Master Template'!$B$73:$C$83,2,FALSE),\"\")","v":""},{"$f":"IFERROR(VLOOKUP(CA58,'Master Template'!$B$73:$C$83,2,FALSE),\"\")","v":""},{"$f":"IFERROR(VLOOKUP(CB58,'Master Template'!$B$73:$C$83,2,FALSE),\"\")","v":""},{"$f":"IFERROR(VLOOKUP(CC58,'Master Template'!$B$73:$C$83,2,FALSE),\"\")","v":""},""]
[null,null,null,null,null,null,null,null,null,null,null,null,null,null,null,null,null,null,null,null,null,null,null,null,null,null,null,null,null,null,null,null,null,null,null,null,null,{"$f":"'List Data'!K24","v":"Staff23"},{"$f":"COUNTIFS($J$8:$J$37,\"yes\",$K$8:$K$37,'List Data'!K24,$R$8:$R$37,\"Yes\")","v":0},{"$f":"COUNTIFS($J$8:$J$37,\"No\",$K$8:$K$37,'List Data'!K24,$R$8:$R$37,\"Yes\")","v":0},"",null,null,null,null,null,null,null,null,null,null,null,null,null,null,null,null,null,null,null,null,null,null,null,null,null,null,null,null,null,null,null,null,null,null,null,{"$f":"'List Data'!B56","v":"206-1"},{"$f":"IFERROR(INDEX('Master Template'!$M$8:$M$37,SMALL(IF('Master Template'!$F$8:$F$37=$BY59,ROW('Master Template'!$F$8:$F$37)-7,\"\"),COLUMNS($BZ$4:BZ59))),\"\")","v":""},{"$f":"IFERROR(INDEX('Master Template'!$M$8:$M$37,SMALL(IF('Master Template'!$F$8:$F$37=$BY59,ROW('Master Template'!$F$8:$F$37)-7,\"\"),COLUMNS($BZ$4:CA59))),\"\")","v":""},{"$f":"IFERROR(INDEX('Master Template'!$M$8:$M$37,SMALL(IF('Master Template'!$F$8:$F$37=$BY59,ROW('Master Template'!$F$8:$F$37)-7,\"\"),COLUMNS($BZ$4:CB59))),\"\")","v":""},{"$f":"IFERROR(INDEX('Master Template'!$M$8:$M$37,SMALL(IF('Master Template'!$F$8:$F$37=$BY59,ROW('Master Template'!$F$8:$F$37)-7,\"\"),COLUMNS($BZ$4:CC59))),\"\")","v":""},{"$f":"IFERROR(VLOOKUP(BZ59,'Master Template'!$B$73:$C$83,2,FALSE),\"\")","v":""},{"$f":"IFERROR(VLOOKUP(CA59,'Master Template'!$B$73:$C$83,2,FALSE),\"\")","v":""},{"$f":"IFERROR(VLOOKUP(CB59,'Master Template'!$B$73:$C$83,2,FALSE),\"\")","v":""},{"$f":"IFERROR(VLOOKUP(CC59,'Master Template'!$B$73:$C$83,2,FALSE),\"\")","v":""},""]
[null,null,null,null,null,null,null,null,null,null,null,null,null,null,null,null,null,null,null,null,null,null,null,null,null,null,null,null,null,null,null,null,null,null,null,null,null,{"$f":"'List Data'!K25","v":"Staff24"},{"$f":"COUNTIFS($J$8:$J$37,\"yes\",$K$8:$K$37,'List Data'!K25,$R$8:$R$37,\"Yes\")","v":0},{"$f":"COUNTIFS($J$8:$J$37,\"No\",$K$8:$K$37,'List Data'!K25,$R$8:$R$37,\"Yes\")","v":0},"",null,null,null,null,null,null,null,null,null,null,null,null,null,null,null,null,null,null,null,null,null,null,null,null,null,null,null,null,null,null,null,null,null,null,null,{"$f":"'List Data'!B57","v":"206-2"},{"$f":"IFERROR(INDEX('Master Template'!$M$8:$M$37,SMALL(IF('Master Template'!$F$8:$F$37=$BY60,ROW('Master Template'!$F$8:$F$37)-7,\"\"),COLUMNS($BZ$4:BZ60))),\"\")","v":""},{"$f":"IFERROR(INDEX('Master Template'!$M$8:$M$37,SMALL(IF('Master Template'!$F$8:$F$37=$BY60,ROW('Master Template'!$F$8:$F$37)-7,\"\"),COLUMNS($BZ$4:CA60))),\"\")","v":""},{"$f":"IFERROR(INDEX('Master Template'!$M$8:$M$37,SMALL(IF('Master Template'!$F$8:$F$37=$BY60,ROW('Master Template'!$F$8:$F$37)-7,\"\"),COLUMNS($BZ$4:CB60))),\"\")","v":""},{"$f":"IFERROR(INDEX('Master Template'!$M$8:$M$37,SMALL(IF('Master Template'!$F$8:$F$37=$BY60,ROW('Master Template'!$F$8:$F$37)-7,\"\"),COLUMNS($BZ$4:CC60))),\"\")","v":""},{"$f":"IFERROR(VLOOKUP(BZ60,'Master Template'!$B$73:$C$83,2,FALSE),\"\")","v":""},{"$f":"IFERROR(VLOOKUP(CA60,'Master Template'!$B$73:$C$83,2,FALSE),\"\")","v":""},{"$f":"IFERROR(VLOOKUP(CB60,'Master Template'!$B$73:$C$83,2,FALSE),\"\")","v":""},{"$f":"IFERROR(VLOOKUP(CC60,'Master Template'!$B$73:$C$83,2,FALSE),\"\")","v":""},""]
[null,null,null,null,null,null,null,null,null,null,null,null,null,null,null,null,null,null,null,null,null,null,null,null,null,null,null,null,null,null,null,null,null,null,null,null,null,{"$f":"'List Data'!K26","v":"Staff25"},{"$f":"COUNTIFS($J$8:$J$37,\"yes\",$K$8:$K$37,'List Data'!K26,$R$8:$R$37,\"Yes\")","v":0},{"$f":"COUNTIFS($J$8:$J$37,\"No\",$K$8:$K$37,'List Data'!K26,$R$8:$R$37,\"Yes\")","v":0},"",null,null,null,null,null,null,null,null,null,null,null,null,null,null,null,null,null,null,null,null,null,null,null,null,null,null,null,null,null,null,null,null,null,null,null,{"$f":"'List Data'!B58","v":"207-1"},{"$f":"IFERROR(INDEX('Master Template'!$M$8:$M$37,SMALL(IF('Master Template'!$F$8:$F$37=$BY61,ROW('Master Template'!$F$8:$F$37)-7,\"\"),COLUMNS($BZ$4:BZ61))),\"\")","v":""},{"$f":"IFERROR(INDEX('Master Template'!$M$8:$M$37,SMALL(IF('Master Template'!$F$8:$F$37=$BY61,ROW('Master Template'!$F$8:$F$37)-7,\"\"),COLUMNS($BZ$4:CA61))),\"\")","v":""},{"$f":"IFERROR(INDEX('Master Template'!$M$8:$M$37,SMALL(IF('Master Template'!$F$8:$F$37=$BY61,ROW('Master Template'!$F$8:$F$37)-7,\"\"),COLUMNS($BZ$4:CB61))),\"\")","v":""},{"$f":"IFERROR(INDEX('Master Template'!$M$8:$M$37,SMALL(IF('Master Template'!$F$8:$F$37=$BY61,ROW('Master Template'!$F$8:$F$37)-7,\"\"),COLUMNS($BZ$4:CC61))),\"\")","v":""},{"$f":"IFERROR(VLOOKUP(BZ61,'Master Template'!$B$73:$C$83,2,FALSE),\"\")","v":""},{"$f":"IFERROR(VLOOKUP(CA61,'Master Template'!$B$73:$C$83,2,FALSE),\"\")","v":""},{"$f":"IFERROR(VLOOKUP(CB61,'Master Template'!$B$73:$C$83,2,FALSE),\"\")","v":""},{"$f":"IFERROR(VLOOKUP(CC61,'Master Template'!$B$73:$C$83,2,FALSE),\"\")","v":""},""]
[null,null,null,null,null,null,null,null,null,null,null,null,null,null,null,null,null,null,null,null,null,null,null,null,null,null,null,null,null,null,null,null,null,null,null,null,null,{"$f":"'List Data'!K27","v":"Staff26"},{"$f":"COUNTIFS($J$8:$J$37,\"yes\",$K$8:$K$37,'List Data'!K27,$R$8:$R$37,\"Yes\")","v":0},{"$f":"COUNTIFS($J$8:$J$37,\"No\",$K$8:$K$37,'List Data'!K27,$R$8:$R$37,\"Yes\")","v":0},"",null,null,null,null,null,null,null,null,null,null,null,null,null,null,null,null,null,null,null,null,null,null,null,null,null,null,null,null,null,null,null,null,null,null,null,{"$f":"'List Data'!B59","v":"207-2"},{"$f":"IFERROR(INDEX('Master Template'!$M$8:$M$37,SMALL(IF('Master Template'!$F$8:$F$37=$BY62,ROW('Master Template'!$F$8:$F$37)-7,\"\"),COLUMNS($BZ$4:BZ62))),\"\")","v":""},{"$f":"IFERROR(INDEX('Master Template'!$M$8:$M$37,SMALL(IF('Master Template'!$F$8:$F$37=$BY62,ROW('Master Template'!$F$8:$F$37)-7,\"\"),COLUMNS($BZ$4:CA62))),\"\")","v":""},{"$f":"IFERROR(INDEX('Master Template'!$M$8:$M$37,SMALL(IF('Master Template'!$F$8:$F$37=$BY62,ROW('Master Template'!$F$8:$F$37)-7,\"\"),COLUMNS($BZ$4:CB62))),\"\")","v":""},{"$f":"IFERROR(INDEX('Master Template'!$M$8:$M$37,SMALL(IF('Master Template'!$F$8:$F$37=$BY62,ROW('Master Template'!$F$8:$F$37)-7,\"\"),COLUMNS($BZ$4:CC62))),\"\")","v":""},{"$f":"IFERROR(VLOOKUP(BZ62,'Master Template'!$B$73:$C$83,2,FALSE),\"\")","v":""},{"$f":"IFERROR(VLOOKUP(CA62,'Master Template'!$B$73:$C$83,2,FALSE),\"\")","v":""},{"$f":"IFERROR(VLOOKUP(CB62,'Master Template'!$B$73:$C$83,2,FALSE),\"\")","v":""},{"$f":"IFERROR(VLOOKUP(CC62,'Master Template'!$B$73:$C$83,2,FALSE),\"\")","v":""},""]
[null,null,null,null,null,null,null,null,null,null,null,null,null,null,null,null,null,null,null,null,null,null,null,null,null,null,null,null,null,null,null,null,null,null,null,null,null,{"$f":"'List Data'!K28","v":"Staff27"},{"$f":"COUNTIFS($J$8:$J$37,\"yes\",$K$8:$K$37,'List Data'!K28,$R$8:$R$37,\"Yes\")","v":0},{"$f":"COUNTIFS($J$8:$J$37,\"No\",$K$8:$K$37,'List Data'!K28,$R$8:$R$37,\"Yes\")","v":0},"",null,null,null,null,null,null,null,null,null,null,null,null,null,null,null,null,null,null,null,null,null,null,null,null,null,null,null,null,null,null,null,null,null,null,null,{"$f":"'List Data'!B60","v":"208-1"},{"$f":"IFERROR(INDEX('Master Template'!$M$8:$M$37,SMALL(IF('Master Template'!$F$8:$F$37=$BY63,ROW('Master Template'!$F$8:$F$37)-7,\"\"),COLUMNS($BZ$4:BZ63))),\"\")","v":""},{"$f":"IFERROR(INDEX('Master Template'!$M$8:$M$37,SMALL(IF('Master Template'!$F$8:$F$37=$BY63,ROW('Master Template'!$F$8:$F$37)-7,\"\"),COLUMNS($BZ$4:CA63))),\"\")","v":""},{"$f":"IFERROR(INDEX('Master Template'!$M$8:$M$37,SMALL(IF('Master Template'!$F$8:$F$37=$BY63,ROW('Master Template'!$F$8:$F$37)-7,\"\"),COLUMNS($BZ$4:CB63))),\"\")","v":""},{"$f":"IFERROR(INDEX('Master Template'!$M$8:$M$37,SMALL(IF('Master Template'!$F$8:$F$37=$BY63,ROW('Master Template'!$F$8:$F$37)-7,\"\"),COLUMNS($BZ$4:CC63))),\"\")","v":""},{"$f":"IFERROR(VLOOKUP(BZ63,'Master Template'!$B$73:$C$83,2,FALSE),\"\")","v":""},{"$f":"IFERROR(VLOOKUP(CA63,'Master Template'!$B$73:$C$83,2,FALSE),\"\")","v":""},{"$f":"IFERROR(VLOOKUP(CB63,'Master Template'!$B$73:$C$83,2,FALSE),\"\")","v":""},{"$f":"IFERROR(VLOOKUP(CC63,'Master Template'!$B$73:$C$83,2,FALSE),\"\")","v":""},""]
[null,null,null,null,null,null,null,null,null,null,null,null,null,null,null,null,null,null,null,null,null,null,null,null,null,null,null,null,null,null,null,null,null,null,null,null,null,{"$f":"'List Data'!K29","v":"Staff28"},{"$f":"COUNTIFS($J$8:$J$37,\"yes\",$K$8:$K$37,'List Data'!K29,$R$8:$R$37,\"Yes\")","v":0},{"$f":"COUNTIFS($J$8:$J$37,\"No\",$K$8:$K$37,'List Data'!K29,$R$8:$R$37,\"Yes\")","v":0},"",null,null,null,null,null,null,null,null,null,null,null,null,null,null,null,null,null,null,null,null,null,null,null,null,null,null,null,null,null,null,null,null,null,null,null,{"$f":"'List Data'!B61","v":"208-2"},{"$f":"IFERROR(INDEX('Master Template'!$M$8:$M$37,SMALL(IF('Master Template'!$F$8:$F$37=$BY64,ROW('Master Template'!$F$8:$F$37)-7,\"\"),COLUMNS($BZ$4:BZ64))),\"\")","v":""},{"$f":"IFERROR(INDEX('Master Template'!$M$8:$M$37,SMALL(IF('Master Template'!$F$8:$F$37=$BY64,ROW('Master Template'!$F$8:$F$37)-7,\"\"),COLUMNS($BZ$4:CA64))),\"\")","v":""},{"$f":"IFERROR(INDEX('Master Template'!$M$8:$M$37,SMALL(IF('Master Template'!$F$8:$F$37=$BY64,ROW('Master Template'!$F$8:$F$37)-7,\"\"),COLUMNS($BZ$4:CB64))),\"\")","v":""},{"$f":"IFERROR(INDEX('Master Template'!$M$8:$M$37,SMALL(IF('Master Template'!$F$8:$F$37=$BY64,ROW('Master Template'!$F$8:$F$37)-7,\"\"),COLUMNS($BZ$4:CC64))),\"\")","v":""},{"$f":"IFERROR(VLOOKUP(BZ64,'Master Template'!$B$73:$C$83,2,FALSE),\"\")","v":""},{"$f":"IFERROR(VLOOKUP(CA64,'Master Template'!$B$73:$C$83,2,FALSE),\"\")","v":""},{"$f":"IFERROR(VLOOKUP(CB64,'Master Template'!$B$73:$C$83,2,FALSE),\"\")","v":""},{"$f":"IFERROR(VLOOKUP(CC64,'Master Template'!$B$73:$C$83,2,FALSE),\"\")","v":""},""]
[null,null,null,null,null,null,null,null,null,null,null,null,null,null,null,null,null,null,null,null,null,null,null,null,null,null,null,null,null,null,null,null,null,null,null,null,null,{"$f":"'List Data'!K30","v":"Staff29"},{"$f":"COUNTIFS($J$8:$J$37,\"yes\",$K$8:$K$37,'List Data'!K30,$R$8:$R$37,\"Yes\")","v":0},{"$f":"COUNTIFS($J$8:$J$37,\"No\",$K$8:$K$37,'List Data'!K30,$R$8:$R$37,\"Yes\")","v":0},"",null,null,null,null,null,null,null,null,null,null,null,null,null,null,null,null,null,null,null,null,null,null,null,null,null,null,null,null,null,null,null,null,null,null,null,{"$f":"'List Data'!B62","v":"209-1"},{"$f":"IFERROR(INDEX('Master Template'!$M$8:$M$37,SMALL(IF('Master Template'!$F$8:$F$37=$BY65,ROW('Master Template'!$F$8:$F$37)-7,\"\"),COLUMNS($BZ$4:BZ65))),\"\")","v":""},{"$f":"IFERROR(INDEX('Master Template'!$M$8:$M$37,SMALL(IF('Master Template'!$F$8:$F$37=$BY65,ROW('Master Template'!$F$8:$F$37)-7,\"\"),COLUMNS($BZ$4:CA65))),\"\")","v":""},{"$f":"IFERROR(INDEX('Master Template'!$M$8:$M$37,SMALL(IF('Master Template'!$F$8:$F$37=$BY65,ROW('Master Template'!$F$8:$F$37)-7,\"\"),COLUMNS($BZ$4:CB65))),\"\")","v":""},{"$f":"IFERROR(INDEX('Master Template'!$M$8:$M$37,SMALL(IF('Master Template'!$F$8:$F$37=$BY65,ROW('Master Template'!$F$8:$F$37)-7,\"\"),COLUMNS($BZ$4:CC65))),\"\")","v":""},{"$f":"IFERROR(VLOOKUP(BZ65,'Master Template'!$B$73:$C$83,2,FALSE),\"\")","v":""},{"$f":"IFERROR(VLOOKUP(CA65,'Master Template'!$B$73:$C$83,2,FALSE),\"\")","v":""},{"$f":"IFERROR(VLOOKUP(CB65,'Master Template'!$B$73:$C$83,2,FALSE),\"\")","v":""},{"$f":"IFERROR(VLOOKUP(CC65,'Master Template'!$B$73:$C$83,2,FALSE),\"\")","v":""},{"$f":"IF(CD65=\"\",\"\",IF(CE65=\"\",CD65,IF(CF65=\"\",CD65&\",\"&CE65,IF(CG65=\"\",CD65&\",\"&CE65&\",\"&CF65,CD65&\",\"&CE65&\",\"&CF65&\",\"&CG65))))","v":""}]
[null,null,null,null,null,null,null,null,null,null,null,null,null,null,null,null,null,null,null,null,null,null,null,null,null,null,null,null,null,null,null,null,null,null,null,null,null,{"$f":"'List Data'!K31","v":"Staff30"},{"$f":"COUNTIFS($J$8:$J$37,\"yes\",$K$8:$K$37,'List Data'!K31,$R$8:$R$37,\"Yes\")","v":0},{"$f":"COUNTIFS($J$8:$J$37,\"No\",$K$8:$K$37,'List Data'!K31,$R$8:$R$37,\"Yes\")","v":0},"",null,null,null,null,null,null,null,null,null,null,null,null,null,null,null,null,null,null,null,null,null,null,null,null,null,null,null,null,null,null,null,null,null,null,null,{"$f":"'List Data'!B63","v":"209-2"},{"$f":"IFERROR(INDEX('Master Template'!$M$8:$M$37,SMALL(IF('Master Template'!$F$8:$F$37=$BY66,ROW('Master Template'!$F$8:$F$37)-7,\"\"),COLUMNS($BZ$4:BZ66))),\"\")","v":""},{"$f":"IFERROR(INDEX('Master Template'!$M$8:$M$37,SMALL(IF('Master Template'!$F$8:$F$37=$BY66,ROW('Master Template'!$F$8:$F$37)-7,\"\"),COLUMNS($BZ$4:CA66))),\"\")","v":""},{"$f":"IFERROR(INDEX('Master Template'!$M$8:$M$37,SMALL(IF('Master Template'!$F$8:$F$37=$BY66,ROW('Master Template'!$F$8:$F$37)-7,\"\"),COLUMNS($BZ$4:CB66))),\"\")","v":""},{"$f":"IFERROR(INDEX('Master Template'!$M$8:$M$37,SMALL(IF('Master Template'!$F$8:$F$37=$BY66,ROW('Master Template'!$F$8:$F$37)-7,\"\"),COLUMNS($BZ$4:CC66))),\"\")","v":""},{"$f":"IFERROR(VLOOKUP(BZ66,'Master Template'!$B$73:$C$83,2,FALSE),\"\")","v":""},{"$f":"IFERROR(VLOOKUP(CA66,'Master Template'!$B$73:$C$83,2,FALSE),\"\")","v":""},{"$f":"IFERROR(VLOOKUP(CB66,'Master Template'!$B$73:$C$83,2,FALSE),\"\")","v":""},{"$f":"IFERROR(VLOOKUP(CC66,'Master Template'!$B$73:$C$83,2,FALSE),\"\")","v":""},""]
[null,null,null,null,null,null,null,null,null,null,null,null,null,null,null,null,null,null,null,null,null,null,null,null,null,null,null,null,null,null,null,null,null,null,null,null,null,{"$f":"'List Data'!K32","v":"Staff31"},{"$f":"COUNTIFS($J$8:$J$37,\"yes\",$K$8:$K$37,'List Data'!K32,$R$8:$R$37,\"Yes\")","v":0},{"$f":"COUNTIFS($J$8:$J$37,\"No\",$K$8:$K$37,'List Data'!K32,$R$8:$R$37,\"Yes\")","v":0},{"$f":"IFERROR(AM67/(AN67+AM67),\"\")","v":""},null,null,null,null,null,null,null,null,null,null,null,null,null,null,null,null,null,null,null,null,null,null,null,null,null,null,null,null,null,null,null,null,null,null,null,{"$f":"'List Data'!B64","v":"210-1"},{"$f":"IFERROR(INDEX('Master Template'!$M$8:$M$37,SMALL(IF('Master Template'!$F$8:$F$37=$BY67,ROW('Master Template'!$F$8:$F$37)-7,\"\"),COLUMNS($BZ$4:BZ67))),\"\")","v":""},{"$f":"IFERROR(INDEX('Master Template'!$M$8:$M$37,SMALL(IF('Master Template'!$F$8:$F$37=$BY67,ROW('Master Template'!$F$8:$F$37)-7,\"\"),COLUMNS($BZ$4:CA67))),\"\")","v":""},{"$f":"IFERROR(INDEX('Master Template'!$M$8:$M$37,SMALL(IF('Master Template'!$F$8:$F$37=$BY67,ROW('Master Template'!$F$8:$F$37)-7,\"\"),COLUMNS($BZ$4:CB67))),\"\")","v":""},{"$f":"IFERROR(INDEX('Master Template'!$M$8:$M$37,SMALL(IF('Master Template'!$F$8:$F$37=$BY67,ROW('Master Template'!$F$8:$F$37)-7,\"\"),COLUMNS($BZ$4:CC67))),\"\")","v":""},{"$f":"IFERROR(VLOOKUP(BZ67,'Master Template'!$B$73:$C$83,2,FALSE),\"\")","v":""},{"$f":"IFERROR(VLOOKUP(CA67,'Master Template'!$B$73:$C$83,2,FALSE),\"\")","v":""},{"$f":"IFERROR(VLOOKUP(CB67,'Master Template'!$B$73:$C$83,2,FALSE),\"\")","v":""},{"$f":"IFERROR(VLOOKUP(CC67,'Master Template'!$B$73:$C$83,2,FALSE),\"\")","v":""},""]
[null,null,null,null,null,null,null,null,null,null,null,null,null,null,null,null,null,null,null,null,null,null,null,null,null,null,null,null,null,null,null,null,null,null,null,null,null,{"$f":"'List Data'!K33","v":"Staff32"},{"$f":"COUNTIFS($J$8:$J$37,\"yes\",$K$8:$K$37,'List Data'!K33,$R$8:$R$37,\"Yes\")","v":0},{"$f":"COUNTIFS($J$8:$J$37,\"No\",$K$8:$K$37,'List Data'!K33,$R$8:$R$37,\"Yes\")","v":0},"",null,null,null,null,null,null,null,null,null,null,null,null,null,null,null,null,null,null,null,null,null,null,null,null,null,null,null,null,null,null,null,null,null,null,null,{"$f":"'List Data'!B65","v":"210-2"},{"$f":"IFERROR(INDEX('Master Template'!$M$8:$M$37,SMALL(IF('Master Template'!$F$8:$F$37=$BY68,ROW('Master Template'!$F$8:$F$37)-7,\"\"),COLUMNS($BZ$4:BZ68))),\"\")","v":""},{"$f":"IFERROR(INDEX('Master Template'!$M$8:$M$37,SMALL(IF('Master Template'!$F$8:$F$37=$BY68,ROW('Master Template'!$F$8:$F$37)-7,\"\"),COLUMNS($BZ$4:CA68))),\"\")","v":""},{"$f":"IFERROR(INDEX('Master Template'!$M$8:$M$37,SMALL(IF('Master Template'!$F$8:$F$37=$BY68,ROW('Master Template'!$F$8:$F$37)-7,\"\"),COLUMNS($BZ$4:CB68))),\"\")","v":""},{"$f":"IFERROR(INDEX('Master Template'!$M$8:$M$37,SMALL(IF('Master Template'!$F$8:$F$37=$BY68,ROW('Master Template'!$F$8:$F$37)-7,\"\"),COLUMNS($BZ$4:CC68))),\"\")","v":""},{"$f":"IFERROR(VLOOKUP(BZ68,'Master Template'!$B$73:$C$83,2,FALSE),\"\")","v":""},{"$f":"IFERROR(VLOOKUP(CA68,'Master Template'!$B$73:$C$83,2,FALSE),\"\")","v":""},{"$f":"IFERROR(VLOOKUP(CB68,'Master Template'!$B$73:$C$83,2,FALSE),\"\")","v":""},{"$f":"IFERROR(VLOOKUP(CC68,'Master Template'!$B$73:$C$83,2,FALSE),\"\")","v":""},""]
[null,null,null,null,null,null,null,null,null,null,null,null,null,null,null,null,null,null,null,null,null,null,null,null,null,null,null,null,null,null,null,null,null,null,null,null,null,{"$f":"'List Data'!K34","v":"Staff33"},{"$f":"COUNTIFS($J$8:$J$37,\"yes\",$K$8:$K$37,'List Data'!K34,$R$8:$R$37,\"Yes\")","v":0},{"$f":"COUNTIFS($J$8:$J$37,\"No\",$K$8:$K$37,'List Data'!K34,$R$8:$R$37,\"Yes\")","v":0},"",null,null,null,null,null,null,null,null,null,null,null,null,null,null,null,null,null,null,null,null,null,null,null,null,null,null,null,null,null,null,null,null,null,null,null,{"$f":"'List Data'!B66","v":"211-1"},{"$f":"IFERROR(INDEX('Master Template'!$M$8:$M$37,SMALL(IF('Master Template'!$F$8:$F$37=$BY69,ROW('Master Template'!$F$8:$F$37)-7,\"\"),COLUMNS($BZ$4:BZ69))),\"\")","v":""},{"$f":"IFERROR(INDEX('Master Template'!$M$8:$M$37,SMALL(IF('Master Template'!$F$8:$F$37=$BY69,ROW('Master Template'!$F$8:$F$37)-7,\"\"),COLUMNS($BZ$4:CA69))),\"\")","v":""},{"$f":"IFERROR(INDEX('Master Template'!$M$8:$M$37,SMALL(IF('Master Template'!$F$8:$F$37=$BY69,ROW('Master Template'!$F$8:$F$37)-7,\"\"),COLUMNS($BZ$4:CB69))),\"\")","v":""},{"$f":"IFERROR(INDEX('Master Template'!$M$8:$M$37,SMALL(IF('Master Template'!$F$8:$F$37=$BY69,ROW('Master Template'!$F$8:$F$37)-7,\"\"),COLUMNS($BZ$4:CC69))),\"\")","v":""},{"$f":"IFERROR(VLOOKUP(BZ69,'Master Template'!$B$73:$C$83,2,FALSE),\"\")","v":""},{"$f":"IFERROR(VLOOKUP(CA69,'Master Template'!$B$73:$C$83,2,FALSE),\"\")","v":""},{"$f":"IFERROR(VLOOKUP(CB69,'Master Template'!$B$73:$C$83,2,FALSE),\"\")","v":""},{"$f":"IFERROR(VLOOKUP(CC69,'Master Template'!$B$73:$C$83,2,FALSE),\"\")","v":""},""]
[null,null,null,null,null,null,null,null,null,null,null,null,null,null,null,null,null,null,null,null,null,null,null,null,null,null,null,null,null,null,null,null,null,null,null,null,null,{"$f":"'List Data'!K35","v":"Staff34"},{"$f":"COUNTIFS($J$8:$J$37,\"yes\",$K$8:$K$37,'List Data'!K35,$R$8:$R$37,\"Yes\")","v":0},{"$f":"COUNTIFS($J$8:$J$37,\"No\",$K$8:$K$37,'List Data'!K35,$R$8:$R$37,\"Yes\")","v":0},"",null,null,null,null,null,null,null,null,null,null,null,null,null,null,null,null,null,null,null,null,null,null,null,null,null,null,null,null,null,null,null,null,null,null,null,{"$f":"'List Data'!B67","v":"211-2"},{"$f":"IFERROR(INDEX('Master Template'!$M$8:$M$37,SMALL(IF('Master Template'!$F$8:$F$37=$BY70,ROW('Master Template'!$F$8:$F$37)-7,\"\"),COLUMNS($BZ$4:BZ70))),\"\")","v":""},{"$f":"IFERROR(INDEX('Master Template'!$M$8:$M$37,SMALL(IF('Master Template'!$F$8:$F$37=$BY70,ROW('Master Template'!$F$8:$F$37)-7,\"\"),COLUMNS($BZ$4:CA70))),\"\")","v":""},{"$f":"IFERROR(INDEX('Master Template'!$M$8:$M$37,SMALL(IF('Master Template'!$F$8:$F$37=$BY70,ROW('Master Template'!$F$8:$F$37)-7,\"\"),COLUMNS($BZ$4:CB70))),\"\")","v":""},{"$f":"IFERROR(INDEX('Master Template'!$M$8:$M$37,SMALL(IF('Master Template'!$F$8:$F$37=$BY70,ROW('Master Template'!$F$8:$F$37)-7,\"\"),COLUMNS($BZ$4:CC70))),\"\")","v":""},{"$f":"IFERROR(VLOOKUP(BZ70,'Master Template'!$B$73:$C$83,2,FALSE),\"\")","v":""},{"$f":"IFERROR(VLOOKUP(CA70,'Master Template'!$B$73:$C$83,2,FALSE),\"\")","v":""},{"$f":"IFERROR(VLOOKUP(CB70,'Master Template'!$B$73:$C$83,2,FALSE),\"\")","v":""},{"$f":"IFERROR(VLOOKUP(CC70,'Master Template'!$B$73:$C$83,2,FALSE),\"\")","v":""},""]
["Trend Mapping",null,null,null,null,null,null,null,null,null,null,null,null,"Trend Mapping",null,null,null,null,null,null,null,null,null,null,null,null,null,null,null,null,null,null,null,null,null,null,null,{"$f":"'List Data'!K36","v":"Staff35"},{"$f":"COUNTIFS($J$8:$J$37,\"yes\",$K$8:$K$37,'List Data'!K36,$R$8:$R$37,\"Yes\")","v":0},{"$f":"COUNTIFS($J$8:$J$37,\"No\",$K$8:$K$37,'List Data'!K36,$R$8:$R$37,\"Yes\")","v":0},"",null,null,null,null,null,null,null,null,null,null,null,null,null,null,null,null,null,null,null,null,null,null,null,null,null,null,null,null,null,null,null,null,null,null,null,{"$f":"'List Data'!B68","v":"212-1"},{"$f":"IFERROR(INDEX('Master Template'!$M$8:$M$37,SMALL(IF('Master Template'!$F$8:$F$37=$BY71,ROW('Master Template'!$F$8:$F$37)-7,\"\"),COLUMNS($BZ$4:BZ71))),\"\")","v":""},{"$f":"IFERROR(INDEX('Master Template'!$M$8:$M$37,SMALL(IF('Master Template'!$F$8:$F$37=$BY71,ROW('Master Template'!$F$8:$F$37)-7,\"\"),COLUMNS($BZ$4:CA71))),\"\")","v":""},{"$f":"IFERROR(INDEX('Master Template'!$M$8:$M$37,SMALL(IF('Master Template'!$F$8:$F$37=$BY71,ROW('Master Template'!$F$8:$F$37)-7,\"\"),COLUMNS($BZ$4:CB71))),\"\")","v":""},{"$f":"IFERROR(INDEX('Master Template'!$M$8:$M$37,SMALL(IF('Master Template'!$F$8:$F$37=$BY71,ROW('Master Template'!$F$8:$F$37)-7,\"\"),COLUMNS($BZ$4:CC71))),\"\")","v":""},{"$f":"IFERROR(VLOOKUP(BZ71,'Master Template'!$B$73:$C$83,2,FALSE),\"\")","v":""},{"$f":"IFERROR(VLOOKUP(CA71,'Master Template'!$B$73:$C$83,2,FALSE),\"\")","v":""},{"$f":"IFERROR(VLOOKUP(CB71,'Master Template'!$B$73:$C$83,2,FALSE),\"\")","v":""},{"$f":"IFERROR(VLOOKUP(CC71,'Master Template'!$B$73:$C$83,2,FALSE),\"\")","v":""},""]
[null,"Key",null,null,null,null,null,"First Floor (C Hall)",null,null,null,null,null,null,null,null,null,null,null,"First Floor (C Hall)",null,null,null,null,null,null,null,null,null,null,null,null,null,null,"Key",null,null,{"$f":"'List Data'!K37","v":"Staff36"},{"$f":"COUNTIFS($J$8:$J$37,\"yes\",$K$8:$K$37,'List Data'!K37,$R$8:$R$37,\"Yes\")","v":0},{"$f":"COUNTIFS($J$8:$J$37,\"No\",$K$8:$K$37,'List Data'!K37,$R$8:$R$37,\"Yes\")","v":0},"",null,null,null,null,null,null,null,null,null,null,null,null,null,null,null,null,null,null,null,null,null,null,null,null,null,null,null,null,null,null,null,null,null,null,null,{"$f":"'List Data'!B69","v":"212-2"},{"$f":"IFERROR(INDEX('Master Template'!$M$8:$M$37,SMALL(IF('Master Template'!$F$8:$F$37=$BY72,ROW('Master Template'!$F$8:$F$37)-7,\"\"),COLUMNS($BZ$4:BZ72))),\"\")","v":""},{"$f":"IFERROR(INDEX('Master Template'!$M$8:$M$37,SMALL(IF('Master Template'!$F$8:$F$37=$BY72,ROW('Master Template'!$F$8:$F$37)-7,\"\"),COLUMNS($BZ$4:CA72))),\"\")","v":""},{"$f":"IFERROR(INDEX('Master Template'!$M$8:$M$37,SMALL(IF('Master Template'!$F$8:$F$37=$BY72,ROW('Master Template'!$F$8:$F$37)-7,\"\"),COLUMNS($BZ$4:CB72))),\"\")","v":""},{"$f":"IFERROR(INDEX('Master Template'!$M$8:$M$37,SMALL(IF('Master Template'!$F$8:$F$37=$BY72,ROW('Master Template'!$F$8:$F$37)-7,\"\"),COLUMNS($BZ$4:CC72))),\"\")","v":""},{"$f":"IFERROR(VLOOKUP(BZ72,'Master Template'!$B$73:$C$83,2,FALSE),\"\")","v":""},{"$f":"IFERROR(VLOOKUP(CA72,'Master Template'!$B$73:$C$83,2,FALSE),\"\")","v":""},{"$f":"IFERROR(VLOOKUP(CB72,'Master Template'!$B$73:$C$83,2,FALSE),\"\")","v":""},{"$f":"IFERROR(VLOOKUP(CC72,'Master Template'!$B$73:$C$83,2,FALSE),\"\")","v":""},""]
[null,"UTI","!",null,"002-1","002-2","004-1","004-2","006-1","006-2","008-1","008-2",null,null,"010-1","010-2","012-1","012-2","014-1","014-2","016-1","016-2","018-1","018-2","020-1","020-2","022-1","022-2",null,null,null,null,null,null,"UTI","!",null,{"$f":"'List Data'!K38","v":"Staff37"},{"$f":"COUNTIFS($J$8:$J$37,\"yes\",$K$8:$K$37,'List Data'!K38,$R$8:$R$37,\"Yes\")","v":0},{"$f":"COUNTIFS($J$8:$J$37,\"No\",$K$8:$K$37,'List Data'!K38,$R$8:$R$37,\"Yes\")","v":0},"",null,null,null,null,null,null,null,null,null,null,null,null,null,null,null,null,null,null,null,null,null,null,null,null,null,null,null,null,null,null,null,null,null,null,null,{"$f":"'List Data'!B70","v":"213-1"},{"$f":"IFERROR(INDEX('Master Template'!$M$8:$M$37,SMALL(IF('Master Template'!$F$8:$F$37=$BY73,ROW('Master Template'!$F$8:$F$37)-7,\"\"),COLUMNS($BZ$4:BZ73))),\"\")","v":""},{"$f":"IFERROR(INDEX('Master Template'!$M$8:$M$37,SMALL(IF('Master Template'!$F$8:$F$37=$BY73,ROW('Master Template'!$F$8:$F$37)-7,\"\"),COLUMNS($BZ$4:CA73))),\"\")","v":""},{"$f":"IFERROR(INDEX('Master Template'!$M$8:$M$37,SMALL(IF('Master Template'!$F$8:$F$37=$BY73,ROW('Master Template'!$F$8:$F$37)-7,\"\"),COLUMNS($BZ$4:CB73))),\"\")","v":""},{"$f":"IFERROR(INDEX('Master Template'!$M$8:$M$37,SMALL(IF('Master Template'!$F$8:$F$37=$BY73,ROW('Master Template'!$F$8:$F$37)-7,\"\"),COLUMNS($BZ$4:CC73))),\"\")","v":""},{"$f":"IFERROR(VLOOKUP(BZ73,'Master Template'!$B$73:$C$83,2,FALSE),\"\")","v":""},{"$f":"IFERROR(VLOOKUP(CA73,'Master Template'!$B$73:$C$83,2,FALSE),\"\")","v":""},{"$f":"IFERROR(VLOOKUP(CB73,'Master Template'!$B$73:$C$83,2,FALSE),\"\")","v":""},{"$f":"IFERROR(VLOOKUP(CC73,'Master Template'!$B$73:$C$83,2,FALSE),\"\")","v":""},""]
[null,"CAUTI","@",null,{"$f":"VLOOKUP(E73,'Master Template'!$BY$5:$CH$200,10,TRUE)","v":""},{"$f":"VLOOKUP(F73,'Master Template'!$BY$5:$CH$200,10,TRUE)","v":""},{"$f":"VLOOKUP(G73,'Master Template'!$BY$5:$CH$200,10,TRUE)","v":""},{"$f":"VLOOKUP(H73,'Master Template'!$BY$5:$CH$200,10,TRUE)","v":""},{"$f":"VLOOKUP(I73,'Master Template'!$BY$5:$CH$200,10,TRUE)","v":""},{"$f":"VLOOKUP(J73,'Master Template'!$BY$5:$CH$200,10,TRUE)","v":""},{"$f":"VLOOKUP(K73,'Master Template'!$BY$5:$CH$200,10,TRUE)","v":""},{"$f":"VLOOKUP(L73,'Master Template'!$BY$5:$CH$200,10,TRUE)","v":""},null,null,{"$f":"VLOOKUP(O73,'Master Template'!$BY$5:$CH$200,10,TRUE)","v":""},{"$f":"VLOOKUP(P73,'Master Template'!$BY$5:$CH$200,10,TRUE)","v":""},{"$f":"VLOOKUP(Q73,'Master Template'!$BY$5:$CH$200,10,TRUE)","v":""},{"$f":"VLOOKUP(R73,'Master Template'!$BY$5:$CH$200,10,TRUE)","v":""},{"$f":"VLOOKUP(S73,'Master Template'!$BY$5:$CH$200,10,TRUE)","v":""},{"$f":"VLOOKUP(T73,'Master Template'!$BY$5:$CH$200,10,TRUE)","v":""},{"$f":"VLOOKUP(U73,'Master Template'!$BY$5:$CH$200,10,TRUE)","v":""},{"$f":"VLOOKUP(V73,'Master Template'!$BY$5:$CH$200,10,TRUE)","v":""},{"$f":"VLOOKUP(W73,'Master Template'!$BY$5:$CH$200,10,TRUE)","v":""},{"$f":"VLOOKUP(X73,'Master Template'!$BY$5:$CH$200,10,TRUE)","v":""},{"$f":"VLOOKUP(Y73,'Master Template'!$BY$5:$CH$200,10,TRUE)","v":""},{"$f":"VLOOKUP(Z73,'Master Template'!$BY$5:$CH$200,10,TRUE)","v":""},{"$f":"VLOOKUP(AA73,'Master Template'!$BY$5:$CH$200,10,TRUE)","v":""},{"$f":"VLOOKUP(AB73,'Master Template'!$BY$5:$CH$200,10,TRUE)","v":""},null,null,null,null,null,null,"UTI/CATH","@",null,{"$f":"'List Data'!K39","v":"Staff38"},{"$f":"COUNTIFS($J$8:$J$37,\"yes\",$K$8:$K$37,'List Data'!K39,$R$8:$R$37,\"Yes\")","v":0},{"$f":"COUNTIFS($J$8:$J$37,\"No\",$K$8:$K$37,'List Data'!K39,$R$8:$R$37,\"Yes\")","v":0},"",null,null,null,null,null,null,null,null,null,null,null,null,null,null,null,null,null,null,null,null,null,null,null,null,null,null,null,null,null,null,null,null,null,null,null,{"$f":"'List Data'!B71","v":"213-2"},{"$f":"IFERROR(INDEX('Master Template'!$M$8:$M$37,SMALL(IF('Master Template'!$F$8:$F$37=$BY74,ROW('Master Template'!$F$8:$F$37)-7,\"\"),COLUMNS($BZ$4:BZ74))),\"\")","v":""},{"$f":"IFERROR(INDEX('Master Template'!$M$8:$M$37,SMALL(IF('Master Template'!$F$8:$F$37=$BY74,ROW('Master Template'!$F$8:$F$37)-7,\"\"),COLUMNS($BZ$4:CA74))),\"\")","v":""},{"$f":"IFERROR(INDEX('Master Template'!$M$8:$M$37,SMALL(IF('Master Template'!$F$8:$F$37=$BY74,ROW('Master Template'!$F$8:$F$37)-7,\"\"),COLUMNS($BZ$4:CB74))),\"\")","v":""},{"$f":"IFERROR(INDEX('Master Template'!$M$8:$M$37,SMALL(IF('Master Template'!$F$8:$F$37=$BY74,ROW('Master Template'!$F$8:$F$37)-7,\"\"),COLUMNS($BZ$4:CC74))),\"\")","v":""},{"$f":"IFERROR(VLOOKUP(BZ74,'Master Template'!$B$73:$C$83,2,FALSE),\"\")","v":""},{"$f":"IFERROR(VLOOKUP(CA74,'Master Template'!$B$73:$C$83,2,FALSE),\"\")","v":""},{"$f":"IFERROR(VLOOKUP(CB74,'Master Template'!$B$73:$C$83,2,FALSE),\"\")","v":""},{"$f":"IFERROR(VLOOKUP(CC74,'Master Template'!$B$73:$C$83,2,FALSE),\"\")","v":""},""]
[null,"Skin","#",null,null,null,null,null,null,null,null,null,null,null,null,null,null,null,null,null,null,null,null,null,null,null,null,null,null,null,null,null,null,null,"Skin","#",null,{"$f":"'List Data'!K40","v":"Staff39"},{"$f":"COUNTIFS($J$8:$J$37,\"yes\",$K$8:$K$37,'List Data'!K40,$R$8:$R$37,\"Yes\")","v":0},{"$f":"COUNTIFS($J$8:$J$37,\"No\",$K$8:$K$37,'List Data'!K40,$R$8:$R$37,\"Yes\")","v":0},{"$f":"IFERROR(AM75/(AN75+AM75),\"\")","v":""},null,null,null,null,null,null,null,null,null,null,null,null,null,null,null,null,null,null,null,null,null,null,null,null,null,null,null,null,null,null,null,null,null,null,null,{"$f":"'List Data'!B72","v":"214-1"},{"$f":"IFERROR(INDEX('Master Template'!$M$8:$M$37,SMALL(IF('Master Template'!$F$8:$F$37=$BY75,ROW('Master Template'!$F$8:$F$37)-7,\"\"),COLUMNS($BZ$4:BZ75))),\"\")","v":""},{"$f":"IFERROR(INDEX('Master Template'!$M$8:$M$37,SMALL(IF('Master Template'!$F$8:$F$37=$BY75,ROW('Master Template'!$F$8:$F$37)-7,\"\"),COLUMNS($BZ$4:CA75))),\"\")","v":""},{"$f":"IFERROR(INDEX('Master Template'!$M$8:$M$37,SMALL(IF('Master Template'!$F$8:$F$37=$BY75,ROW('Master Template'!$F$8:$F$37)-7,\"\"),COLUMNS($BZ$4:CB75))),\"\")","v":""},{"$f":"IFERROR(INDEX('Master Template'!$M$8:$M$37,SMALL(IF('Master Template'!$F$8:$F$37=$BY75,ROW('Master Template'!$F$8:$F$37)-7,\"\"),COLUMNS($BZ$4:CC75))),\"\")","v":""},{"$f":"IFERROR(VLOOKUP(BZ75,'Master Template'!$B$73:$C$83,2,FALSE),\"\")","v":""},{"$f":"IFERROR(VLOOKUP(CA75,'Master Template'!$B$73:$C$83,2,FALSE),\"\")","v":""},{"$f":"IFERROR(VLOOKUP(CB75,'Master Template'!$B$73:$C$83,2,FALSE),\"\")","v":""},{"$f":"IFERROR(VLOOKUP(CC75,'Master Template'!$B$73:$C$83,2,FALSE),\"\")","v":""},""]
[null,"Resp","$",null,"001-1","001-2","003-1","003-2","005-1","005-2","007-1","007-2",null,null,"009-1","009-2","011-1","011-2","013-1","013-2","015-1","015-2","017-1","017-2","019-1","019-2","021-1","021-2",null,null,null,null,null,null,"Resp.","$",null,{"$f":"'List Data'!K41","v":"Staff40"},{"$f":"COUNTIFS($J$8:$J$37,\"yes\",$K$8:$K$37,'List Data'!K41,$R$8:$R$37,\"Yes\")","v":0},{"$f":"COUNTIFS($J$8:$J$37,\"No\",$K$8:$K$37,'List Data'!K41,$R$8:$R$37,\"Yes\")","v":0},"",null,null,null,null,null,null,null,null,null,null,null,null,null,null,null,null,null,null,null,null,null,null,null,null,null,null,null,null,null,null,null,null,null,null,null,{"$f":"'List Data'!B73","v":"214-2"},{"$f":"IFERROR(INDEX('Master Template'!$M$8:$M$37,SMALL(IF('Master Template'!$F$8:$F$37=$BY76,ROW('Master Template'!$F$8:$F$37)-7,\"\"),COLUMNS($BZ$4:BZ76))),\"\")","v":""},{"$f":"IFERROR(INDEX('Master Template'!$M$8:$M$37,SMALL(IF('Master Template'!$F$8:$F$37=$BY76,ROW('Master Template'!$F$8:$F$37)-7,\"\"),COLUMNS($BZ$4:CA76))),\"\")","v":""},{"$f":"IFERROR(INDEX('Master Template'!$M$8:$M$37,SMALL(IF('Master Template'!$F$8:$F$37=$BY76,ROW('Master Template'!$F$8:$F$37)-7,\"\"),COLUMNS($BZ$4:CB76))),\"\")","v":""},{"$f":"IFERROR(INDEX('Master Template'!$M$8:$M$37,SMALL(IF('Master Template'!$F$8:$F$37=$BY76,ROW('Master Template'!$F$8:$F$37)-7,\"\"),COLUMNS($BZ$4:CC76))),\"\")","v":""},{"$f":"IFERROR(VLOOKUP(BZ76,'Master Template'!$B$73:$C$83,2,FALSE),\"\")","v":""},{"$f":"IFERROR(VLOOKUP(CA76,'Master Template'!$B$73:$C$83,2,FALSE),\"\")","v":""},{"$f":"IFERROR(VLOOKUP(CB76,'Master Template'!$B$73:$C$83,2,FALSE),\"\")","v":""},{"$f":"IFERROR(VLOOKUP(CC76,'Master Template'!$B$73:$C$83,2,FALSE),\"\")","v":""},""]
[null,"Eye","%",null,{"$f":"VLOOKUP(E76,'Master Template'!$BY$5:$CH$200,10,TRUE)","v":""},{"$f":"VLOOKUP(F76,'Master Template'!$BY$5:$CH$200,10,TRUE)","v":""},{"$f":"VLOOKUP(G76,'Master Template'!$BY$5:$CH$200,10,TRUE)","v":""},{"$f":"VLOOKUP(H76,'Master Template'!$BY$5:$CH$200,10,TRUE)","v":""},{"$f":"VLOOKUP(I76,'Master Template'!$BY$5:$CH$200,10,TRUE)","v":""},{"$f":"VLOOKUP(J76,'Master Template'!$BY$5:$CH$200,10,TRUE)","v":""},{"$f":"VLOOKUP(K76,'Master Template'!$BY$5:$CH$200,10,TRUE)","v":""},{"$f":"VLOOKUP(L76,'Master Template'!$BY$5:$CH$200,10,TRUE)","v":""},null,null,{"$f":"VLOOKUP(O76,'Master Template'!$BY$5:$CH$200,10,TRUE)","v":""},{"$f":"VLOOKUP(P76,'Master Template'!$BY$5:$CH$200,10,TRUE)","v":""},{"$f":"VLOOKUP(Q76,'Master Template'!$BY$5:$CH$200,10,TRUE)","v":""},{"$f":"VLOOKUP(R76,'Master Template'!$BY$5:$CH$200,10,TRUE)","v":""},{"$f":"VLOOKUP(S76,'Master Template'!$BY$5:$CH$200,10,TRUE)","v":""},{"$f":"VLOOKUP(T76,'Master Template'!$BY$5:$CH$200,10,TRUE)","v":""},{"$f":"VLOOKUP(U76,'Master Template'!$BY$5:$CH$200,10,TRUE)","v":""},{"$f":"VLOOKUP(V76,'Master Template'!$BY$5:$CH$200,10,TRUE)","v":""},{"$f":"VLOOKUP(W76,'Master Template'!$BY$5:$CH$200,10,TRUE)","v":""},{"$f":"VLOOKUP(X76,'Master Template'!$BY$5:$CH$200,10,TRUE)","v":""},{"$f":"VLOOKUP(Y76,'Master Template'!$BY$5:$CH$200,10,TRUE)","v":""},{"$f":"VLOOKUP(Z76,'Master Template'!$BY$5:$CH$200,10,TRUE)","v":""},{"$f":"VLOOKUP(AA76,'Master Template'!$BY$5:$CH$200,10,TRUE)","v":""},{"$f":"VLOOKUP(AB76,'Master Template'!$BY$5:$CH$200,10,TRUE)","v":""},null,null,null,null,null,null,"Eye","%",null,"Facility",{"$f":"SUM(AM37:AM66)","v":0},{"$f":"SUM(AN37:AN66)","v":0},{"$f":"IFERROR(AM77/(AN77+AM77),\"\")","v":""},null,null,null,null,null,null,null,null,null,null,null,null,null,null,null,null,null,null,null,null,null,null,null,null,null,null,null,null,null,null,null,null,null,null,null,{"$f":"'List Data'!B74","v":"215-1"},{"$f":"IFERROR(INDEX('Master Template'!$M$8:$M$37,SMALL(IF('Master Template'!$F$8:$F$37=$BY77,ROW('Master Template'!$F$8:$F$37)-7,\"\"),COLUMNS($BZ$4:BZ77))),\"\")","v":""},{"$f":"IFERROR(INDEX('Master Template'!$M$8:$M$37,SMALL(IF('Master Template'!$F$8:$F$37=$BY77,ROW('Master Template'!$F$8:$F$37)-7,\"\"),COLUMNS($BZ$4:CA77))),\"\")","v":""},{"$f":"IFERROR(INDEX('Master Template'!$M$8:$M$37,SMALL(IF('Master Template'!$F$8:$F$37=$BY77,ROW('Master Template'!$F$8:$F$37)-7,\"\"),COLUMNS($BZ$4:CB77))),\"\")","v":""},{"$f":"IFERROR(INDEX('Master Template'!$M$8:$M$37,SMALL(IF('Master Template'!$F$8:$F$37=$BY77,ROW('Master Template'!$F$8:$F$37)-7,\"\"),COLUMNS($BZ$4:CC77))),\"\")","v":""},{"$f":"IFERROR(VLOOKUP(BZ77,'Master Template'!$B$73:$C$83,2,FALSE),\"\")","v":""},{"$f":"IFERROR(VLOOKUP(CA77,'Master Template'!$B$73:$C$83,2,FALSE),\"\")","v":""},{"$f":"IFERROR(VLOOKUP(CB77,'Master Template'!$B$73:$C$83,2,FALSE),\"\")","v":""},{"$f":"IFERROR(VLOOKUP(CC77,'Master Template'!$B$73:$C$83,2,FALSE),\"\")","v":""},""]
[null,"Ear","^",null,null,null,null,null,null,null,null,null,null,null,null,null,null,null,null,null,null,null,null,null,null,null,null,null,null,null,null,null,null,null,"Ear","^",null,null,null,null,null,null,null,null,null,null,null,null,null,null,null,null,null,null,null,null,null,null,null,null,null,null,null,null,null,null,null,null,null,null,null,null,null,null,null,null,{"$f":"'List Data'!B75","v":"215-2"},{"$f":"IFERROR(INDEX('Master Template'!$M$8:$M$37,SMALL(IF('Master Template'!$F$8:$F$37=$BY78,ROW('Master Template'!$F$8:$F$37)-7,\"\"),COLUMNS($BZ$4:BZ78))),\"\")","v":""},{"$f":"IFERROR(INDEX('Master Template'!$M$8:$M$37,SMALL(IF('Master Template'!$F$8:$F$37=$BY78,ROW('Master Template'!$F$8:$F$37)-7,\"\"),COLUMNS($BZ$4:CA78))),\"\")","v":""},{"$f":"IFERROR(INDEX('Master Template'!$M$8:$M$37,SMALL(IF('Master Template'!$F$8:$F$37=$BY78,ROW('Master Template'!$F$8:$F$37)-7,\"\"),COLUMNS($BZ$4:CB78))),\"\")","v":""},{"$f":"IFERROR(INDEX('Master Template'!$M$8:$M$37,SMALL(IF('Master Template'!$F$8:$F$37=$BY78,ROW('Master Template'!$F$8:$F$37)-7,\"\"),COLUMNS($BZ$4:CC78))),\"\")","v":""},{"$f":"IFERROR(VLOOKUP(BZ78,'Master Template'!$B$73:$C$83,2,FALSE),\"\")","v":""},{"$f":"IFERROR(VLOOKUP(CA78,'Master Template'!$B$73:$C$83,2,FALSE),\"\")","v":""},{"$f":"IFERROR(VLOOKUP(CB78,'Master Template'!$B$73:$C$83,2,FALSE),\"\")","v":""},{"$f":"IFERROR(VLOOKUP(CC78,'Master Template'!$B$73:$C$83,2,FALSE),\"\")","v":""},""]
[null,"GI","&",null,null,null,null,"Second Floor (A Hall & B Hall)",null,null,null,null,null,null,null,null,null,null,null,"Second Floor (A Hall & B Hall)",null,null,null,null,null,null,null,null,null,null,null,null,null,null,"GI","&",null,null,null,null,null,null,null,null,null,null,null,null,null,null,null,null,null,null,null,null,null,null,null,null,null,null,null,null,null,null,null,null,null,null,null,null,null,null,null,null,{"$f":"'List Data'!B76","v":"216-1"},{"$f":"IFERROR(INDEX('Master Template'!$M$8:$M$37,SMALL(IF('Master Template'!$F$8:$F$37=$BY79,ROW('Master Template'!$F$8:$F$37)-7,\"\"),COLUMNS($BZ$4:BZ79))),\"\")","v":""},{"$f":"IFERROR(INDEX('Master Template'!$M$8:$M$37,SMALL(IF('Master Template'!$F$8:$F$37=$BY79,ROW('Master Template'!$F$8:$F$37)-7,\"\"),COLUMNS($BZ$4:CA79))),\"\")","v":""},{"$f":"IFERROR(INDEX('Master Template'!$M$8:$M$37,SMALL(IF('Master Template'!$F$8:$F$37=$BY79,ROW('Master Template'!$F$8:$F$37)-7,\"\"),COLUMNS($BZ$4:CB79))),\"\")","v":""},{"$f":"IFERROR(INDEX('Master Template'!$M$8:$M$37,SMALL(IF('Master Template'!$F$8:$F$37=$BY79,ROW('Master Template'!$F$8:$F$37)-7,\"\"),COLUMNS($BZ$4:CC79))),\"\")","v":""},{"$f":"IFERROR(VLOOKUP(BZ79,'Master Template'!$B$73:$C$83,2,FALSE),\"\")","v":""},{"$f":"IFERROR(VLOOKUP(CA79,'Master Template'!$B$73:$C$83,2,FALSE),\"\")","v":""},{"$f":"IFERROR(VLOOKUP(CB79,'Master Template'!$B$73:$C$83,2,FALSE),\"\")","v":""},{"$f":"IFERROR(VLOOKUP(CC79,'Master Template'!$B$73:$C$83,2,FALSE),\"\")","v":""},""]
[null,"Blood","*",null,"224-1","224-2","226-1","226-2","228-1","228-2","230-1","230-2",null,null,"232-1","232-2","234-1","234-2","236-1","236-2","238-1","238-2","240-1","240-2","242-1","242-2","242-1","242-2","245-1","245-2","246-1","246-2","247-1","247-2","Blood","*",null,null,null,null,null,null,null,null,null,null,null,null,null,null,null,null,null,null,null,null,null,null,null,null,null,null,null,null,null,null,null,null,null,null,null,null,null,null,null,null,{"$f":"'List Data'!B77","v":"216-2"},{"$f":"IFERROR(INDEX('Master Template'!$M$8:$M$37,SMALL(IF('Master Template'!$F$8:$F$37=$BY80,ROW('Master Template'!$F$8:$F$37)-7,\"\"),COLUMNS($BZ$4:BZ80))),\"\")","v":""},{"$f":"IFERROR(INDEX('Master Template'!$M$8:$M$37,SMALL(IF('Master Template'!$F$8:$F$37=$BY80,ROW('Master Template'!$F$8:$F$37)-7,\"\"),COLUMNS($BZ$4:CA80))),\"\")","v":""},{"$f":"IFERROR(INDEX('Master Template'!$M$8:$M$37,SMALL(IF('Master Template'!$F$8:$F$37=$BY80,ROW('Master Template'!$F$8:$F$37)-7,\"\"),COLUMNS($BZ$4:CB80))),\"\")","v":""},{"$f":"IFERROR(INDEX('Master Template'!$M$8:$M$37,SMALL(IF('Master Template'!$F$8:$F$37=$BY80,ROW('Master Template'!$F$8:$F$37)-7,\"\"),COLUMNS($BZ$4:CC80))),\"\")","v":""},{"$f":"IFERROR(VLOOKUP(BZ80,'Master Template'!$B$73:$C$83,2,FALSE),\"\")","v":""},{"$f":"IFERROR(VLOOKUP(CA80,'Master Template'!$B$73:$C$83,2,FALSE),\"\")","v":""},{"$f":"IFERROR(VLOOKUP(CB80,'Master Template'!$B$73:$C$83,2,FALSE),\"\")","v":""},{"$f":"IFERROR(VLOOKUP(CC80,'Master Template'!$B$73:$C$83,2,FALSE),\"\")","v":""},{"$f":"IF(CD80=\"\",\"\",IF(CE80=\"\",CD80,IF(CF80=\"\",CD80&\",\"&CE80,IF(CG80=\"\",CD80&\",\"&CE80&\",\"&CF80,CD80&\",\"&CE80&\",\"&CF80&\",\"&CG80))))","v":""}]
[null,"Genital","`",null,{"$f":"VLOOKUP(E80,'Master Template'!$BY$5:$CH$200,10,TRUE)","v":""},{"$f":"VLOOKUP(F80,'Master Template'!$BY$5:$CH$200,10,TRUE)","v":""},{"$f":"VLOOKUP(G80,'Master Template'!$BY$5:$CH$200,10,TRUE)","v":""},{"$f":"VLOOKUP(H80,'Master Template'!$BY$5:$CH$200,10,TRUE)","v":""},{"$f":"VLOOKUP(I80,'Master Template'!$BY$5:$CH$200,10,TRUE)","v":""},{"$f":"VLOOKUP(J80,'Master Template'!$BY$5:$CH$200,10,TRUE)","v":""},{"$f":"VLOOKUP(K80,'Master Template'!$BY$5:$CH$200,10,TRUE)","v":""},{"$f":"VLOOKUP(L80,'Master Template'!$BY$5:$CH$200,10,TRUE)","v":""},null,null,{"$f":"VLOOKUP(O80,'Master Template'!$BY$5:$CH$200,10,TRUE)","v":""},{"$f":"VLOOKUP(P80,'Master Template'!$BY$5:$CH$200,10,TRUE)","v":""},{"$f":"VLOOKUP(Q80,'Master Template'!$BY$5:$CH$200,10,TRUE)","v":""},{"$f":"VLOOKUP(R80,'Master Template'!$BY$5:$CH$200,10,TRUE)","v":""},{"$f":"VLOOKUP(S80,'Master Template'!$BY$5:$CH$200,10,TRUE)","v":""},{"$f":"VLOOKUP(T80,'Master Template'!$BY$5:$CH$200,10,TRUE)","v":""},{"$f":"VLOOKUP(U80,'Master Template'!$BY$5:$CH$200,10,TRUE)","v":""},{"$f":"VLOOKUP(V80,'Master Template'!$BY$5:$CH$200,10,TRUE)","v":""},{"$f":"VLOOKUP(W80,'Master Template'!$BY$5:$CH$200,10,TRUE)","v":""},{"$f":"VLOOKUP(X80,'Master Template'!$BY$5:$CH$200,10,TRUE)","v":""},{"$f":"VLOOKUP(Y80,'Master Template'!$BY$5:$CH$200,10,TRUE)","v":""},{"$f":"VLOOKUP(Z80,'Master Template'!$BY$5:$CH$200,10,TRUE)","v":""},{"$f":"VLOOKUP(AA80,'Master Template'!$BY$5:$CH$200,10,TRUE)","v":""},{"$f":"VLOOKUP(AB80,'Master Template'!$BY$5:$CH$200,10,TRUE)","v":""},{"$f":"VLOOKUP(AC80,'Master Template'!$BY$5:$CH$200,10,TRUE)","v":""},{"$f":"VLOOKUP(AD80,'Master Template'!$BY$5:$CH$200,10,TRUE)","v":""},{"$f":"VLOOKUP(AE80,'Master Template'!$BY$5:$CH$200,10,TRUE)","v":""},{"$f":"VLOOKUP(AF80,'Master Template'!$BY$5:$CH$200,10,TRUE)","v":""},{"$f":"VLOOKUP(AG80,'Master Template'!$BY$5:$CH$200,10,TRUE)","v":""},{"$f":"VLOOKUP(AH80,'Master Template'!$BY$5:$CH$200,10,TRUE)","v":""},"Genital","`",null,null,null,null,null,null,null,null,null,null,null,null,null,null,null,null,null,null,null,null,null,null,null,null,null,null,null,null,null,null,null,null,null,null,null,null,null,null,null,null,{"$f":"'List Data'!B78","v":"217-1"},{"$f":"IFERROR(INDEX('Master Template'!$M$8:$M$37,SMALL(IF('Master Template'!$F$8:$F$37=$BY81,ROW('Master Template'!$F$8:$F$37)-7,\"\"),COLUMNS($BZ$4:BZ81))),\"\")","v":""},{"$f":"IFERROR(INDEX('Master Template'!$M$8:$M$37,SMALL(IF('Master Template'!$F$8:$F$37=$BY81,ROW('Master Template'!$F$8:$F$37)-7,\"\"),COLUMNS($BZ$4:CA81))),\"\")","v":""},{"$f":"IFERROR(INDEX('Master Template'!$M$8:$M$37,SMALL(IF('Master Template'!$F$8:$F$37=$BY81,ROW('Master Template'!$F$8:$F$37)-7,\"\"),COLUMNS($BZ$4:CB81))),\"\")","v":""},{"$f":"IFERROR(INDEX('Master Template'!$M$8:$M$37,SMALL(IF('Master Template'!$F$8:$F$37=$BY81,ROW('Master Template'!$F$8:$F$37)-7,\"\"),COLUMNS($BZ$4:CC81))),\"\")","v":""},{"$f":"IFERROR(VLOOKUP(BZ81,'Master Template'!$B$73:$C$83,2,FALSE),\"\")","v":""},{"$f":"IFERROR(VLOOKUP(CA81,'Master Template'!$B$73:$C$83,2,FALSE),\"\")","v":""},{"$f":"IFERROR(VLOOKUP(CB81,'Master Template'!$B$73:$C$83,2,FALSE),\"\")","v":""},{"$f":"IFERROR(VLOOKUP(CC81,'Master Template'!$B$73:$C$83,2,FALSE),\"\")","v":""},""]
[null,"Other","~",null,null,null,null,null,null,null,null,null,null,null,null,null,null,null,null,null,null,null,null,null,null,null,null,null,null,null,null,null,null,null,"Other","~",null,null,null,null,null,null,null,null,null,null,null,null,null,null,null,null,null,null,null,null,null,null,null,null,null,null,null,null,null,null,null,null,null,null,null,null,null,null,null,null,{"$f":"'List Data'!B79","v":"217-2"},{"$f":"IFERROR(INDEX('Master Template'!$M$8:$M$37,SMALL(IF('Master Template'!$F$8:$F$37=$BY82,ROW('Master Template'!$F$8:$F$37)-7,\"\"),COLUMNS($BZ$4:BZ82))),\"\")","v":""},{"$f":"IFERROR(INDEX('Master Template'!$M$8:$M$37,SMALL(IF('Master Template'!$F$8:$F$37=$BY82,ROW('Master Template'!$F$8:$F$37)-7,\"\"),COLUMNS($BZ$4:CA82))),\"\")","v":""},{"$f":"IFERROR(INDEX('Master Template'!$M$8:$M$37,SMALL(IF('Master Template'!$F$8:$F$37=$BY82,ROW('Master Template'!$F$8:$F$37)-7,\"\"),COLUMNS($BZ$4:CB82))),\"\")","v":""},{"$f":"IFERROR(INDEX('Master Template'!$M$8:$M$37,SMALL(IF('Master Template'!$F$8:$F$37=$BY82,ROW('Master Template'!$F$8:$F$37)-7,\"\"),COLUMNS($BZ$4:CC82))),\"\")","v":""},{"$f":"IFERROR(VLOOKUP(BZ82,'Master Template'!$B$73:$C$83,2,FALSE),\"\")","v":""},{"$f":"IFERROR(VLOOKUP(CA82,'Master Template'!$B$73:$C$83,2,FALSE),\"\")","v":""},{"$f":"IFERROR(VLOOKUP(CB82,'Master Template'!$B$73:$C$83,2,FALSE),\"\")","v":""},{"$f":"IFERROR(VLOOKUP(CC82,'Master Template'!$B$73:$C$83,2,FALSE),\"\")","v":""},""]
[null,"Multi-Rx",",",null,"223-1","223-2","225-1","225-2","227-1","227-2","229-1","229-2",null,null,"231-1","231-2","233-1","233-2","235-1","235-2","237-1","237-2","239-1","239-2","241-1","241-2","243-1","243-2",null,null,null,null,null,null,"Multi-Infection",",",null,null,null,null,null,null,null,null,null,null,null,null,null,null,null,null,null,null,null,null,null,null,null,null,null,null,null,null,null,null,null,null,null,null,null,null,null,null,null,null,{"$f":"'List Data'!B80","v":"218-1"},{"$f":"IFERROR(INDEX('Master Template'!$M$8:$M$37,SMALL(IF('Master Template'!$F$8:$F$37=$BY83,ROW('Master Template'!$F$8:$F$37)-7,\"\"),COLUMNS($BZ$4:BZ83))),\"\")","v":""},{"$f":"IFERROR(INDEX('Master Template'!$M$8:$M$37,SMALL(IF('Master Template'!$F$8:$F$37=$BY83,ROW('Master Template'!$F$8:$F$37)-7,\"\"),COLUMNS($BZ$4:CA83))),\"\")","v":""},{"$f":"IFERROR(INDEX('Master Template'!$M$8:$M$37,SMALL(IF('Master Template'!$F$8:$F$37=$BY83,ROW('Master Template'!$F$8:$F$37)-7,\"\"),COLUMNS($BZ$4:CB83))),\"\")","v":""},{"$f":"IFERROR(INDEX('Master Template'!$M$8:$M$37,SMALL(IF('Master Template'!$F$8:$F$37=$BY83,ROW('Master Template'!$F$8:$F$37)-7,\"\"),COLUMNS($BZ$4:CC83))),\"\")","v":""},{"$f":"IFERROR(VLOOKUP(BZ83,'Master Template'!$B$73:$C$83,2,FALSE),\"\")","v":""},{"$f":"IFERROR(VLOOKUP(CA83,'Master Template'!$B$73:$C$83,2,FALSE),\"\")","v":""},{"$f":"IFERROR(VLOOKUP(CB83,'Master Template'!$B$73:$C$83,2,FALSE),\"\")","v":""},{"$f":"IFERROR(VLOOKUP(CC83,'Master Template'!$B$73:$C$83,2,FALSE),\"\")","v":""},""]
[null,null,null,null,{"$f":"VLOOKUP(E83,'Master Template'!$BY$5:$CH$200,10,TRUE)","v":""},{"$f":"VLOOKUP(F83,'Master Template'!$BY$5:$CH$200,10,TRUE)","v":""},{"$f":"VLOOKUP(G83,'Master Template'!$BY$5:$CH$200,10,TRUE)","v":""},{"$f":"VLOOKUP(H83,'Master Template'!$BY$5:$CH$200,10,TRUE)","v":""},{"$f":"VLOOKUP(I83,'Master Template'!$BY$5:$CH$200,10,TRUE)","v":""},{"$f":"VLOOKUP(J83,'Master Template'!$BY$5:$CH$200,10,TRUE)","v":""},{"$f":"VLOOKUP(K83,'Master Template'!$BY$5:$CH$200,10,TRUE)","v":""},{"$f":"VLOOKUP(L83,'Master Template'!$BY$5:$CH$200,10,TRUE)","v":""},null,null,{"$f":"VLOOKUP(O83,'Master Template'!$BY$5:$CH$200,10,TRUE)","v":""},{"$f":"VLOOKUP(P83,'Master Template'!$BY$5:$CH$200,10,TRUE)","v":""},{"$f":"VLOOKUP(Q83,'Master Template'!$BY$5:$CH$200,10,TRUE)","v":""},{"$f":"VLOOKUP(R83,'Master Template'!$BY$5:$CH$200,10,TRUE)","v":""},{"$f":"VLOOKUP(S83,'Master Template'!$BY$5:$CH$200,10,TRUE)","v":""},{"$f":"VLOOKUP(T83,'Master Template'!$BY$5:$CH$200,10,TRUE)","v":""},{"$f":"VLOOKUP(U83,'Master Template'!$BY$5:$CH$200,10,TRUE)","v":""},{"$f":"VLOOKUP(V83,'Master Template'!$BY$5:$CH$200,10,TRUE)","v":""},{"$f":"VLOOKUP(W83,'Master Template'!$BY$5:$CH$200,10,TRUE)","v":""},{"$f":"VLOOKUP(X83,'Master Template'!$BY$5:$CH$200,10,TRUE)","v":""},{"$f":"VLOOKUP(Y83,'Master Template'!$BY$5:$CH$200,10,TRUE)","v":""},{"$f":"VLOOKUP(Z83,'Master Template'!$BY$5:$CH$200,10,TRUE)","v":""},{"$f":"VLOOKUP(AA83,'Master Template'!$BY$5:$CH$200,10,TRUE)","v":""},{"$f":"VLOOKUP(AB83,'Master Template'!$BY$5:$CH$200,10,TRUE)","v":""},null,null,null,null,null,null,null,null,null,null,null,null,null,null,null,null,null,null,null,null,null,null,null,null,null,null,null,null,null,null,null,null,null,null,null,null,null,null,null,null,null,null,null,null,null,null,null,null,{"$f":"'List Data'!B81","v":"218-2"},{"$f":"IFERROR(INDEX('Master Template'!$M$8:$M$37,SMALL(IF('Master Template'!$F$8:$F$37=$BY84,ROW('Master Template'!$F$8:$F$37)-7,\"\"),COLUMNS($BZ$4:BZ84))),\"\")","v":""},{"$f":"IFERROR(INDEX('Master Template'!$M$8:$M$37,SMALL(IF('Master Template'!$F$8:$F$37=$BY84,ROW('Master Template'!$F$8:$F$37)-7,\"\"),COLUMNS($BZ$4:CA84))),\"\")","v":""},{"$f":"IFERROR(INDEX('Master Template'!$M$8:$M$37,SMALL(IF('Master Template'!$F$8:$F$37=$BY84,ROW('Master Template'!$F$8:$F$37)-7,\"\"),COLUMNS($BZ$4:CB84))),\"\")","v":""},{"$f":"IFERROR(INDEX('Master Template'!$M$8:$M$37,SMALL(IF('Master Template'!$F$8:$F$37=$BY84,ROW('Master Template'!$F$8:$F$37)-7,\"\"),COLUMNS($BZ$4:CC84))),\"\")","v":""},{"$f":"IFERROR(VLOOKUP(BZ84,'Master Template'!$B$73:$C$83,2,FALSE),\"\")","v":""},{"$f":"IFERROR(VLOOKUP(CA84,'Master Template'!$B$73:$C$83,2,FALSE),\"\")","v":""},{"$f":"IFERROR(VLOOKUP(CB84,'Master Template'!$B$73:$C$83,2,FALSE),\"\")","v":""},{"$f":"IFERROR(VLOOKUP(CC84,'Master Template'!$B$73:$C$83,2,FALSE),\"\")","v":""},""]
[null,null,null,null,null,null,null,null,null,null,null,null,null,null,null,null,null,null,null,null,null,null,null,null,null,null,null,null,null,null,null,null,null,null,null,null,null,null,null,null,null,null,null,null,null,null,null,null,null,null,null,null,null,null,null,null,null,null,null,null,null,null,null,null,null,null,null,null,null,null,null,null,null,null,null,null,{"$f":"'List Data'!B82","v":"219-1"},{"$f":"IFERROR(INDEX('Master Template'!$M$8:$M$37,SMALL(IF('Master Template'!$F$8:$F$37=$BY85,ROW('Master Template'!$F$8:$F$37)-7,\"\"),COLUMNS($BZ$4:BZ85))),\"\")","v":""},{"$f":"IFERROR(INDEX('Master Template'!$M$8:$M$37,SMALL(IF('Master Template'!$F$8:$F$37=$BY85,ROW('Master Template'!$F$8:$F$37)-7,\"\"),COLUMNS($BZ$4:CA85))),\"\")","v":""},{"$f":"IFERROR(INDEX('Master Template'!$M$8:$M$37,SMALL(IF('Master Template'!$F$8:$F$37=$BY85,ROW('Master Template'!$F$8:$F$37)-7,\"\"),COLUMNS($BZ$4:CB85))),\"\")","v":""},{"$f":"IFERROR(INDEX('Master Template'!$M$8:$M$37,SMALL(IF('Master Template'!$F$8:$F$37=$BY85,ROW('Master Template'!$F$8:$F$37)-7,\"\"),COLUMNS($BZ$4:CC85))),\"\")","v":""},{"$f":"IFERROR(VLOOKUP(BZ85,'Master Template'!$B$73:$C$83,2,FALSE),\"\")","v":""},{"$f":"IFERROR(VLOOKUP(CA85,'Master Template'!$B$73:$C$83,2,FALSE),\"\")","v":""},{"$f":"IFERROR(VLOOKUP(CB85,'Master Template'!$B$73:$C$83,2,FALSE),\"\")","v":""},{"$f":"IFERROR(VLOOKUP(CC85,'Master Template'!$B$73:$C$83,2,FALSE),\"\")","v":""},""]
[null,null,null,null,null,null,null,null,null,null,null,null,null,null,null,null,null,null,null,null,null,null,null,null,null,null,null,null,null,null,null,null,null,null,null,null,null,null,null,null,null,null,null,null,null,null,null,null,null,null,null,null,null,null,null,null,null,null,null,null,null,null,null,null,null,null,null,null,null,null,null,null,null,null,null,null,{"$f":"'List Data'!B83","v":"219-2"},{"$f":"IFERROR(INDEX('Master Template'!$M$8:$M$37,SMALL(IF('Master Template'!$F$8:$F$37=$BY86,ROW('Master Template'!$F$8:$F$37)-7,\"\"),COLUMNS($BZ$4:BZ86))),\"\")","v":""},{"$f":"IFERROR(INDEX('Master Template'!$M$8:$M$37,SMALL(IF('Master Template'!$F$8:$F$37=$BY86,ROW('Master Template'!$F$8:$F$37)-7,\"\"),COLUMNS($BZ$4:CA86))),\"\")","v":""},{"$f":"IFERROR(INDEX('Master Template'!$M$8:$M$37,SMALL(IF('Master Template'!$F$8:$F$37=$BY86,ROW('Master Template'!$F$8:$F$37)-7,\"\"),COLUMNS($BZ$4:CB86))),\"\")","v":""},{"$f":"IFERROR(INDEX('Master Template'!$M$8:$M$37,SMALL(IF('Master Template'!$F$8:$F$37=$BY86,ROW('Master Template'!$F$8:$F$37)-7,\"\"),COLUMNS($BZ$4:CC86))),\"\")","v":""},{"$f":"IFERROR(VLOOKUP(BZ86,'Master Template'!$B$73:$C$83,2,FALSE),\"\")","v":""},{"$f":"IFERROR(VLOOKUP(CA86,'Master Template'!$B$73:$C$83,2,FALSE),\"\")","v":""},{"$f":"IFERROR(VLOOKUP(CB86,'Master Template'!$B$73:$C$83,2,FALSE),\"\")","v":""},{"$f":"IFERROR(VLOOKUP(CC86,'Master Template'!$B$73:$C$83,2,FALSE),\"\")","v":""},""]
[null,null,null,null,"202-1","202-2","204-1","204-2","206-1","206-2","208-1","208-2",null,null,"210-1","210-2","212-1","212-2","214-1","214-2","216-1","216-2","218-1","218-2","220-1","220-2","222-1","222-2","248-1","248-2","249-1","249-2","250-1","250-2",null,null,null,null,null,null,null,null,null,null,null,null,null,null,null,null,null,null,null,null,null,null,null,null,null,null,null,null,null,null,null,null,null,null,null,null,null,null,null,null,null,null,{"$f":"'List Data'!B84","v":"220-1"},{"$f":"IFERROR(INDEX('Master Template'!$M$8:$M$37,SMALL(IF('Master Template'!$F$8:$F$37=$BY87,ROW('Master Template'!$F$8:$F$37)-7,\"\"),COLUMNS($BZ$4:BZ87))),\"\")","v":""},{"$f":"IFERROR(INDEX('Master Template'!$M$8:$M$37,SMALL(IF('Master Template'!$F$8:$F$37=$BY87,ROW('Master Template'!$F$8:$F$37)-7,\"\"),COLUMNS($BZ$4:CA87))),\"\")","v":""},{"$f":"IFERROR(INDEX('Master Template'!$M$8:$M$37,SMALL(IF('Master Template'!$F$8:$F$37=$BY87,ROW('Master Template'!$F$8:$F$37)-7,\"\"),COLUMNS($BZ$4:CB87))),\"\")","v":""},{"$f":"IFERROR(INDEX('Master Template'!$M$8:$M$37,SMALL(IF('Master Template'!$F$8:$F$37=$BY87,ROW('Master Template'!$F$8:$F$37)-7,\"\"),COLUMNS($BZ$4:CC87))),\"\")","v":""},{"$f":"IFERROR(VLOOKUP(BZ87,'Master Template'!$B$73:$C$83,2,FALSE),\"\")","v":""},{"$f":"IFERROR(VLOOKUP(CA87,'Master Template'!$B$73:$C$83,2,FALSE),\"\")","v":""},{"$f":"IFERROR(VLOOKUP(CB87,'Master Template'!$B$73:$C$83,2,FALSE),\"\")","v":""},{"$f":"IFERROR(VLOOKUP(CC87,'Master Template'!$B$73:$C$83,2,FALSE),\"\")","v":""},""]
[null,null,null,null,{"$f":"VLOOKUP(E87,'Master Template'!$BY$5:$CH$200,10,TRUE)","v":""},{"$f":"VLOOKUP(F87,'Master Template'!$BY$5:$CH$200,10,TRUE)","v":""},{"$f":"VLOOKUP(G87,'Master Template'!$BY$5:$CH$200,10,TRUE)","v":""},{"$f":"VLOOKUP(H87,'Master Template'!$BY$5:$CH$200,10,TRUE)","v":""},{"$f":"VLOOKUP(I87,'Master Template'!$BY$5:$CH$200,10,TRUE)","v":""},{"$f":"VLOOKUP(J87,'Master Template'!$BY$5:$CH$200,10,TRUE)","v":""},{"$f":"VLOOKUP(K87,'Master Template'!$BY$5:$CH$200,10,TRUE)","v":""},{"$f":"VLOOKUP(L87,'Master Template'!$BY$5:$CH$200,10,TRUE)","v":""},null,null,{"$f":"VLOOKUP(O87,'Master Template'!$BY$5:$CH$200,10,TRUE)","v":""},{"$f":"VLOOKUP(P87,'Master Template'!$BY$5:$CH$200,10,TRUE)","v":""},{"$f":"VLOOKUP(Q87,'Master Template'!$BY$5:$CH$200,10,TRUE)","v":""},{"$f":"VLOOKUP(R87,'Master Template'!$BY$5:$CH$200,10,TRUE)","v":""},{"$f":"VLOOKUP(S87,'Master Template'!$BY$5:$CH$200,10,TRUE)","v":""},{"$f":"VLOOKUP(T87,'Master Template'!$BY$5:$CH$200,10,TRUE)","v":""},{"$f":"VLOOKUP(U87,'Master Template'!$BY$5:$CH$200,10,TRUE)","v":""},{"$f":"VLOOKUP(V87,'Master Template'!$BY$5:$CH$200,10,TRUE)","v":""},{"$f":"VLOOKUP(W87,'Master Template'!$BY$5:$CH$200,10,TRUE)","v":""},{"$f":"VLOOKUP(X87,'Master Template'!$BY$5:$CH$200,10,TRUE)","v":""},{"$f":"VLOOKUP(Y87,'Master Template'!$BY$5:$CH$200,10,TRUE)","v":""},{"$f":"VLOOKUP(Z87,'Master Template'!$BY$5:$CH$200,10,TRUE)","v":""},{"$f":"VLOOKUP(AA87,'Master Template'!$BY$5:$CH$200,10,TRUE)","v":""},{"$f":"VLOOKUP(AB87,'Master Template'!$BY$5:$CH$200,10,TRUE)","v":""},{"$f":"VLOOKUP(AC87,'Master Template'!$BY$5:$CH$200,10,TRUE)","v":""},{"$f":"VLOOKUP(AD87,'Master Template'!$BY$5:$CH$200,10,TRUE)","v":""},{"$f":"VLOOKUP(AE87,'Master Template'!$BY$5:$CH$200,10,TRUE)","v":""},{"$f":"VLOOKUP(AF87,'Master Template'!$BY$5:$CH$200,10,TRUE)","v":""},{"$f":"VLOOKUP(AG87,'Master Template'!$BY$5:$CH$200,10,TRUE)","v":""},{"$f":"VLOOKUP(AH87,'Master Template'!$BY$5:$CH$200,10,TRUE)","v":""},null,null,null,null,null,null,null,null,null,null,null,null,null,null,null,null,null,null,null,null,null,null,null,null,null,null,null,null,null,null,null,null,null,null,null,null,null,null,null,null,null,null,{"$f":"'List Data'!B85","v":"220-2"},{"$f":"IFERROR(INDEX('Master Template'!$M$8:$M$37,SMALL(IF('Master Template'!$F$8:$F$37=$BY88,ROW('Master Template'!$F$8:$F$37)-7,\"\"),COLUMNS($BZ$4:BZ88))),\"\")","v":""},{"$f":"IFERROR(INDEX('Master Template'!$M$8:$M$37,SMALL(IF('Master Template'!$F$8:$F$37=$BY88,ROW('Master Template'!$F$8:$F$37)-7,\"\"),COLUMNS($BZ$4:CA88))),\"\")","v":""},{"$f":"IFERROR(INDEX('Master Template'!$M$8:$M$37,SMALL(IF('Master Template'!$F$8:$F$37=$BY88,ROW('Master Template'!$F$8:$F$37)-7,\"\"),COLUMNS($BZ$4:CB88))),\"\")","v":""},{"$f":"IFERROR(INDEX('Master Template'!$M$8:$M$37,SMALL(IF('Master Template'!$F$8:$F$37=$BY88,ROW('Master Template'!$F$8:$F$37)-7,\"\"),COLUMNS($BZ$4:CC88))),\"\")","v":""},{"$f":"IFERROR(VLOOKUP(BZ88,'Master Template'!$B$73:$C$83,2,FALSE),\"\")","v":""},{"$f":"IFERROR(VLOOKUP(CA88,'Master Template'!$B$73:$C$83,2,FALSE),\"\")","v":""},{"$f":"IFERROR(VLOOKUP(CB88,'Master Template'!$B$73:$C$83,2,FALSE),\"\")","v":""},{"$f":"IFERROR(VLOOKUP(CC88,'Master Template'!$B$73:$C$83,2,FALSE),\"\")","v":""},""]
[null,null,null,null,null,null,null,null,null,null,null,null,null,null,null,null,null,null,null,null,null,null,null,null,null,null,null,null,null,null,null,null,null,null,null,null,null,null,null,null,null,null,null,null,null,null,null,null,null,null,null,null,null,null,null,null,null,null,null,null,null,null,null,null,null,null,null,null,null,null,null,null,null,null,null,null,{"$f":"'List Data'!B86","v":"221-1"},{"$f":"IFERROR(INDEX('Master Template'!$M$8:$M$37,SMALL(IF('Master Template'!$F$8:$F$37=$BY89,ROW('Master Template'!$F$8:$F$37)-7,\"\"),COLUMNS($BZ$4:BZ89))),\"\")","v":""},{"$f":"IFERROR(INDEX('Master Template'!$M$8:$M$37,SMALL(IF('Master Template'!$F$8:$F$37=$BY89,ROW('Master Template'!$F$8:$F$37)-7,\"\"),COLUMNS($BZ$4:CA89))),\"\")","v":""},{"$f":"IFERROR(INDEX('Master Template'!$M$8:$M$37,SMALL(IF('Master Template'!$F$8:$F$37=$BY89,ROW('Master Template'!$F$8:$F$37)-7,\"\"),COLUMNS($BZ$4:CB89))),\"\")","v":""},{"$f":"IFERROR(INDEX('Master Template'!$M$8:$M$37,SMALL(IF('Master Template'!$F$8:$F$37=$BY89,ROW('Master Template'!$F$8:$F$37)-7,\"\"),COLUMNS($BZ$4:CC89))),\"\")","v":""},{"$f":"IFERROR(VLOOKUP(BZ89,'Master Template'!$B$73:$C$83,2,FALSE),\"\")","v":""},{"$f":"IFERROR(VLOOKUP(CA89,'Master Template'!$B$73:$C$83,2,FALSE),\"\")","v":""},{"$f":"IFERROR(VLOOKUP(CB89,'Master Template'!$B$73:$C$83,2,FALSE),\"\")","v":""},{"$f":"IFERROR(VLOOKUP(CC89,'Master Template'!$B$73:$C$83,2,FALSE),\"\")","v":""},""]
[null,null,null,null,"201-1","201-2","203-1","203-2","205-1","205-2","207-1","207-2",null,null,"209-1","209-2","211-1","211-2","213-1","213-2","215-1","215-2","217-1","217-2","219-1","219-2","221-1","221-2",null,null,null,null,null,null,null,null,null,null,null,null,null,null,null,null,null,null,null,null,null,null,null,null,null,null,null,null,null,null,null,null,null,null,null,null,null,null,null,null,null,null,null,null,null,null,null,null,{"$f":"'List Data'!B87","v":"221-2"},{"$f":"IFERROR(INDEX('Master Template'!$M$8:$M$37,SMALL(IF('Master Template'!$F$8:$F$37=$BY90,ROW('Master Template'!$F$8:$F$37)-7,\"\"),COLUMNS($BZ$4:BZ90))),\"\")","v":""},{"$f":"IFERROR(INDEX('Master Template'!$M$8:$M$37,SMALL(IF('Master Template'!$F$8:$F$37=$BY90,ROW('Master Template'!$F$8:$F$37)-7,\"\"),COLUMNS($BZ$4:CA90))),\"\")","v":""},{"$f":"IFERROR(INDEX('Master Template'!$M$8:$M$37,SMALL(IF('Master Template'!$F$8:$F$37=$BY90,ROW('Master Template'!$F$8:$F$37)-7,\"\"),COLUMNS($BZ$4:CB90))),\"\")","v":""},{"$f":"IFERROR(INDEX('Master Template'!$M$8:$M$37,SMALL(IF('Master Template'!$F$8:$F$37=$BY90,ROW('Master Template'!$F$8:$F$37)-7,\"\"),COLUMNS($BZ$4:CC90))),\"\")","v":""},{"$f":"IFERROR(VLOOKUP(BZ90,'Master Template'!$B$73:$C$83,2,FALSE),\"\")","v":""},{"$f":"IFERROR(VLOOKUP(CA90,'Master Template'!$B$73:$C$83,2,FALSE),\"\")","v":""},{"$f":"IFERROR(VLOOKUP(CB90,'Master Template'!$B$73:$C$83,2,FALSE),\"\")","v":""},{"$f":"IFERROR(VLOOKUP(CC90,'Master Template'!$B$73:$C$83,2,FALSE),\"\")","v":""},""]
[null,null,null,null,{"$f":"VLOOKUP(E90,'Master Template'!$BY$5:$CH$200,10,TRUE)","v":""},{"$f":"VLOOKUP(F90,'Master Template'!$BY$5:$CH$200,10,TRUE)","v":""},{"$f":"VLOOKUP(G90,'Master Template'!$BY$5:$CH$200,10,TRUE)","v":""},{"$f":"VLOOKUP(H90,'Master Template'!$BY$5:$CH$200,10,TRUE)","v":""},{"$f":"VLOOKUP(I90,'Master Template'!$BY$5:$CH$200,10,TRUE)","v":""},{"$f":"VLOOKUP(J90,'Master Template'!$BY$5:$CH$200,10,TRUE)","v":""},{"$f":"VLOOKUP(K90,'Master Template'!$BY$5:$CH$200,10,TRUE)","v":""},{"$f":"VLOOKUP(L90,'Master Template'!$BY$5:$CH$200,10,TRUE)","v":""},null,null,{"$f":"VLOOKUP(O90,'Master Template'!$BY$5:$CH$200,10,TRUE)","v":""},{"$f":"VLOOKUP(P90,'Master Template'!$BY$5:$CH$200,10,TRUE)","v":""},{"$f":"VLOOKUP(Q90,'Master Template'!$BY$5:$CH$200,10,TRUE)","v":""},{"$f":"VLOOKUP(R90,'Master Template'!$BY$5:$CH$200,10,TRUE)","v":""},{"$f":"VLOOKUP(S90,'Master Template'!$BY$5:$CH$200,10,TRUE)","v":""},{"$f":"VLOOKUP(T90,'Master Template'!$BY$5:$CH$200,10,TRUE)","v":""},{"$f":"VLOOKUP(U90,'Master Template'!$BY$5:$CH$200,10,TRUE)","v":""},{"$f":"VLOOKUP(V90,'Master Template'!$BY$5:$CH$200,10,TRUE)","v":""},{"$f":"VLOOKUP(W90,'Master Template'!$BY$5:$CH$200,10,TRUE)","v":""},{"$f":"VLOOKUP(X90,'Master Template'!$BY$5:$CH$200,10,TRUE)","v":""},{"$f":"VLOOKUP(Y90,'Master Template'!$BY$5:$CH$200,10,TRUE)","v":""},{"$f":"VLOOKUP(Z90,'Master Template'!$BY$5:$CH$200,10,TRUE)","v":""},{"$f":"VLOOKUP(AA90,'Master Template'!$BY$5:$CH$200,10,TRUE)","v":""},{"$f":"VLOOKUP(AB90,'Master Template'!$BY$5:$CH$200,10,TRUE)","v":""},null,null,null,null,null,null,null,null,null,null,null,null,null,null,null,null,null,null,null,null,null,null,null,null,null,null,null,null,null,null,null,null,null,null,null,null,null,null,null,null,null,null,null,null,null,null,null,null,{"$f":"'List Data'!B88","v":"222-1"},{"$f":"IFERROR(INDEX('Master Template'!$M$8:$M$37,SMALL(IF('Master Template'!$F$8:$F$37=$BY91,ROW('Master Template'!$F$8:$F$37)-7,\"\"),COLUMNS($BZ$4:BZ91))),\"\")","v":""},{"$f":"IFERROR(INDEX('Master Template'!$M$8:$M$37,SMALL(IF('Master Template'!$F$8:$F$37=$BY91,ROW('Master Template'!$F$8:$F$37)-7,\"\"),COLUMNS($BZ$4:CA91))),\"\")","v":""},{"$f":"IFERROR(INDEX('Master Template'!$M$8:$M$37,SMALL(IF('Master Template'!$F$8:$F$37=$BY91,ROW('Master Template'!$F$8:$F$37)-7,\"\"),COLUMNS($BZ$4:CB91))),\"\")","v":""},{"$f":"IFERROR(INDEX('Master Template'!$M$8:$M$37,SMALL(IF('Master Template'!$F$8:$F$37=$BY91,ROW('Master Template'!$F$8:$F$37)-7,\"\"),COLUMNS($BZ$4:CC91))),\"\")","v":""},{"$f":"IFERROR(VLOOKUP(BZ91,'Master Template'!$B$73:$C$83,2,FALSE),\"\")","v":""},{"$f":"IFERROR(VLOOKUP(CA91,'Master Template'!$B$73:$C$83,2,FALSE),\"\")","v":""},{"$f":"IFERROR(VLOOKUP(CB91,'Master Template'!$B$73:$C$83,2,FALSE),\"\")","v":""},{"$f":"IFERROR(VLOOKUP(CC91,'Master Template'!$B$73:$C$83,2,FALSE),\"\")","v":""},""]
[null,null,null,null,null,null,null,null,null,null,null,null,null,null,null,null,null,null,null,null,null,null,null,null,null,null,null,null,null,null,null,null,null,null,null,null,null,null,null,null,null,null,null,null,null,null,null,null,null,null,null,null,null,null,null,null,null,null,null,null,null,null,null,null,null,null,null,null,null,null,null,null,null,null,null,null,{"$f":"'List Data'!B89","v":"222-2"},{"$f":"IFERROR(INDEX('Master Template'!$M$8:$M$37,SMALL(IF('Master Template'!$F$8:$F$37=$BY92,ROW('Master Template'!$F$8:$F$37)-7,\"\"),COLUMNS($BZ$4:BZ92))),\"\")","v":""},{"$f":"IFERROR(INDEX('Master Template'!$M$8:$M$37,SMALL(IF('Master Template'!$F$8:$F$37=$BY92,ROW('Master Template'!$F$8:$F$37)-7,\"\"),COLUMNS($BZ$4:CA92))),\"\")","v":""},{"$f":"IFERROR(INDEX('Master Template'!$M$8:$M$37,SMALL(IF('Master Template'!$F$8:$F$37=$BY92,ROW('Master Template'!$F$8:$F$37)-7,\"\"),COLUMNS($BZ$4:CB92))),\"\")","v":""},{"$f":"IFERROR(INDEX('Master Template'!$M$8:$M$37,SMALL(IF('Master Template'!$F$8:$F$37=$BY92,ROW('Master Template'!$F$8:$F$37)-7,\"\"),COLUMNS($BZ$4:CC92))),\"\")","v":""},{"$f":"IFERROR(VLOOKUP(BZ92,'Master Template'!$B$73:$C$83,2,FALSE),\"\")","v":""},{"$f":"IFERROR(VLOOKUP(CA92,'Master Template'!$B$73:$C$83,2,FALSE),\"\")","v":""},{"$f":"IFERROR(VLOOKUP(CB92,'Master Template'!$B$73:$C$83,2,FALSE),\"\")","v":""},{"$f":"IFERROR(VLOOKUP(CC92,'Master Template'!$B$73:$C$83,2,FALSE),\"\")","v":""},""]
[null,null,null,null,null,null,null,"Second Floor (D Hall)",null,null,null,null,null,null,null,null,null,null,null,"Second Floor (D Hall)",null,null,null,null,null,null,null,null,null,null,null,null,null,null,null,null,null,null,null,null,null,null,null,null,null,null,null,null,null,null,null,null,null,null,null,null,null,null,null,null,null,null,null,null,null,null,null,null,null,null,null,null,null,null,null,null,{"$f":"'List Data'!B90","v":"223-1"},{"$f":"IFERROR(INDEX('Master Template'!$M$8:$M$37,SMALL(IF('Master Template'!$F$8:$F$37=$BY93,ROW('Master Template'!$F$8:$F$37)-7,\"\"),COLUMNS($BZ$4:BZ93))),\"\")","v":""},{"$f":"IFERROR(INDEX('Master Template'!$M$8:$M$37,SMALL(IF('Master Template'!$F$8:$F$37=$BY93,ROW('Master Template'!$F$8:$F$37)-7,\"\"),COLUMNS($BZ$4:CA93))),\"\")","v":""},{"$f":"IFERROR(INDEX('Master Template'!$M$8:$M$37,SMALL(IF('Master Template'!$F$8:$F$37=$BY93,ROW('Master Template'!$F$8:$F$37)-7,\"\"),COLUMNS($BZ$4:CB93))),\"\")","v":""},{"$f":"IFERROR(INDEX('Master Template'!$M$8:$M$37,SMALL(IF('Master Template'!$F$8:$F$37=$BY93,ROW('Master Template'!$F$8:$F$37)-7,\"\"),COLUMNS($BZ$4:CC93))),\"\")","v":""},{"$f":"IFERROR(VLOOKUP(BZ93,'Master Template'!$B$73:$C$83,2,FALSE),\"\")","v":""},{"$f":"IFERROR(VLOOKUP(CA93,'Master Template'!$B$73:$C$83,2,FALSE),\"\")","v":""},{"$f":"IFERROR(VLOOKUP(CB93,'Master Template'!$B$73:$C$83,2,FALSE),\"\")","v":""},{"$f":"IFERROR(VLOOKUP(CC93,'Master Template'!$B$73:$C$83,2,FALSE),\"\")","v":""},""]
[null,null,null,"302-1","302-2","304-1","304-2","306-1","306-2","308-1","308-2","310-1","310-2",null,null,null,null,"312-1","312-2","314-1","314-2",null,null,"316-1","316-2",null,null,null,null,null,null,null,null,null,null,null,null,null,null,null,null,null,null,null,null,null,null,null,null,null,null,null,null,null,null,null,null,null,null,null,null,null,null,null,null,null,null,null,null,null,null,null,null,null,null,null,{"$f":"'List Data'!B91","v":"223-2"},{"$f":"IFERROR(INDEX('Master Template'!$M$8:$M$37,SMALL(IF('Master Template'!$F$8:$F$37=$BY94,ROW('Master Template'!$F$8:$F$37)-7,\"\"),COLUMNS($BZ$4:BZ94))),\"\")","v":""},{"$f":"IFERROR(INDEX('Master Template'!$M$8:$M$37,SMALL(IF('Master Template'!$F$8:$F$37=$BY94,ROW('Master Template'!$F$8:$F$37)-7,\"\"),COLUMNS($BZ$4:CA94))),\"\")","v":""},{"$f":"IFERROR(INDEX('Master Template'!$M$8:$M$37,SMALL(IF('Master Template'!$F$8:$F$37=$BY94,ROW('Master Template'!$F$8:$F$37)-7,\"\"),COLUMNS($BZ$4:CB94))),\"\")","v":""},{"$f":"IFERROR(INDEX('Master Template'!$M$8:$M$37,SMALL(IF('Master Template'!$F$8:$F$37=$BY94,ROW('Master Template'!$F$8:$F$37)-7,\"\"),COLUMNS($BZ$4:CC94))),\"\")","v":""},{"$f":"IFERROR(VLOOKUP(BZ94,'Master Template'!$B$73:$C$83,2,FALSE),\"\")","v":""},{"$f":"IFERROR(VLOOKUP(CA94,'Master Template'!$B$73:$C$83,2,FALSE),\"\")","v":""},{"$f":"IFERROR(VLOOKUP(CB94,'Master Template'!$B$73:$C$83,2,FALSE),\"\")","v":""},{"$f":"IFERROR(VLOOKUP(CC94,'Master Template'!$B$73:$C$83,2,FALSE),\"\")","v":""},""]
[null,null,null,{"$f":"VLOOKUP(D94,'Master Template'!$BY$5:$CH$200,10,TRUE)","v":""},{"$f":"VLOOKUP(E94,'Master Template'!$BY$5:$CH$200,10,TRUE)","v":""},{"$f":"VLOOKUP(F94,'Master Template'!$BY$5:$CH$200,10,TRUE)","v":""},{"$f":"VLOOKUP(G94,'Master Template'!$BY$5:$CH$200,10,TRUE)","v":""},{"$f":"VLOOKUP(H94,'Master Template'!$BY$5:$CH$200,10,TRUE)","v":""},{"$f":"VLOOKUP(I94,'Master Template'!$BY$5:$CH$200,10,TRUE)","v":""},{"$f":"VLOOKUP(J94,'Master Template'!$BY$5:$CH$200,10,TRUE)","v":""},{"$f":"VLOOKUP(K94,'Master Template'!$BY$5:$CH$200,10,TRUE)","v":""},{"$f":"VLOOKUP(L94,'Master Template'!$BY$5:$CH$200,10,TRUE)","v":""},{"$f":"VLOOKUP(M94,'Master Template'!$BY$5:$CH$200,10,TRUE)","v":""},null,null,null,null,{"$f":"VLOOKUP(R94,'Master Template'!$BY$5:$CH$200,10,TRUE)","v":""},{"$f":"VLOOKUP(S94,'Master Template'!$BY$5:$CH$200,10,TRUE)","v":""},{"$f":"VLOOKUP(T94,'Master Template'!$BY$5:$CH$200,10,TRUE)","v":""},{"$f":"VLOOKUP(U94,'Master Template'!$BY$5:$CH$200,10,TRUE)","v":""},null,null,{"$f":"VLOOKUP(X94,'Master Template'!$BY$5:$CH$200,10,TRUE)","v":""},{"$f":"VLOOKUP(Y94,'Master Template'!$BY$5:$CH$200,10,TRUE)","v":""},null,null,null,null,null,null,null,null,null,null,null,null,null,null,null,null,null,null,null,null,null,null,null,null,null,null,null,null,null,null,null,null,null,null,null,null,null,null,null,null,null,null,null,null,null,null,null,null,null,null,null,{"$f":"'List Data'!B92","v":"224-1"},{"$f":"IFERROR(INDEX('Master Template'!$M$8:$M$37,SMALL(IF('Master Template'!$F$8:$F$37=$BY95,ROW('Master Template'!$F$8:$F$37)-7,\"\"),COLUMNS($BZ$4:BZ95))),\"\")","v":""},{"$f":"IFERROR(INDEX('Master Template'!$M$8:$M$37,SMALL(IF('Master Template'!$F$8:$F$37=$BY95,ROW('Master Template'!$F$8:$F$37)-7,\"\"),COLUMNS($BZ$4:CA95))),\"\")","v":""},{"$f":"IFERROR(INDEX('Master Template'!$M$8:$M$37,SMALL(IF('Master Template'!$F$8:$F$37=$BY95,ROW('Master Template'!$F$8:$F$37)-7,\"\"),COLUMNS($BZ$4:CB95))),\"\")","v":""},{"$f":"IFERROR(INDEX('Master Template'!$M$8:$M$37,SMALL(IF('Master Template'!$F$8:$F$37=$BY95,ROW('Master Template'!$F$8:$F$37)-7,\"\"),COLUMNS($BZ$4:CC95))),\"\")","v":""},{"$f":"IFERROR(VLOOKUP(BZ95,'Master Template'!$B$73:$C$83,2,FALSE),\"\")","v":""},{"$f":"IFERROR(VLOOKUP(CA95,'Master Template'!$B$73:$C$83,2,FALSE),\"\")","v":""},{"$f":"IFERROR(VLOOKUP(CB95,'Master Template'!$B$73:$C$83,2,FALSE),\"\")","v":""},{"$f":"IFERROR(VLOOKUP(CC95,'Master Template'!$B$73:$C$83,2,FALSE),\"\")","v":""},""]
[null,null,null,null,null,null,null,null,null,null,null,null,null,null,null,null,null,null,null,null,null,null,null,null,null,null,null,null,null,null,null,null,null,null,null,null,null,null,null,null,null,null,null,null,null,null,null,null,null,null,null,null,null,null,null,null,null,null,null,null,null,null,null,null,null,null,null,null,null,null,null,null,null,null,null,null,{"$f":"'List Data'!B93","v":"224-2"},{"$f":"IFERROR(INDEX('Master Template'!$M$8:$M$37,SMALL(IF('Master Template'!$F$8:$F$37=$BY96,ROW('Master Template'!$F$8:$F$37)-7,\"\"),COLUMNS($BZ$4:BZ96))),\"\")","v":""},{"$f":"IFERROR(INDEX('Master Template'!$M$8:$M$37,SMALL(IF('Master Template'!$F$8:$F$37=$BY96,ROW('Master Template'!$F$8:$F$37)-7,\"\"),COLUMNS($BZ$4:CA96))),\"\")","v":""},{"$f":"IFERROR(INDEX('Master Template'!$M$8:$M$37,SMALL(IF('Master Template'!$F$8:$F$37=$BY96,ROW('Master Template'!$F$8:$F$37)-7,\"\"),COLUMNS($BZ$4:CB96))),\"\")","v":""},{"$f":"IFERROR(INDEX('Master Template'!$M$8:$M$37,SMALL(IF('Master Template'!$F$8:$F$37=$BY96,ROW('Master Template'!$F$8:$F$37)-7,\"\"),COLUMNS($BZ$4:CC96))),\"\")","v":""},{"$f":"IFERROR(VLOOKUP(BZ96,'Master Template'!$B$73:$C$83,2,FALSE),\"\")","v":""},{"$f":"IFERROR(VLOOKUP(CA96,'Master Template'!$B$73:$C$83,2,FALSE),\"\")","v":""},{"$f":"IFERROR(VLOOKUP(CB96,'Master Template'!$B$73:$C$83,2,FALSE),\"\")","v":""},{"$f":"IFERROR(VLOOKUP(CC96,'Master Template'!$B$73:$C$83,2,FALSE),\"\")","v":""},""]
[null,null,null,"301-1","301-2","303-1","303-2","305-1","305-2","307-1","307-2","309-1","309-2",null,"319-1","319-2",null,"311-1","311-2","313-1","313-2","315-1","315-2","317-1","317-2",null,null,null,null,null,null,null,null,null,null,null,null,null,null,null,null,null,null,null,null,null,null,null,null,null,null,null,null,null,null,null,null,null,null,null,null,null,null,null,null,null,null,null,null,null,null,null,null,null,null,null,{"$f":"'List Data'!B94","v":"225-1"},{"$f":"IFERROR(INDEX('Master Template'!$M$8:$M$37,SMALL(IF('Master Template'!$F$8:$F$37=$BY97,ROW('Master Template'!$F$8:$F$37)-7,\"\"),COLUMNS($BZ$4:BZ97))),\"\")","v":""},{"$f":"IFERROR(INDEX('Master Template'!$M$8:$M$37,SMALL(IF('Master Template'!$F$8:$F$37=$BY97,ROW('Master Template'!$F$8:$F$37)-7,\"\"),COLUMNS($BZ$4:CA97))),\"\")","v":""},{"$f":"IFERROR(INDEX('Master Template'!$M$8:$M$37,SMALL(IF('Master Template'!$F$8:$F$37=$BY97,ROW('Master Template'!$F$8:$F$37)-7,\"\"),COLUMNS($BZ$4:CB97))),\"\")","v":""},{"$f":"IFERROR(INDEX('Master Template'!$M$8:$M$37,SMALL(IF('Master Template'!$F$8:$F$37=$BY97,ROW('Master Template'!$F$8:$F$37)-7,\"\"),COLUMNS($BZ$4:CC97))),\"\")","v":""},{"$f":"IFERROR(VLOOKUP(BZ97,'Master Template'!$B$73:$C$83,2,FALSE),\"\")","v":""},{"$f":"IFERROR(VLOOKUP(CA97,'Master Template'!$B$73:$C$83,2,FALSE),\"\")","v":""},{"$f":"IFERROR(VLOOKUP(CB97,'Master Template'!$B$73:$C$83,2,FALSE),\"\")","v":""},{"$f":"IFERROR(VLOOKUP(CC97,'Master Template'!$B$73:$C$83,2,FALSE),\"\")","v":""},""]
[null,null,null,{"$f":"VLOOKUP(D97,'Master Template'!$BY$5:$CH$200,10,TRUE)","v":""},{"$f":"VLOOKUP(E97,'Master Template'!$BY$5:$CH$200,10,TRUE)","v":""},{"$f":"VLOOKUP(F97,'Master Template'!$BY$5:$CH$200,10,TRUE)","v":""},{"$f":"VLOOKUP(G97,'Master Template'!$BY$5:$CH$200,10,TRUE)","v":""},{"$f":"VLOOKUP(H97,'Master Template'!$BY$5:$CH$200,10,TRUE)","v":""},{"$f":"VLOOKUP(I97,'Master Template'!$BY$5:$CH$200,10,TRUE)","v":""},{"$f":"VLOOKUP(J97,'Master Template'!$BY$5:$CH$200,10,TRUE)","v":""},{"$f":"VLOOKUP(K97,'Master Template'!$BY$5:$CH$200,10,TRUE)","v":""},{"$f":"VLOOKUP(L97,'Master Template'!$BY$5:$CH$200,10,TRUE)","v":""},{"$f":"VLOOKUP(M97,'Master Template'!$BY$5:$CH$200,10,TRUE)","v":""},null,{"$f":"VLOOKUP(O97,'Master Template'!$BY$5:$CH$200,10,TRUE)","v":""},{"$f":"VLOOKUP(P97,'Master Template'!$BY$5:$CH$200,10,TRUE)","v":""},null,{"$f":"VLOOKUP(R97,'Master Template'!$BY$5:$CH$200,10,TRUE)","v":""},{"$f":"VLOOKUP(S97,'Master Template'!$BY$5:$CH$200,10,TRUE)","v":""},{"$f":"VLOOKUP(T97,'Master Template'!$BY$5:$CH$200,10,TRUE)","v":""},{"$f":"VLOOKUP(U97,'Master Template'!$BY$5:$CH$200,10,TRUE)","v":""},{"$f":"VLOOKUP(V97,'Master Template'!$BY$5:$CH$200,10,TRUE)","v":""},{"$f":"VLOOKUP(W97,'Master Template'!$BY$5:$CH$200,10,TRUE)","v":""},{"$f":"VLOOKUP(X97,'Master Template'!$BY$5:$CH$200,10,TRUE)","v":""},{"$f":"VLOOKUP(Y97,'Master Template'!$BY$5:$CH$200,10,TRUE)","v":""},null,null,null,null,null,null,null,null,null,null,null,null,null,null,null,null,null,null,null,null,null,null,null,null,null,null,null,null,null,null,null,null,null,null,null,null,null,null,null,null,null,null,null,null,null,null,null,null,null,null,null,{"$f":"'List Data'!B95","v":"225-2"},{"$f":"IFERROR(INDEX('Master Template'!$M$8:$M$37,SMALL(IF('Master Template'!$F$8:$F$37=$BY98,ROW('Master Template'!$F$8:$F$37)-7,\"\"),COLUMNS($BZ$4:BZ98))),\"\")","v":""},{"$f":"IFERROR(INDEX('Master Template'!$M$8:$M$37,SMALL(IF('Master Template'!$F$8:$F$37=$BY98,ROW('Master Template'!$F$8:$F$37)-7,\"\"),COLUMNS($BZ$4:CA98))),\"\")","v":""},{"$f":"IFERROR(INDEX('Master Template'!$M$8:$M$37,SMALL(IF('Master Template'!$F$8:$F$37=$BY98,ROW('Master Template'!$F$8:$F$37)-7,\"\"),COLUMNS($BZ$4:CB98))),\"\")","v":""},{"$f":"IFERROR(INDEX('Master Template'!$M$8:$M$37,SMALL(IF('Master Template'!$F$8:$F$37=$BY98,ROW('Master Template'!$F$8:$F$37)-7,\"\"),COLUMNS($BZ$4:CC98))),\"\")","v":""},{"$f":"IFERROR(VLOOKUP(BZ98,'Master Template'!$B$73:$C$83,2,FALSE),\"\")","v":""},{"$f":"IFERROR(VLOOKUP(CA98,'Master Template'!$B$73:$C$83,2,FALSE),\"\")","v":""},{"$f":"IFERROR(VLOOKUP(CB98,'Master Template'!$B$73:$C$83,2,FALSE),\"\")","v":""},{"$f":"IFERROR(VLOOKUP(CC98,'Master Template'!$B$73:$C$83,2,FALSE),\"\")","v":""},""]
[null,null,null,null,null,null,null,null,null,null,null,null,null,null,null,null,null,null,null,null,null,null,null,null,null,null,null,null,null,null,null,null,null,null,null,null,null,null,null,null,null,null,null,null,null,null,null,null,null,null,null,null,null,null,null,null,null,null,null,null,null,null,null,null,null,null,null,null,null,null,null,null,null,null,null,null,{"$f":"'List Data'!B96","v":"226-1"},{"$f":"IFERROR(INDEX('Master Template'!$M$8:$M$37,SMALL(IF('Master Template'!$F$8:$F$37=$BY99,ROW('Master Template'!$F$8:$F$37)-7,\"\"),COLUMNS($BZ$4:BZ99))),\"\")","v":""},{"$f":"IFERROR(INDEX('Master Template'!$M$8:$M$37,SMALL(IF('Master Template'!$F$8:$F$37=$BY99,ROW('Master Template'!$F$8:$F$37)-7,\"\"),COLUMNS($BZ$4:CA99))),\"\")","v":""},{"$f":"IFERROR(INDEX('Master Template'!$M$8:$M$37,SMALL(IF('Master Template'!$F$8:$F$37=$BY99,ROW('Master Template'!$F$8:$F$37)-7,\"\"),COLUMNS($BZ$4:CB99))),\"\")","v":""},{"$f":"IFERROR(INDEX('Master Template'!$M$8:$M$37,SMALL(IF('Master Template'!$F$8:$F$37=$BY99,ROW('Master Template'!$F$8:$F$37)-7,\"\"),COLUMNS($BZ$4:CC99))),\"\")","v":""},{"$f":"IFERROR(VLOOKUP(BZ99,'Master Template'!$B$73:$C$83,2,FALSE),\"\")","v":""},{"$f":"IFERROR(VLOOKUP(CA99,'Master Template'!$B$73:$C$83,2,FALSE),\"\")","v":""},{"$f":"IFERROR(VLOOKUP(CB99,'Master Template'!$B$73:$C$83,2,FALSE),\"\")","v":""},{"$f":"IFERROR(VLOOKUP(CC99,'Master Template'!$B$73:$C$83,2,FALSE),\"\")","v":""},""]
[null,null,null,null,null,null,null,null,null,null,null,null,null,null,null,null,null,null,null,null,null,null,null,null,null,null,null,null,null,null,null,null,null,null,null,null,null,null,null,null,null,null,null,null,null,null,null,null,null,null,null,null,null,null,null,null,null,null,null,null,null,null,null,null,null,null,null,null,null,null,null,null,null,null,null,null,{"$f":"'List Data'!B97","v":"226-2"},{"$f":"IFERROR(INDEX('Master Template'!$M$8:$M$37,SMALL(IF('Master Template'!$F$8:$F$37=$BY100,ROW('Master Template'!$F$8:$F$37)-7,\"\"),COLUMNS($BZ$4:BZ100))),\"\")","v":""},{"$f":"IFERROR(INDEX('Master Template'!$M$8:$M$37,SMALL(IF('Master Template'!$F$8:$F$37=$BY100,ROW('Master Template'!$F$8:$F$37)-7,\"\"),COLUMNS($BZ$4:CA100))),\"\")","v":""},{"$f":"IFERROR(INDEX('Master Template'!$M$8:$M$37,SMALL(IF('Master Template'!$F$8:$F$37=$BY100,ROW('Master Template'!$F$8:$F$37)-7,\"\"),COLUMNS($BZ$4:CB100))),\"\")","v":""},{"$f":"IFERROR(INDEX('Master Template'!$M$8:$M$37,SMALL(IF('Master Template'!$F$8:$F$37=$BY100,ROW('Master Template'!$F$8:$F$37)-7,\"\"),COLUMNS($BZ$4:CC100))),\"\")","v":""},{"$f":"IFERROR(VLOOKUP(BZ100,'Master Template'!$B$73:$C$83,2,FALSE),\"\")","v":""},{"$f":"IFERROR(VLOOKUP(CA100,'Master Template'!$B$73:$C$83,2,FALSE),\"\")","v":""},{"$f":"IFERROR(VLOOKUP(CB100,'Master Template'!$B$73:$C$83,2,FALSE),\"\")","v":""},{"$f":"IFERROR(VLOOKUP(CC100,'Master Template'!$B$73:$C$83,2,FALSE),\"\")","v":""},""]
[null,null,null,null,null,null,null,null,null,null,null,null,null,null,null,null,null,null,null,null,null,null,null,null,null,null,null,null,null,null,null,null,null,null,null,null,null,null,null,null,null,null,null,null,null,null,null,null,null,null,null,null,null,null,null,null,null,null,null,null,null,null,null,null,null,null,null,null,null,null,null,null,null,null,null,null,{"$f":"'List Data'!B98","v":"227-1"},{"$f":"IFERROR(INDEX('Master Template'!$M$8:$M$37,SMALL(IF('Master Template'!$F$8:$F$37=$BY101,ROW('Master Template'!$F$8:$F$37)-7,\"\"),COLUMNS($BZ$4:BZ101))),\"\")","v":""},{"$f":"IFERROR(INDEX('Master Template'!$M$8:$M$37,SMALL(IF('Master Template'!$F$8:$F$37=$BY101,ROW('Master Template'!$F$8:$F$37)-7,\"\"),COLUMNS($BZ$4:CA101))),\"\")","v":""},{"$f":"IFERROR(INDEX('Master Template'!$M$8:$M$37,SMALL(IF('Master Template'!$F$8:$F$37=$BY101,ROW('Master Template'!$F$8:$F$37)-7,\"\"),COLUMNS($BZ$4:CB101))),\"\")","v":""},{"$f":"IFERROR(INDEX('Master Template'!$M$8:$M$37,SMALL(IF('Master Template'!$F$8:$F$37=$BY101,ROW('Master Template'!$F$8:$F$37)-7,\"\"),COLUMNS($BZ$4:CC101))),\"\")","v":""},{"$f":"IFERROR(VLOOKUP(BZ101,'Master Template'!$B$73:$C$83,2,FALSE),\"\")","v":""},{"$f":"IFERROR(VLOOKUP(CA101,'Master Template'!$B$73:$C$83,2,FALSE),\"\")","v":""},{"$f":"IFERROR(VLOOKUP(CB101,'Master Template'!$B$73:$C$83,2,FALSE),\"\")","v":""},{"$f":"IFERROR(VLOOKUP(CC101,'Master Template'!$B$73:$C$83,2,FALSE),\"\")","v":""},""]
[null,null,null,null,null,null,null,null,null,null,null,null,null,null,null,null,null,null,null,null,null,null,null,null,null,null,null,null,null,null,null,null,null,null,null,null,null,null,null,null,null,null,null,null,null,null,null,null,null,null,null,null,null,null,null,null,null,null,null,null,null,null,null,null,null,null,null,null,null,null,null,null,null,null,null,null,{"$f":"'List Data'!B99","v":"227-2"},{"$f":"IFERROR(INDEX('Master Template'!$M$8:$M$37,SMALL(IF('Master Template'!$F$8:$F$37=$BY102,ROW('Master Template'!$F$8:$F$37)-7,\"\"),COLUMNS($BZ$4:BZ102))),\"\")","v":""},{"$f":"IFERROR(INDEX('Master Template'!$M$8:$M$37,SMALL(IF('Master Template'!$F$8:$F$37=$BY102,ROW('Master Template'!$F$8:$F$37)-7,\"\"),COLUMNS($BZ$4:CA102))),\"\")","v":""},{"$f":"IFERROR(INDEX('Master Template'!$M$8:$M$37,SMALL(IF('Master Template'!$F$8:$F$37=$BY102,ROW('Master Template'!$F$8:$F$37)-7,\"\"),COLUMNS($BZ$4:CB102))),\"\")","v":""},{"$f":"IFERROR(INDEX('Master Template'!$M$8:$M$37,SMALL(IF('Master Template'!$F$8:$F$37=$BY102,ROW('Master Template'!$F$8:$F$37)-7,\"\"),COLUMNS($BZ$4:CC102))),\"\")","v":""},{"$f":"IFERROR(VLOOKUP(BZ102,'Master Template'!$B$73:$C$83,2,FALSE),\"\")","v":""},{"$f":"IFERROR(VLOOKUP(CA102,'Master Template'!$B$73:$C$83,2,FALSE),\"\")","v":""},{"$f":"IFERROR(VLOOKUP(CB102,'Master Template'!$B$73:$C$83,2,FALSE),\"\")","v":""},{"$f":"IFERROR(VLOOKUP(CC102,'Master Template'!$B$73:$C$83,2,FALSE),\"\")","v":""},""]
[null,null,null,null,null,null,null,null,null,null,null,null,null,null,null,null,null,null,null,null,null,null,null,null,null,null,null,null,null,null,null,null,null,null,null,null,null,null,null,null,null,null,null,null,null,null,null,null,null,null,null,null,null,null,null,null,null,null,null,null,null,null,null,null,null,null,null,null,null,null,null,null,null,null,null,null,{"$f":"'List Data'!B100","v":"228-1"},{"$f":"IFERROR(INDEX('Master Template'!$M$8:$M$37,SMALL(IF('Master Template'!$F$8:$F$37=$BY103,ROW('Master Template'!$F$8:$F$37)-7,\"\"),COLUMNS($BZ$4:BZ103))),\"\")","v":""},{"$f":"IFERROR(INDEX('Master Template'!$M$8:$M$37,SMALL(IF('Master Template'!$F$8:$F$37=$BY103,ROW('Master Template'!$F$8:$F$37)-7,\"\"),COLUMNS($BZ$4:CA103))),\"\")","v":""},{"$f":"IFERROR(INDEX('Master Template'!$M$8:$M$37,SMALL(IF('Master Template'!$F$8:$F$37=$BY103,ROW('Master Template'!$F$8:$F$37)-7,\"\"),COLUMNS($BZ$4:CB103))),\"\")","v":""},{"$f":"IFERROR(INDEX('Master Template'!$M$8:$M$37,SMALL(IF('Master Template'!$F$8:$F$37=$BY103,ROW('Master Template'!$F$8:$F$37)-7,\"\"),COLUMNS($BZ$4:CC103))),\"\")","v":""},{"$f":"IFERROR(VLOOKUP(BZ103,'Master Template'!$B$73:$C$83,2,FALSE),\"\")","v":""},{"$f":"IFERROR(VLOOKUP(CA103,'Master Template'!$B$73:$C$83,2,FALSE),\"\")","v":""},{"$f":"IFERROR(VLOOKUP(CB103,'Master Template'!$B$73:$C$83,2,FALSE),\"\")","v":""},{"$f":"IFERROR(VLOOKUP(CC103,'Master Template'!$B$73:$C$83,2,FALSE),\"\")","v":""},""]
[null,null,null,null,null,null,null,null,null,null,null,null,null,null,null,null,null,null,null,null,null,null,null,null,null,null,null,null,null,null,null,null,null,null,null,null,null,null,null,null,null,null,null,null,null,null,null,null,null,null,null,null,null,null,null,null,null,null,null,null,null,null,null,null,null,null,null,null,null,null,null,null,null,null,null,null,{"$f":"'List Data'!B101","v":"228-2"},{"$f":"IFERROR(INDEX('Master Template'!$M$8:$M$37,SMALL(IF('Master Template'!$F$8:$F$37=$BY104,ROW('Master Template'!$F$8:$F$37)-7,\"\"),COLUMNS($BZ$4:BZ104))),\"\")","v":""},{"$f":"IFERROR(INDEX('Master Template'!$M$8:$M$37,SMALL(IF('Master Template'!$F$8:$F$37=$BY104,ROW('Master Template'!$F$8:$F$37)-7,\"\"),COLUMNS($BZ$4:CA104))),\"\")","v":""},{"$f":"IFERROR(INDEX('Master Template'!$M$8:$M$37,SMALL(IF('Master Template'!$F$8:$F$37=$BY104,ROW('Master Template'!$F$8:$F$37)-7,\"\"),COLUMNS($BZ$4:CB104))),\"\")","v":""},{"$f":"IFERROR(INDEX('Master Template'!$M$8:$M$37,SMALL(IF('Master Template'!$F$8:$F$37=$BY104,ROW('Master Template'!$F$8:$F$37)-7,\"\"),COLUMNS($BZ$4:CC104))),\"\")","v":""},{"$f":"IFERROR(VLOOKUP(BZ104,'Master Template'!$B$73:$C$83,2,FALSE),\"\")","v":""},{"$f":"IFERROR(VLOOKUP(CA104,'Master Template'!$B$73:$C$83,2,FALSE),\"\")","v":""},{"$f":"IFERROR(VLOOKUP(CB104,'Master Template'!$B$73:$C$83,2,FALSE),\"\")","v":""},{"$f":"IFERROR(VLOOKUP(CC104,'Master Template'!$B$73:$C$83,2,FALSE),\"\")","v":""},""]
[null,"Root Cause Analysis of Infections",null,null,null,null,null,null,null,null,null,null,null,null,null,null,null,null,null,null,null,null,null,null,null,null,null,null,null,null,null,null,null,null,null,null,null,null,null,null,null,null,null,null,null,null,null,null,null,null,null,null,null,null,null,null,null,null,null,null,null,null,null,null,null,null,null,null,null,null,null,null,null,null,null,null,{"$f":"'List Data'!B102","v":"229-1"},{"$f":"IFERROR(INDEX('Master Template'!$M$8:$M$37,SMALL(IF('Master Template'!$F$8:$F$37=$BY105,ROW('Master Template'!$F$8:$F$37)-7,\"\"),COLUMNS($BZ$4:BZ105))),\"\")","v":""},{"$f":"IFERROR(INDEX('Master Template'!$M$8:$M$37,SMALL(IF('Master Template'!$F$8:$F$37=$BY105,ROW('Master Template'!$F$8:$F$37)-7,\"\"),COLUMNS($BZ$4:CA105))),\"\")","v":""},{"$f":"IFERROR(INDEX('Master Template'!$M$8:$M$37,SMALL(IF('Master Template'!$F$8:$F$37=$BY105,ROW('Master Template'!$F$8:$F$37)-7,\"\"),COLUMNS($BZ$4:CB105))),\"\")","v":""},{"$f":"IFERROR(INDEX('Master Template'!$M$8:$M$37,SMALL(IF('Master Template'!$F$8:$F$37=$BY105,ROW('Master Template'!$F$8:$F$37)-7,\"\"),COLUMNS($BZ$4:CC105))),\"\")","v":""},{"$f":"IFERROR(VLOOKUP(BZ105,'Master Template'!$B$73:$C$83,2,FALSE),\"\")","v":""},{"$f":"IFERROR(VLOOKUP(CA105,'Master Template'!$B$73:$C$83,2,FALSE),\"\")","v":""},{"$f":"IFERROR(VLOOKUP(CB105,'Master Template'!$B$73:$C$83,2,FALSE),\"\")","v":""},{"$f":"IFERROR(VLOOKUP(CC105,'Master Template'!$B$73:$C$83,2,FALSE),\"\")","v":""},""]
[null,"Infection Trends/Clusters (hall, simliar type infections):",null,null,null,null,null,null,null,null,null,null,null,null,null,null,null,null,null,null,null,null,null,null,null,null,null,null,null,null,null,null,null,null,null,null,null,null,null,null,null,null,null,null,null,null,null,null,null,null,null,null,null,null,null,null,null,null,null,null,null,null,null,null,null,null,null,null,null,null,null,null,null,null,null,null,{"$f":"'List Data'!B103","v":"229-2"},{"$f":"IFERROR(INDEX('Master Template'!$M$8:$M$37,SMALL(IF('Master Template'!$F$8:$F$37=$BY106,ROW('Master Template'!$F$8:$F$37)-7,\"\"),COLUMNS($BZ$4:BZ106))),\"\")","v":""},{"$f":"IFERROR(INDEX('Master Template'!$M$8:$M$37,SMALL(IF('Master Template'!$F$8:$F$37=$BY106,ROW('Master Template'!$F$8:$F$37)-7,\"\"),COLUMNS($BZ$4:CA106))),\"\")","v":""},{"$f":"IFERROR(INDEX('Master Template'!$M$8:$M$37,SMALL(IF('Master Template'!$F$8:$F$37=$BY106,ROW('Master Template'!$F$8:$F$37)-7,\"\"),COLUMNS($BZ$4:CB106))),\"\")","v":""},{"$f":"IFERROR(INDEX('Master Template'!$M$8:$M$37,SMALL(IF('Master Template'!$F$8:$F$37=$BY106,ROW('Master Template'!$F$8:$F$37)-7,\"\"),COLUMNS($BZ$4:CC106))),\"\")","v":""},{"$f":"IFERROR(VLOOKUP(BZ106,'Master Template'!$B$73:$C$83,2,FALSE),\"\")","v":""},{"$f":"IFERROR(VLOOKUP(CA106,'Master Template'!$B$73:$C$83,2,FALSE),\"\")","v":""},{"$f":"IFERROR(VLOOKUP(CB106,'Master Template'!$B$73:$C$83,2,FALSE),\"\")","v":""},{"$f":"IFERROR(VLOOKUP(CC106,'Master Template'!$B$73:$C$83,2,FALSE),\"\")","v":""},""]
[null,"Outbreaks:",null,null,null,null,null,null,null,null,null,null,null,null,null,null,null,null,null,null,null,null,null,null,null,null,null,null,null,null,null,null,null,null,null,null,null,null,null,null,null,null,null,null,null,null,null,null,null,null,null,null,null,null,null,null,null,null,null,null,null,null,null,null,null,null,null,null,null,null,null,null,null,null,null,null,{"$f":"'List Data'!B104","v":"230-1"},{"$f":"IFERROR(INDEX('Master Template'!$M$8:$M$37,SMALL(IF('Master Template'!$F$8:$F$37=$BY107,ROW('Master Template'!$F$8:$F$37)-7,\"\"),COLUMNS($BZ$4:BZ107))),\"\")","v":""},{"$f":"IFERROR(INDEX('Master Template'!$M$8:$M$37,SMALL(IF('Master Template'!$F$8:$F$37=$BY107,ROW('Master Template'!$F$8:$F$37)-7,\"\"),COLUMNS($BZ$4:CA107))),\"\")","v":""},{"$f":"IFERROR(INDEX('Master Template'!$M$8:$M$37,SMALL(IF('Master Template'!$F$8:$F$37=$BY107,ROW('Master Template'!$F$8:$F$37)-7,\"\"),COLUMNS($BZ$4:CB107))),\"\")","v":""},{"$f":"IFERROR(INDEX('Master Template'!$M$8:$M$37,SMALL(IF('Master Template'!$F$8:$F$37=$BY107,ROW('Master Template'!$F$8:$F$37)-7,\"\"),COLUMNS($BZ$4:CC107))),\"\")","v":""},{"$f":"IFERROR(VLOOKUP(BZ107,'Master Template'!$B$73:$C$83,2,FALSE),\"\")","v":""},{"$f":"IFERROR(VLOOKUP(CA107,'Master Template'!$B$73:$C$83,2,FALSE),\"\")","v":""},{"$f":"IFERROR(VLOOKUP(CB107,'Master Template'!$B$73:$C$83,2,FALSE),\"\")","v":""},{"$f":"IFERROR(VLOOKUP(CC107,'Master Template'!$B$73:$C$83,2,FALSE),\"\")","v":""},""]
[null,"Changes from previous month:",null,null,null,null,null,null,null,null,null,null,null,null,null,null,null,null,null,null,null,null,null,null,null,null,null,null,null,null,null,null,null,null,null,null,null,null,null,null,null,null,null,null,null,null,null,null,null,null,null,null,null,null,null,null,null,null,null,null,null,null,null,null,null,null,null,null,null,null,null,null,null,null,null,null,{"$f":"'List Data'!B105","v":"230-2"},{"$f":"IFERROR(INDEX('Master Template'!$M$8:$M$37,SMALL(IF('Master Template'!$F$8:$F$37=$BY108,ROW('Master Template'!$F$8:$F$37)-7,\"\"),COLUMNS($BZ$4:BZ108))),\"\")","v":""},{"$f":"IFERROR(INDEX('Master Template'!$M$8:$M$37,SMALL(IF('Master Template'!$F$8:$F$37=$BY108,ROW('Master Template'!$F$8:$F$37)-7,\"\"),COLUMNS($BZ$4:CA108))),\"\")","v":""},{"$f":"IFERROR(INDEX('Master Template'!$M$8:$M$37,SMALL(IF('Master Template'!$F$8:$F$37=$BY108,ROW('Master Template'!$F$8:$F$37)-7,\"\"),COLUMNS($BZ$4:CB108))),\"\")","v":""},{"$f":"IFERROR(INDEX('Master Template'!$M$8:$M$37,SMALL(IF('Master Template'!$F$8:$F$37=$BY108,ROW('Master Template'!$F$8:$F$37)-7,\"\"),COLUMNS($BZ$4:CC108))),\"\")","v":""},{"$f":"IFERROR(VLOOKUP(BZ108,'Master Template'!$B$73:$C$83,2,FALSE),\"\")","v":""},{"$f":"IFERROR(VLOOKUP(CA108,'Master Template'!$B$73:$C$83,2,FALSE),\"\")","v":""},{"$f":"IFERROR(VLOOKUP(CB108,'Master Template'!$B$73:$C$83,2,FALSE),\"\")","v":""},{"$f":"IFERROR(VLOOKUP(CC108,'Master Template'!$B$73:$C$83,2,FALSE),\"\")","v":""},""]
[null,"Action Plan (if applicable):",null,null,null,null,null,null,null,null,null,null,null,null,null,null,null,null,null,null,null,null,null,null,null,null,null,null,null,null,null,null,null,null,null,null,null,null,null,null,null,null,null,null,null,null,null,null,null,null,null,null,null,null,null,null,null,null,null,null,null,null,null,null,null,null,null,null,null,null,null,null,null,null,null,null,{"$f":"'List Data'!B106","v":"231-1"},{"$f":"IFERROR(INDEX('Master Template'!$M$8:$M$37,SMALL(IF('Master Template'!$F$8:$F$37=$BY109,ROW('Master Template'!$F$8:$F$37)-7,\"\"),COLUMNS($BZ$4:BZ109))),\"\")","v":""},{"$f":"IFERROR(INDEX('Master Template'!$M$8:$M$37,SMALL(IF('Master Template'!$F$8:$F$37=$BY109,ROW('Master Template'!$F$8:$F$37)-7,\"\"),COLUMNS($BZ$4:CA109))),\"\")","v":""},{"$f":"IFERROR(INDEX('Master Template'!$M$8:$M$37,SMALL(IF('Master Template'!$F$8:$F$37=$BY109,ROW('Master Template'!$F$8:$F$37)-7,\"\"),COLUMNS($BZ$4:CB109))),\"\")","v":""},{"$f":"IFERROR(INDEX('Master Template'!$M$8:$M$37,SMALL(IF('Master Template'!$F$8:$F$37=$BY109,ROW('Master Template'!$F$8:$F$37)-7,\"\"),COLUMNS($BZ$4:CC109))),\"\")","v":""},{"$f":"IFERROR(VLOOKUP(BZ109,'Master Template'!$B$73:$C$83,2,FALSE),\"\")","v":""},{"$f":"IFERROR(VLOOKUP(CA109,'Master Template'!$B$73:$C$83,2,FALSE),\"\")","v":""},{"$f":"IFERROR(VLOOKUP(CB109,'Master Template'!$B$73:$C$83,2,FALSE),\"\")","v":""},{"$f":"IFERROR(VLOOKUP(CC109,'Master Template'!$B$73:$C$83,2,FALSE),\"\")","v":""},""]
[null,"Prevention of re-occurrence:",null,null,null,null,null,null,null,null,null,null,null,null,null,null,null,null,null,null,null,null,null,null,null,null,null,null,null,null,null,null,null,null,null,null,null,null,null,null,null,null,null,null,null,null,null,null,null,null,null,null,null,null,null,null,null,null,null,null,null,null,null,null,null,null,null,null,null,null,null,null,null,null,null,null,{"$f":"'List Data'!B107","v":"231-2"},{"$f":"IFERROR(INDEX('Master Template'!$M$8:$M$37,SMALL(IF('Master Template'!$F$8:$F$37=$BY110,ROW('Master Template'!$F$8:$F$37)-7,\"\"),COLUMNS($BZ$4:BZ110))),\"\")","v":""},{"$f":"IFERROR(INDEX('Master Template'!$M$8:$M$37,SMALL(IF('Master Template'!$F$8:$F$37=$BY110,ROW('Master Template'!$F$8:$F$37)-7,\"\"),COLUMNS($BZ$4:CA110))),\"\")","v":""},{"$f":"IFERROR(INDEX('Master Template'!$M$8:$M$37,SMALL(IF('Master Template'!$F$8:$F$37=$BY110,ROW('Master Template'!$F$8:$F$37)-7,\"\"),COLUMNS($BZ$4:CB110))),\"\")","v":""},{"$f":"IFERROR(INDEX('Master Template'!$M$8:$M$37,SMALL(IF('Master Template'!$F$8:$F$37=$BY110,ROW('Master Template'!$F$8:$F$37)-7,\"\"),COLUMNS($BZ$4:CC110))),\"\")","v":""},{"$f":"IFERROR(VLOOKUP(BZ110,'Master Template'!$B$73:$C$83,2,FALSE),\"\")","v":""},{"$f":"IFERROR(VLOOKUP(CA110,'Master Template'!$B$73:$C$83,2,FALSE),\"\")","v":""},{"$f":"IFERROR(VLOOKUP(CB110,'Master Template'!$B$73:$C$83,2,FALSE),\"\")","v":""},{"$f":"IFERROR(VLOOKUP(CC110,'Master Template'!$B$73:$C$83,2,FALSE),\"\")","v":""},""]
[null,"Number of prescriptions/provider:",null,null,null,null,null,null,null,null,null,null,null,null,null,null,null,null,null,null,null,null,null,null,null,null,null,null,null,null,null,null,null,null,null,null,null,null,null,null,null,null,null,null,null,null,null,null,null,null,null,null,null,null,null,null,null,null,null,null,null,null,null,null,null,null,null,null,null,null,null,null,null,null,null,null,{"$f":"'List Data'!B108","v":"232-1"},{"$f":"IFERROR(INDEX('Master Template'!$M$8:$M$37,SMALL(IF('Master Template'!$F$8:$F$37=$BY111,ROW('Master Template'!$F$8:$F$37)-7,\"\"),COLUMNS($BZ$4:BZ111))),\"\")","v":""},{"$f":"IFERROR(INDEX('Master Template'!$M$8:$M$37,SMALL(IF('Master Template'!$F$8:$F$37=$BY111,ROW('Master Template'!$F$8:$F$37)-7,\"\"),COLUMNS($BZ$4:CA111))),\"\")","v":""},{"$f":"IFERROR(INDEX('Master Template'!$M$8:$M$37,SMALL(IF('Master Template'!$F$8:$F$37=$BY111,ROW('Master Template'!$F$8:$F$37)-7,\"\"),COLUMNS($BZ$4:CB111))),\"\")","v":""},{"$f":"IFERROR(INDEX('Master Template'!$M$8:$M$37,SMALL(IF('Master Template'!$F$8:$F$37=$BY111,ROW('Master Template'!$F$8:$F$37)-7,\"\"),COLUMNS($BZ$4:CC111))),\"\")","v":""},{"$f":"IFERROR(VLOOKUP(BZ111,'Master Template'!$B$73:$C$83,2,FALSE),\"\")","v":""},{"$f":"IFERROR(VLOOKUP(CA111,'Master Template'!$B$73:$C$83,2,FALSE),\"\")","v":""},{"$f":"IFERROR(VLOOKUP(CB111,'Master Template'!$B$73:$C$83,2,FALSE),\"\")","v":""},{"$f":"IFERROR(VLOOKUP(CC111,'Master Template'!$B$73:$C$83,2,FALSE),\"\")","v":""},""]
[null,"Precautions taken:",null,null,null,null,null,null,null,null,null,null,null,null,null,null,null,null,null,null,null,null,null,null,null,null,null,null,null,null,null,null,null,null,null,null,null,null,null,null,null,null,null,null,null,null,null,null,null,null,null,null,null,null,null,null,null,null,null,null,null,null,null,null,null,null,null,null,null,null,null,null,null,null,null,null,{"$f":"'List Data'!B109","v":"232-2"},{"$f":"IFERROR(INDEX('Master Template'!$M$8:$M$37,SMALL(IF('Master Template'!$F$8:$F$37=$BY112,ROW('Master Template'!$F$8:$F$37)-7,\"\"),COLUMNS($BZ$4:BZ112))),\"\")","v":""},{"$f":"IFERROR(INDEX('Master Template'!$M$8:$M$37,SMALL(IF('Master Template'!$F$8:$F$37=$BY112,ROW('Master Template'!$F$8:$F$37)-7,\"\"),COLUMNS($BZ$4:CA112))),\"\")","v":""},{"$f":"IFERROR(INDEX('Master Template'!$M$8:$M$37,SMALL(IF('Master Template'!$F$8:$F$37=$BY112,ROW('Master Template'!$F$8:$F$37)-7,\"\"),COLUMNS($BZ$4:CB112))),\"\")","v":""},{"$f":"IFERROR(INDEX('Master Template'!$M$8:$M$37,SMALL(IF('Master Template'!$F$8:$F$37=$BY112,ROW('Master Template'!$F$8:$F$37)-7,\"\"),COLUMNS($BZ$4:CC112))),\"\")","v":""},{"$f":"IFERROR(VLOOKUP(BZ112,'Master Template'!$B$73:$C$83,2,FALSE),\"\")","v":""},{"$f":"IFERROR(VLOOKUP(CA112,'Master Template'!$B$73:$C$83,2,FALSE),\"\")","v":""},{"$f":"IFERROR(VLOOKUP(CB112,'Master Template'!$B$73:$C$83,2,FALSE),\"\")","v":""},{"$f":"IFERROR(VLOOKUP(CC112,'Master Template'!$B$73:$C$83,2,FALSE),\"\")","v":""},""]
[null,null,null,null,null,null,null,null,null,null,null,null,null,null,null,null,null,null,null,null,null,null,null,null,null,null,null,null,null,null,null,null,null,null,null,null,null,null,null,null,null,null,null,null,null,null,null,null,null,null,null,null,null,null,null,null,null,null,null,null,null,null,null,null,null,null,null,null,null,null,null,null,null,null,null,null,{"$f":"'List Data'!B110","v":"233-1"},{"$f":"IFERROR(INDEX('Master Template'!$M$8:$M$37,SMALL(IF('Master Template'!$F$8:$F$37=$BY113,ROW('Master Template'!$F$8:$F$37)-7,\"\"),COLUMNS($BZ$4:BZ113))),\"\")","v":""},{"$f":"IFERROR(INDEX('Master Template'!$M$8:$M$37,SMALL(IF('Master Template'!$F$8:$F$37=$BY113,ROW('Master Template'!$F$8:$F$37)-7,\"\"),COLUMNS($BZ$4:CA113))),\"\")","v":""},{"$f":"IFERROR(INDEX('Master Template'!$M$8:$M$37,SMALL(IF('Master Template'!$F$8:$F$37=$BY113,ROW('Master Template'!$F$8:$F$37)-7,\"\"),COLUMNS($BZ$4:CB113))),\"\")","v":""},{"$f":"IFERROR(INDEX('Master Template'!$M$8:$M$37,SMALL(IF('Master Template'!$F$8:$F$37=$BY113,ROW('Master Template'!$F$8:$F$37)-7,\"\"),COLUMNS($BZ$4:CC113))),\"\")","v":""},{"$f":"IFERROR(VLOOKUP(BZ113,'Master Template'!$B$73:$C$83,2,FALSE),\"\")","v":""},{"$f":"IFERROR(VLOOKUP(CA113,'Master Template'!$B$73:$C$83,2,FALSE),\"\")","v":""},{"$f":"IFERROR(VLOOKUP(CB113,'Master Template'!$B$73:$C$83,2,FALSE),\"\")","v":""},{"$f":"IFERROR(VLOOKUP(CC113,'Master Template'!$B$73:$C$83,2,FALSE),\"\")","v":""},""]
[null,null,null,null,null,null,null,null,null,null,null,null,null,null,null,null,null,null,null,null,null,null,null,null,null,null,null,null,null,null,null,null,null,null,null,null,null,null,null,null,null,null,null,null,null,null,null,null,null,null,null,null,null,null,null,null,null,null,null,null,null,null,null,null,null,null,null,null,null,null,null,null,null,null,null,null,{"$f":"'List Data'!B111","v":"233-2"},{"$f":"IFERROR(INDEX('Master Template'!$M$8:$M$37,SMALL(IF('Master Template'!$F$8:$F$37=$BY114,ROW('Master Template'!$F$8:$F$37)-7,\"\"),COLUMNS($BZ$4:BZ114))),\"\")","v":""},{"$f":"IFERROR(INDEX('Master Template'!$M$8:$M$37,SMALL(IF('Master Template'!$F$8:$F$37=$BY114,ROW('Master Template'!$F$8:$F$37)-7,\"\"),COLUMNS($BZ$4:CA114))),\"\")","v":""},{"$f":"IFERROR(INDEX('Master Template'!$M$8:$M$37,SMALL(IF('Master Template'!$F$8:$F$37=$BY114,ROW('Master Template'!$F$8:$F$37)-7,\"\"),COLUMNS($BZ$4:CB114))),\"\")","v":""},{"$f":"IFERROR(INDEX('Master Template'!$M$8:$M$37,SMALL(IF('Master Template'!$F$8:$F$37=$BY114,ROW('Master Template'!$F$8:$F$37)-7,\"\"),COLUMNS($BZ$4:CC114))),\"\")","v":""},{"$f":"IFERROR(VLOOKUP(BZ114,'Master Template'!$B$73:$C$83,2,FALSE),\"\")","v":""},{"$f":"IFERROR(VLOOKUP(CA114,'Master Template'!$B$73:$C$83,2,FALSE),\"\")","v":""},{"$f":"IFERROR(VLOOKUP(CB114,'Master Template'!$B$73:$C$83,2,FALSE),\"\")","v":""},{"$f":"IFERROR(VLOOKUP(CC114,'Master Template'!$B$73:$C$83,2,FALSE),\"\")","v":""},""]
[null,"The Infection Control Monthly Analysis is presented at Quality Assurance and Performance Improvement monthly meeting on _______. Refer to Quality Assurance and Performance Improvement meeting minutes for further discussion of data presented.",null,null,null,null,null,null,null,null,null,null,null,null,null,null,null,null,null,null,null,null,null,null,null,null,null,null,null,null,null,null,null,null,null,null,null,null,null,null,null,null,null,null,null,null,null,null,null,null,null,null,null,null,null,null,null,null,null,null,null,null,null,null,null,null,null,null,null,null,null,null,null,null,null,null,{"$f":"'List Data'!B112","v":"234-1"},{"$f":"IFERROR(INDEX('Master Template'!$M$8:$M$37,SMALL(IF('Master Template'!$F$8:$F$37=$BY115,ROW('Master Template'!$F$8:$F$37)-7,\"\"),COLUMNS($BZ$4:BZ115))),\"\")","v":""},{"$f":"IFERROR(INDEX('Master Template'!$M$8:$M$37,SMALL(IF('Master Template'!$F$8:$F$37=$BY115,ROW('Master Template'!$F$8:$F$37)-7,\"\"),COLUMNS($BZ$4:CA115))),\"\")","v":""},{"$f":"IFERROR(INDEX('Master Template'!$M$8:$M$37,SMALL(IF('Master Template'!$F$8:$F$37=$BY115,ROW('Master Template'!$F$8:$F$37)-7,\"\"),COLUMNS($BZ$4:CB115))),\"\")","v":""},{"$f":"IFERROR(INDEX('Master Template'!$M$8:$M$37,SMALL(IF('Master Template'!$F$8:$F$37=$BY115,ROW('Master Template'!$F$8:$F$37)-7,\"\"),COLUMNS($BZ$4:CC115))),\"\")","v":""},{"$f":"IFERROR(VLOOKUP(BZ115,'Master Template'!$B$73:$C$83,2,FALSE),\"\")","v":""},{"$f":"IFERROR(VLOOKUP(CA115,'Master Template'!$B$73:$C$83,2,FALSE),\"\")","v":""},{"$f":"IFERROR(VLOOKUP(CB115,'Master Template'!$B$73:$C$83,2,FALSE),\"\")","v":""},{"$f":"IFERROR(VLOOKUP(CC115,'Master Template'!$B$73:$C$83,2,FALSE),\"\")","v":""},""]
[null,null,null,null,null,null,null,null,null,null,null,null,null,null,null,null,null,null,null,null,null,null,null,null,null,null,null,null,null,null,null,null,null,null,null,null,null,null,null,null,null,null,null,null,null,null,null,null,null,null,null,null,null,null,null,null,null,null,null,null,null,null,null,null,null,null,null,null,null,null,null,null,null,null,null,null,{"$f":"'List Data'!B113","v":"234-2"},{"$f":"IFERROR(INDEX('Master Template'!$M$8:$M$37,SMALL(IF('Master Template'!$F$8:$F$37=$BY116,ROW('Master Template'!$F$8:$F$37)-7,\"\"),COLUMNS($BZ$4:BZ116))),\"\")","v":""},{"$f":"IFERROR(INDEX('Master Template'!$M$8:$M$37,SMALL(IF('Master Template'!$F$8:$F$37=$BY116,ROW('Master Template'!$F$8:$F$37)-7,\"\"),COLUMNS($BZ$4:CA116))),\"\")","v":""},{"$f":"IFERROR(INDEX('Master Template'!$M$8:$M$37,SMALL(IF('Master Template'!$F$8:$F$37=$BY116,ROW('Master Template'!$F$8:$F$37)-7,\"\"),COLUMNS($BZ$4:CB116))),\"\")","v":""},{"$f":"IFERROR(INDEX('Master Template'!$M$8:$M$37,SMALL(IF('Master Template'!$F$8:$F$37=$BY116,ROW('Master Template'!$F$8:$F$37)-7,\"\"),COLUMNS($BZ$4:CC116))),\"\")","v":""},{"$f":"IFERROR(VLOOKUP(BZ116,'Master Template'!$B$73:$C$83,2,FALSE),\"\")","v":""},{"$f":"IFERROR(VLOOKUP(CA116,'Master Template'!$B$73:$C$83,2,FALSE),\"\")","v":""},{"$f":"IFERROR(VLOOKUP(CB116,'Master Template'!$B$73:$C$83,2,FALSE),\"\")","v":""},{"$f":"IFERROR(VLOOKUP(CC116,'Master Template'!$B$73:$C$83,2,FALSE),\"\")","v":""},""]
[null,"Signature: ___________________     Date:_________________               ",null,null,null,null,null,null,null,null,null,null,null,null,null,null,null,null,null,null,null,null,null,null,null,null,null,null,null,null,null,null,null,null,null,null,null,null,null,null,null,null,null,null,null,null,null,null,null,null,null,null,null,null,null,null,null,null,null,null,null,null,null,null,null,null,null,null,null,null,null,null,null,null,null,null,{"$f":"'List Data'!B114","v":"235-1"},{"$f":"IFERROR(INDEX('Master Template'!$M$8:$M$37,SMALL(IF('Master Template'!$F$8:$F$37=$BY117,ROW('Master Template'!$F$8:$F$37)-7,\"\"),COLUMNS($BZ$4:BZ117))),\"\")","v":""},{"$f":"IFERROR(INDEX('Master Template'!$M$8:$M$37,SMALL(IF('Master Template'!$F$8:$F$37=$BY117,ROW('Master Template'!$F$8:$F$37)-7,\"\"),COLUMNS($BZ$4:CA117))),\"\")","v":""},{"$f":"IFERROR(INDEX('Master Template'!$M$8:$M$37,SMALL(IF('Master Template'!$F$8:$F$37=$BY117,ROW('Master Template'!$F$8:$F$37)-7,\"\"),COLUMNS($BZ$4:CB117))),\"\")","v":""},{"$f":"IFERROR(INDEX('Master Template'!$M$8:$M$37,SMALL(IF('Master Template'!$F$8:$F$37=$BY117,ROW('Master Template'!$F$8:$F$37)-7,\"\"),COLUMNS($BZ$4:CC117))),\"\")","v":""},{"$f":"IFERROR(VLOOKUP(BZ117,'Master Template'!$B$73:$C$83,2,FALSE),\"\")","v":""},{"$f":"IFERROR(VLOOKUP(CA117,'Master Template'!$B$73:$C$83,2,FALSE),\"\")","v":""},{"$f":"IFERROR(VLOOKUP(CB117,'Master Template'!$B$73:$C$83,2,FALSE),\"\")","v":""},{"$f":"IFERROR(VLOOKUP(CC117,'Master Template'!$B$73:$C$83,2,FALSE),\"\")","v":""},""]
[null,null,null,null,null,null,null,null,null,null,null,null,null,null,null,null,null,null,null,null,null,null,null,null,null,null,null,null,null,null,null,null,null,null,null,null,null,null,null,null,null,null,null,null,null,null,null,null,null,null,null,null,null,null,null,null,null,null,null,null,null,null,null,null,null,null,null,null,null,null,null,null,null,null,null,null,{"$f":"'List Data'!B115","v":"235-2"},{"$f":"IFERROR(INDEX('Master Template'!$M$8:$M$37,SMALL(IF('Master Template'!$F$8:$F$37=$BY118,ROW('Master Template'!$F$8:$F$37)-7,\"\"),COLUMNS($BZ$4:BZ118))),\"\")","v":""},{"$f":"IFERROR(INDEX('Master Template'!$M$8:$M$37,SMALL(IF('Master Template'!$F$8:$F$37=$BY118,ROW('Master Template'!$F$8:$F$37)-7,\"\"),COLUMNS($BZ$4:CA118))),\"\")","v":""},{"$f":"IFERROR(INDEX('Master Template'!$M$8:$M$37,SMALL(IF('Master Template'!$F$8:$F$37=$BY118,ROW('Master Template'!$F$8:$F$37)-7,\"\"),COLUMNS($BZ$4:CB118))),\"\")","v":""},{"$f":"IFERROR(INDEX('Master Template'!$M$8:$M$37,SMALL(IF('Master Template'!$F$8:$F$37=$BY118,ROW('Master Template'!$F$8:$F$37)-7,\"\"),COLUMNS($BZ$4:CC118))),\"\")","v":""},{"$f":"IFERROR(VLOOKUP(BZ118,'Master Template'!$B$73:$C$83,2,FALSE),\"\")","v":""},{"$f":"IFERROR(VLOOKUP(CA118,'Master Template'!$B$73:$C$83,2,FALSE),\"\")","v":""},{"$f":"IFERROR(VLOOKUP(CB118,'Master Template'!$B$73:$C$83,2,FALSE),\"\")","v":""},{"$f":"IFERROR(VLOOKUP(CC118,'Master Template'!$B$73:$C$83,2,FALSE),\"\")","v":""},""]
[null,null,null,null,null,null,null,null,null,null,null,null,null,null,null,null,null,null,null,null,null,null,null,null,null,null,null,null,null,null,null,null,null,null,null,null,null,null,null,null,null,null,null,null,null,null,null,null,null,null,null,null,null,null,null,null,null,null,null,null,null,null,null,null,null,null,null,null,null,null,null,null,null,null,null,null,{"$f":"'List Data'!B116","v":"236-1"},{"$f":"IFERROR(INDEX('Master Template'!$M$8:$M$37,SMALL(IF('Master Template'!$F$8:$F$37=$BY119,ROW('Master Template'!$F$8:$F$37)-7,\"\"),COLUMNS($BZ$4:BZ119))),\"\")","v":""},{"$f":"IFERROR(INDEX('Master Template'!$M$8:$M$37,SMALL(IF('Master Template'!$F$8:$F$37=$BY119,ROW('Master Template'!$F$8:$F$37)-7,\"\"),COLUMNS($BZ$4:CA119))),\"\")","v":""},{"$f":"IFERROR(INDEX('Master Template'!$M$8:$M$37,SMALL(IF('Master Template'!$F$8:$F$37=$BY119,ROW('Master Template'!$F$8:$F$37)-7,\"\"),COLUMNS($BZ$4:CB119))),\"\")","v":""},{"$f":"IFERROR(INDEX('Master Template'!$M$8:$M$37,SMALL(IF('Master Template'!$F$8:$F$37=$BY119,ROW('Master Template'!$F$8:$F$37)-7,\"\"),COLUMNS($BZ$4:CC119))),\"\")","v":""},{"$f":"IFERROR(VLOOKUP(BZ119,'Master Template'!$B$73:$C$83,2,FALSE),\"\")","v":""},{"$f":"IFERROR(VLOOKUP(CA119,'Master Template'!$B$73:$C$83,2,FALSE),\"\")","v":""},{"$f":"IFERROR(VLOOKUP(CB119,'Master Template'!$B$73:$C$83,2,FALSE),\"\")","v":""},{"$f":"IFERROR(VLOOKUP(CC119,'Master Template'!$B$73:$C$83,2,FALSE),\"\")","v":""},""]
[null,null,null,null,null,null,null,null,null,null,null,null,null,null,null,null,null,null,null,null,null,null,null,null,null,null,null,null,null,null,null,null,null,null,null,null,null,null,null,null,null,null,null,null,null,null,null,null,null,null,null,null,null,null,null,null,null,null,null,null,null,null,null,null,null,null,null,null,null,null,null,null,null,null,null,null,{"$f":"'List Data'!B117","v":"236-2"},{"$f":"IFERROR(INDEX('Master Template'!$M$8:$M$37,SMALL(IF('Master Template'!$F$8:$F$37=$BY120,ROW('Master Template'!$F$8:$F$37)-7,\"\"),COLUMNS($BZ$4:BZ120))),\"\")","v":""},{"$f":"IFERROR(INDEX('Master Template'!$M$8:$M$37,SMALL(IF('Master Template'!$F$8:$F$37=$BY120,ROW('Master Template'!$F$8:$F$37)-7,\"\"),COLUMNS($BZ$4:CA120))),\"\")","v":""},{"$f":"IFERROR(INDEX('Master Template'!$M$8:$M$37,SMALL(IF('Master Template'!$F$8:$F$37=$BY120,ROW('Master Template'!$F$8:$F$37)-7,\"\"),COLUMNS($BZ$4:CB120))),\"\")","v":""},{"$f":"IFERROR(INDEX('Master Template'!$M$8:$M$37,SMALL(IF('Master Template'!$F$8:$F$37=$BY120,ROW('Master Template'!$F$8:$F$37)-7,\"\"),COLUMNS($BZ$4:CC120))),\"\")","v":""},{"$f":"IFERROR(VLOOKUP(BZ120,'Master Template'!$B$73:$C$83,2,FALSE),\"\")","v":""},{"$f":"IFERROR(VLOOKUP(CA120,'Master Template'!$B$73:$C$83,2,FALSE),\"\")","v":""},{"$f":"IFERROR(VLOOKUP(CB120,'Master Template'!$B$73:$C$83,2,FALSE),\"\")","v":""},{"$f":"IFERROR(VLOOKUP(CC120,'Master Template'!$B$73:$C$83,2,FALSE),\"\")","v":""},""]
[null,null,null,null,null,null,null,null,null,null,null,null,null,null,null,null,null,null,null,null,null,null,null,null,null,null,null,null,null,null,null,null,null,null,null,null,null,null,null,null,null,null,null,null,null,null,null,null,null,null,null,null,null,null,null,null,null,null,null,null,null,null,null,null,null,null,null,null,null,null,null,null,null,null,null,null,{"$f":"'List Data'!B118","v":"237-1"},{"$f":"IFERROR(INDEX('Master Template'!$M$8:$M$37,SMALL(IF('Master Template'!$F$8:$F$37=$BY121,ROW('Master Template'!$F$8:$F$37)-7,\"\"),COLUMNS($BZ$4:BZ121))),\"\")","v":""},{"$f":"IFERROR(INDEX('Master Template'!$M$8:$M$37,SMALL(IF('Master Template'!$F$8:$F$37=$BY121,ROW('Master Template'!$F$8:$F$37)-7,\"\"),COLUMNS($BZ$4:CA121))),\"\")","v":""},{"$f":"IFERROR(INDEX('Master Template'!$M$8:$M$37,SMALL(IF('Master Template'!$F$8:$F$37=$BY121,ROW('Master Template'!$F$8:$F$37)-7,\"\"),COLUMNS($BZ$4:CB121))),\"\")","v":""},{"$f":"IFERROR(INDEX('Master Template'!$M$8:$M$37,SMALL(IF('Master Template'!$F$8:$F$37=$BY121,ROW('Master Template'!$F$8:$F$37)-7,\"\"),COLUMNS($BZ$4:CC121))),\"\")","v":""},{"$f":"IFERROR(VLOOKUP(BZ121,'Master Template'!$B$73:$C$83,2,FALSE),\"\")","v":""},{"$f":"IFERROR(VLOOKUP(CA121,'Master Template'!$B$73:$C$83,2,FALSE),\"\")","v":""},{"$f":"IFERROR(VLOOKUP(CB121,'Master Template'!$B$73:$C$83,2,FALSE),\"\")","v":""},{"$f":"IFERROR(VLOOKUP(CC121,'Master Template'!$B$73:$C$83,2,FALSE),\"\")","v":""},""]
[null,null,null,null,null,null,null,null,null,null,null,null,null,null,null,null,null,null,null,null,null,null,null,null,null,null,null,null,null,null,null,null,null,null,null,null,null,null,null,null,null,null,null,null,null,null,null,null,null,null,null,null,null,null,null,null,null,null,null,null,null,null,null,null,null,null,null,null,null,null,null,null,null,null,null,null,{"$f":"'List Data'!B119","v":"237-2"},{"$f":"IFERROR(INDEX('Master Template'!$M$8:$M$37,SMALL(IF('Master Template'!$F$8:$F$37=$BY122,ROW('Master Template'!$F$8:$F$37)-7,\"\"),COLUMNS($BZ$4:BZ122))),\"\")","v":""},{"$f":"IFERROR(INDEX('Master Template'!$M$8:$M$37,SMALL(IF('Master Template'!$F$8:$F$37=$BY122,ROW('Master Template'!$F$8:$F$37)-7,\"\"),COLUMNS($BZ$4:CA122))),\"\")","v":""},{"$f":"IFERROR(INDEX('Master Template'!$M$8:$M$37,SMALL(IF('Master Template'!$F$8:$F$37=$BY122,ROW('Master Template'!$F$8:$F$37)-7,\"\"),COLUMNS($BZ$4:CB122))),\"\")","v":""},{"$f":"IFERROR(INDEX('Master Template'!$M$8:$M$37,SMALL(IF('Master Template'!$F$8:$F$37=$BY122,ROW('Master Template'!$F$8:$F$37)-7,\"\"),COLUMNS($BZ$4:CC122))),\"\")","v":""},{"$f":"IFERROR(VLOOKUP(BZ122,'Master Template'!$B$73:$C$83,2,FALSE),\"\")","v":""},{"$f":"IFERROR(VLOOKUP(CA122,'Master Template'!$B$73:$C$83,2,FALSE),\"\")","v":""},{"$f":"IFERROR(VLOOKUP(CB122,'Master Template'!$B$73:$C$83,2,FALSE),\"\")","v":""},{"$f":"IFERROR(VLOOKUP(CC122,'Master Template'!$B$73:$C$83,2,FALSE),\"\")","v":""},""]
[null,null,null,null,null,null,null,null,null,null,null,null,null,null,null,null,null,null,null,null,null,null,null,null,null,null,null,null,null,null,null,null,null,null,null,null,null,null,null,null,null,null,null,null,null,null,null,null,null,null,null,null,null,null,null,null,null,null,null,null,null,null,null,null,null,null,null,null,null,null,null,null,null,null,null,null,{"$f":"'List Data'!B120","v":"238-1"},{"$f":"IFERROR(INDEX('Master Template'!$M$8:$M$37,SMALL(IF('Master Template'!$F$8:$F$37=$BY123,ROW('Master Template'!$F$8:$F$37)-7,\"\"),COLUMNS($BZ$4:BZ123))),\"\")","v":""},{"$f":"IFERROR(INDEX('Master Template'!$M$8:$M$37,SMALL(IF('Master Template'!$F$8:$F$37=$BY123,ROW('Master Template'!$F$8:$F$37)-7,\"\"),COLUMNS($BZ$4:CA123))),\"\")","v":""},{"$f":"IFERROR(INDEX('Master Template'!$M$8:$M$37,SMALL(IF('Master Template'!$F$8:$F$37=$BY123,ROW('Master Template'!$F$8:$F$37)-7,\"\"),COLUMNS($BZ$4:CB123))),\"\")","v":""},{"$f":"IFERROR(INDEX('Master Template'!$M$8:$M$37,SMALL(IF('Master Template'!$F$8:$F$37=$BY123,ROW('Master Template'!$F$8:$F$37)-7,\"\"),COLUMNS($BZ$4:CC123))),\"\")","v":""},{"$f":"IFERROR(VLOOKUP(BZ123,'Master Template'!$B$73:$C$83,2,FALSE),\"\")","v":""},{"$f":"IFERROR(VLOOKUP(CA123,'Master Template'!$B$73:$C$83,2,FALSE),\"\")","v":""},{"$f":"IFERROR(VLOOKUP(CB123,'Master Template'!$B$73:$C$83,2,FALSE),\"\")","v":""},{"$f":"IFERROR(VLOOKUP(CC123,'Master Template'!$B$73:$C$83,2,FALSE),\"\")","v":""},""]
[null,null,null,null,null,null,null,null,null,null,null,null,null,null,null,null,null,null,null,null,null,null,null,null,null,null,null,null,null,null,null,null,null,null,null,null,null,null,null,null,null,null,null,null,null,null,null,null,null,null,null,null,null,null,null,null,null,null,null,null,null,null,null,null,null,null,null,null,null,null,null,null,null,null,null,null,{"$f":"'List Data'!B121","v":"238-2"},{"$f":"IFERROR(INDEX('Master Template'!$M$8:$M$37,SMALL(IF('Master Template'!$F$8:$F$37=$BY124,ROW('Master Template'!$F$8:$F$37)-7,\"\"),COLUMNS($BZ$4:BZ124))),\"\")","v":""},{"$f":"IFERROR(INDEX('Master Template'!$M$8:$M$37,SMALL(IF('Master Template'!$F$8:$F$37=$BY124,ROW('Master Template'!$F$8:$F$37)-7,\"\"),COLUMNS($BZ$4:CA124))),\"\")","v":""},{"$f":"IFERROR(INDEX('Master Template'!$M$8:$M$37,SMALL(IF('Master Template'!$F$8:$F$37=$BY124,ROW('Master Template'!$F$8:$F$37)-7,\"\"),COLUMNS($BZ$4:CB124))),\"\")","v":""},{"$f":"IFERROR(INDEX('Master Template'!$M$8:$M$37,SMALL(IF('Master Template'!$F$8:$F$37=$BY124,ROW('Master Template'!$F$8:$F$37)-7,\"\"),COLUMNS($BZ$4:CC124))),\"\")","v":""},{"$f":"IFERROR(VLOOKUP(BZ124,'Master Template'!$B$73:$C$83,2,FALSE),\"\")","v":""},{"$f":"IFERROR(VLOOKUP(CA124,'Master Template'!$B$73:$C$83,2,FALSE),\"\")","v":""},{"$f":"IFERROR(VLOOKUP(CB124,'Master Template'!$B$73:$C$83,2,FALSE),\"\")","v":""},{"$f":"IFERROR(VLOOKUP(CC124,'Master Template'!$B$73:$C$83,2,FALSE),\"\")","v":""},""]
[null,null,null,null,null,null,null,null,null,null,null,null,null,null,null,null,null,null,null,null,null,null,null,null,null,null,null,null,null,null,null,null,null,null,null,null,null,null,null,null,null,null,null,null,null,null,null,null,null,null,null,null,null,null,null,null,null,null,null,null,null,null,null,null,null,null,null,null,null,null,null,null,null,null,null,null,{"$f":"'List Data'!B122","v":"239-1"},{"$f":"IFERROR(INDEX('Master Template'!$M$8:$M$37,SMALL(IF('Master Template'!$F$8:$F$37=$BY125,ROW('Master Template'!$F$8:$F$37)-7,\"\"),COLUMNS($BZ$4:BZ125))),\"\")","v":""},{"$f":"IFERROR(INDEX('Master Template'!$M$8:$M$37,SMALL(IF('Master Template'!$F$8:$F$37=$BY125,ROW('Master Template'!$F$8:$F$37)-7,\"\"),COLUMNS($BZ$4:CA125))),\"\")","v":""},{"$f":"IFERROR(INDEX('Master Template'!$M$8:$M$37,SMALL(IF('Master Template'!$F$8:$F$37=$BY125,ROW('Master Template'!$F$8:$F$37)-7,\"\"),COLUMNS($BZ$4:CB125))),\"\")","v":""},{"$f":"IFERROR(INDEX('Master Template'!$M$8:$M$37,SMALL(IF('Master Template'!$F$8:$F$37=$BY125,ROW('Master Template'!$F$8:$F$37)-7,\"\"),COLUMNS($BZ$4:CC125))),\"\")","v":""},{"$f":"IFERROR(VLOOKUP(BZ125,'Master Template'!$B$73:$C$83,2,FALSE),\"\")","v":""},{"$f":"IFERROR(VLOOKUP(CA125,'Master Template'!$B$73:$C$83,2,FALSE),\"\")","v":""},{"$f":"IFERROR(VLOOKUP(CB125,'Master Template'!$B$73:$C$83,2,FALSE),\"\")","v":""},{"$f":"IFERROR(VLOOKUP(CC125,'Master Template'!$B$73:$C$83,2,FALSE),\"\")","v":""},""]
[null,null,null,null,null,null,null,null,null,null,null,null,null,null,null,null,null,null,null,null,null,null,null,null,null,null,null,null,null,null,null,null,null,null,null,null,null,null,null,null,null,null,null,null,null,null,null,null,null,null,null,null,null,null,null,null,null,null,null,null,null,null,null,null,null,null,null,null,null,null,null,null,null,null,null,null,{"$f":"'List Data'!B123","v":"239-2"},{"$f":"IFERROR(INDEX('Master Template'!$M$8:$M$37,SMALL(IF('Master Template'!$F$8:$F$37=$BY126,ROW('Master Template'!$F$8:$F$37)-7,\"\"),COLUMNS($BZ$4:BZ126))),\"\")","v":""},{"$f":"IFERROR(INDEX('Master Template'!$M$8:$M$37,SMALL(IF('Master Template'!$F$8:$F$37=$BY126,ROW('Master Template'!$F$8:$F$37)-7,\"\"),COLUMNS($BZ$4:CA126))),\"\")","v":""},{"$f":"IFERROR(INDEX('Master Template'!$M$8:$M$37,SMALL(IF('Master Template'!$F$8:$F$37=$BY126,ROW('Master Template'!$F$8:$F$37)-7,\"\"),COLUMNS($BZ$4:CB126))),\"\")","v":""},{"$f":"IFERROR(INDEX('Master Template'!$M$8:$M$37,SMALL(IF('Master Template'!$F$8:$F$37=$BY126,ROW('Master Template'!$F$8:$F$37)-7,\"\"),COLUMNS($BZ$4:CC126))),\"\")","v":""},{"$f":"IFERROR(VLOOKUP(BZ126,'Master Template'!$B$73:$C$83,2,FALSE),\"\")","v":""},{"$f":"IFERROR(VLOOKUP(CA126,'Master Template'!$B$73:$C$83,2,FALSE),\"\")","v":""},{"$f":"IFERROR(VLOOKUP(CB126,'Master Template'!$B$73:$C$83,2,FALSE),\"\")","v":""},{"$f":"IFERROR(VLOOKUP(CC126,'Master Template'!$B$73:$C$83,2,FALSE),\"\")","v":""},""]
[null,null,null,null,null,null,null,null,null,null,null,null,null,null,null,null,null,null,null,null,null,null,null,null,null,null,null,null,null,null,null,null,null,null,null,null,null,null,null,null,null,null,null,null,null,null,null,null,null,null,null,null,null,null,null,null,null,null,null,null,null,null,null,null,null,null,null,null,null,null,null,null,null,null,null,null,{"$f":"'List Data'!B124","v":"240-1"},{"$f":"IFERROR(INDEX('Master Template'!$M$8:$M$37,SMALL(IF('Master Template'!$F$8:$F$37=$BY127,ROW('Master Template'!$F$8:$F$37)-7,\"\"),COLUMNS($BZ$4:BZ127))),\"\")","v":""},{"$f":"IFERROR(INDEX('Master Template'!$M$8:$M$37,SMALL(IF('Master Template'!$F$8:$F$37=$BY127,ROW('Master Template'!$F$8:$F$37)-7,\"\"),COLUMNS($BZ$4:CA127))),\"\")","v":""},{"$f":"IFERROR(INDEX('Master Template'!$M$8:$M$37,SMALL(IF('Master Template'!$F$8:$F$37=$BY127,ROW('Master Template'!$F$8:$F$37)-7,\"\"),COLUMNS($BZ$4:CB127))),\"\")","v":""},{"$f":"IFERROR(INDEX('Master Template'!$M$8:$M$37,SMALL(IF('Master Template'!$F$8:$F$37=$BY127,ROW('Master Template'!$F$8:$F$37)-7,\"\"),COLUMNS($BZ$4:CC127))),\"\")","v":""},{"$f":"IFERROR(VLOOKUP(BZ127,'Master Template'!$B$73:$C$83,2,FALSE),\"\")","v":""},{"$f":"IFERROR(VLOOKUP(CA127,'Master Template'!$B$73:$C$83,2,FALSE),\"\")","v":""},{"$f":"IFERROR(VLOOKUP(CB127,'Master Template'!$B$73:$C$83,2,FALSE),\"\")","v":""},{"$f":"IFERROR(VLOOKUP(CC127,'Master Template'!$B$73:$C$83,2,FALSE),\"\")","v":""},""]
[null,null,null,null,null,null,null,null,null,null,null,null,null,null,null,null,null,null,null,null,null,null,null,null,null,null,null,null,null,null,null,null,null,null,null,null,null,null,null,null,null,null,null,null,null,null,null,null,null,null,null,null,null,null,null,null,null,null,null,null,null,null,null,null,null,null,null,null,null,null,null,null,null,null,null,null,{"$f":"'List Data'!B125","v":"240-2"},{"$f":"IFERROR(INDEX('Master Template'!$M$8:$M$37,SMALL(IF('Master Template'!$F$8:$F$37=$BY128,ROW('Master Template'!$F$8:$F$37)-7,\"\"),COLUMNS($BZ$4:BZ128))),\"\")","v":""},{"$f":"IFERROR(INDEX('Master Template'!$M$8:$M$37,SMALL(IF('Master Template'!$F$8:$F$37=$BY128,ROW('Master Template'!$F$8:$F$37)-7,\"\"),COLUMNS($BZ$4:CA128))),\"\")","v":""},{"$f":"IFERROR(INDEX('Master Template'!$M$8:$M$37,SMALL(IF('Master Template'!$F$8:$F$37=$BY128,ROW('Master Template'!$F$8:$F$37)-7,\"\"),COLUMNS($BZ$4:CB128))),\"\")","v":""},{"$f":"IFERROR(INDEX('Master Template'!$M$8:$M$37,SMALL(IF('Master Template'!$F$8:$F$37=$BY128,ROW('Master Template'!$F$8:$F$37)-7,\"\"),COLUMNS($BZ$4:CC128))),\"\")","v":""},{"$f":"IFERROR(VLOOKUP(BZ128,'Master Template'!$B$73:$C$83,2,FALSE),\"\")","v":""},{"$f":"IFERROR(VLOOKUP(CA128,'Master Template'!$B$73:$C$83,2,FALSE),\"\")","v":""},{"$f":"IFERROR(VLOOKUP(CB128,'Master Template'!$B$73:$C$83,2,FALSE),\"\")","v":""},{"$f":"IFERROR(VLOOKUP(CC128,'Master Template'!$B$73:$C$83,2,FALSE),\"\")","v":""},""]
[null,null,null,null,null,null,null,null,null,null,null,null,null,null,null,null,null,null,null,null,null,null,null,null,null,null,null,null,null,null,null,null,null,null,null,null,null,null,null,null,null,null,null,null,null,null,null,null,null,null,null,null,null,null,null,null,null,null,null,null,null,null,null,null,null,null,null,null,null,null,null,null,null,null,null,null,{"$f":"'List Data'!B126","v":"241-1"},{"$f":"IFERROR(INDEX('Master Template'!$M$8:$M$37,SMALL(IF('Master Template'!$F$8:$F$37=$BY129,ROW('Master Template'!$F$8:$F$37)-7,\"\"),COLUMNS($BZ$4:BZ129))),\"\")","v":""},{"$f":"IFERROR(INDEX('Master Template'!$M$8:$M$37,SMALL(IF('Master Template'!$F$8:$F$37=$BY129,ROW('Master Template'!$F$8:$F$37)-7,\"\"),COLUMNS($BZ$4:CA129))),\"\")","v":""},{"$f":"IFERROR(INDEX('Master Template'!$M$8:$M$37,SMALL(IF('Master Template'!$F$8:$F$37=$BY129,ROW('Master Template'!$F$8:$F$37)-7,\"\"),COLUMNS($BZ$4:CB129))),\"\")","v":""},{"$f":"IFERROR(INDEX('Master Template'!$M$8:$M$37,SMALL(IF('Master Template'!$F$8:$F$37=$BY129,ROW('Master Template'!$F$8:$F$37)-7,\"\"),COLUMNS($BZ$4:CC129))),\"\")","v":""},{"$f":"IFERROR(VLOOKUP(BZ129,'Master Template'!$B$73:$C$83,2,FALSE),\"\")","v":""},{"$f":"IFERROR(VLOOKUP(CA129,'Master Template'!$B$73:$C$83,2,FALSE),\"\")","v":""},{"$f":"IFERROR(VLOOKUP(CB129,'Master Template'!$B$73:$C$83,2,FALSE),\"\")","v":""},{"$f":"IFERROR(VLOOKUP(CC129,'Master Template'!$B$73:$C$83,2,FALSE),\"\")","v":""},""]
[null,null,null,null,null,null,null,null,null,null,null,null,null,null,null,null,null,null,null,null,null,null,null,null,null,null,null,null,null,null,null,null,null,null,null,null,null,null,null,null,null,null,null,null,null,null,null,null,null,null,null,null,null,null,null,null,null,null,null,null,null,null,null,null,null,null,null,null,null,null,null,null,null,null,null,null,{"$f":"'List Data'!B127","v":"241-2"},{"$f":"IFERROR(INDEX('Master Template'!$M$8:$M$37,SMALL(IF('Master Template'!$F$8:$F$37=$BY130,ROW('Master Template'!$F$8:$F$37)-7,\"\"),COLUMNS($BZ$4:BZ130))),\"\")","v":""},{"$f":"IFERROR(INDEX('Master Template'!$M$8:$M$37,SMALL(IF('Master Template'!$F$8:$F$37=$BY130,ROW('Master Template'!$F$8:$F$37)-7,\"\"),COLUMNS($BZ$4:CA130))),\"\")","v":""},{"$f":"IFERROR(INDEX('Master Template'!$M$8:$M$37,SMALL(IF('Master Template'!$F$8:$F$37=$BY130,ROW('Master Template'!$F$8:$F$37)-7,\"\"),COLUMNS($BZ$4:CB130))),\"\")","v":""},{"$f":"IFERROR(INDEX('Master Template'!$M$8:$M$37,SMALL(IF('Master Template'!$F$8:$F$37=$BY130,ROW('Master Template'!$F$8:$F$37)-7,\"\"),COLUMNS($BZ$4:CC130))),\"\")","v":""},{"$f":"IFERROR(VLOOKUP(BZ130,'Master Template'!$B$73:$C$83,2,FALSE),\"\")","v":""},{"$f":"IFERROR(VLOOKUP(CA130,'Master Template'!$B$73:$C$83,2,FALSE),\"\")","v":""},{"$f":"IFERROR(VLOOKUP(CB130,'Master Template'!$B$73:$C$83,2,FALSE),\"\")","v":""},{"$f":"IFERROR(VLOOKUP(CC130,'Master Template'!$B$73:$C$83,2,FALSE),\"\")","v":""},""]
[null,null,null,null,null,null,null,null,null,null,null,null,null,null,null,null,null,null,null,null,null,null,null,null,null,null,null,null,null,null,null,null,null,null,null,null,null,null,null,null,null,null,null,null,null,null,null,null,null,null,null,null,null,null,null,null,null,null,null,null,null,null,null,null,null,null,null,null,null,null,null,null,null,null,null,null,{"$f":"'List Data'!B128","v":"242-1"},{"$f":"IFERROR(INDEX('Master Template'!$M$8:$M$37,SMALL(IF('Master Template'!$F$8:$F$37=$BY131,ROW('Master Template'!$F$8:$F$37)-7,\"\"),COLUMNS($BZ$4:BZ131))),\"\")","v":""},{"$f":"IFERROR(INDEX('Master Template'!$M$8:$M$37,SMALL(IF('Master Template'!$F$8:$F$37=$BY131,ROW('Master Template'!$F$8:$F$37)-7,\"\"),COLUMNS($BZ$4:CA131))),\"\")","v":""},{"$f":"IFERROR(INDEX('Master Template'!$M$8:$M$37,SMALL(IF('Master Template'!$F$8:$F$37=$BY131,ROW('Master Template'!$F$8:$F$37)-7,\"\"),COLUMNS($BZ$4:CB131))),\"\")","v":""},{"$f":"IFERROR(INDEX('Master Template'!$M$8:$M$37,SMALL(IF('Master Template'!$F$8:$F$37=$BY131,ROW('Master Template'!$F$8:$F$37)-7,\"\"),COLUMNS($BZ$4:CC131))),\"\")","v":""},{"$f":"IFERROR(VLOOKUP(BZ131,'Master Template'!$B$73:$C$83,2,FALSE),\"\")","v":""},{"$f":"IFERROR(VLOOKUP(CA131,'Master Template'!$B$73:$C$83,2,FALSE),\"\")","v":""},{"$f":"IFERROR(VLOOKUP(CB131,'Master Template'!$B$73:$C$83,2,FALSE),\"\")","v":""},{"$f":"IFERROR(VLOOKUP(CC131,'Master Template'!$B$73:$C$83,2,FALSE),\"\")","v":""},""]
[null,null,null,null,null,null,null,null,null,null,null,null,null,null,null,null,null,null,null,null,null,null,null,null,null,null,null,null,null,null,null,null,null,null,null,null,null,null,null,null,null,null,null,null,null,null,null,null,null,null,null,null,null,null,null,null,null,null,null,null,null,null,null,null,null,null,null,null,null,null,null,null,null,null,null,null,{"$f":"'List Data'!B129","v":"242-1"},{"$f":"IFERROR(INDEX('Master Template'!$M$8:$M$37,SMALL(IF('Master Template'!$F$8:$F$37=$BY132,ROW('Master Template'!$F$8:$F$37)-7,\"\"),COLUMNS($BZ$4:BZ132))),\"\")","v":""},{"$f":"IFERROR(INDEX('Master Template'!$M$8:$M$37,SMALL(IF('Master Template'!$F$8:$F$37=$BY132,ROW('Master Template'!$F$8:$F$37)-7,\"\"),COLUMNS($BZ$4:CA132))),\"\")","v":""},{"$f":"IFERROR(INDEX('Master Template'!$M$8:$M$37,SMALL(IF('Master Template'!$F$8:$F$37=$BY132,ROW('Master Template'!$F$8:$F$37)-7,\"\"),COLUMNS($BZ$4:CB132))),\"\")","v":""},{"$f":"IFERROR(INDEX('Master Template'!$M$8:$M$37,SMALL(IF('Master Template'!$F$8:$F$37=$BY132,ROW('Master Template'!$F$8:$F$37)-7,\"\"),COLUMNS($BZ$4:CC132))),\"\")","v":""},{"$f":"IFERROR(VLOOKUP(BZ132,'Master Template'!$B$73:$C$83,2,FALSE),\"\")","v":""},{"$f":"IFERROR(VLOOKUP(CA132,'Master Template'!$B$73:$C$83,2,FALSE),\"\")","v":""},{"$f":"IFERROR(VLOOKUP(CB132,'Master Template'!$B$73:$C$83,2,FALSE),\"\")","v":""},{"$f":"IFERROR(VLOOKUP(CC132,'Master Template'!$B$73:$C$83,2,FALSE),\"\")","v":""},""]
[null,null,null,null,null,null,null,null,null,null,null,null,null,null,null,null,null,null,null,null,null,null,null,null,null,null,null,null,null,null,null,null,null,null,null,null,null,null,null,null,null,null,null,null,null,null,null,null,null,null,null,null,null,null,null,null,null,null,null,null,null,null,null,null,null,null,null,null,null,null,null,null,null,null,null,null,{"$f":"'List Data'!B130","v":"242-2"},{"$f":"IFERROR(INDEX('Master Template'!$M$8:$M$37,SMALL(IF('Master Template'!$F$8:$F$37=$BY133,ROW('Master Template'!$F$8:$F$37)-7,\"\"),COLUMNS($BZ$4:BZ133))),\"\")","v":""},{"$f":"IFERROR(INDEX('Master Template'!$M$8:$M$37,SMALL(IF('Master Template'!$F$8:$F$37=$BY133,ROW('Master Template'!$F$8:$F$37)-7,\"\"),COLUMNS($BZ$4:CA133))),\"\")","v":""},{"$f":"IFERROR(INDEX('Master Template'!$M$8:$M$37,SMALL(IF('Master Template'!$F$8:$F$37=$BY133,ROW('Master Template'!$F$8:$F$37)-7,\"\"),COLUMNS($BZ$4:CB133))),\"\")","v":""},{"$f":"IFERROR(INDEX('Master Template'!$M$8:$M$37,SMALL(IF('Master Template'!$F$8:$F$37=$BY133,ROW('Master Template'!$F$8:$F$37)-7,\"\"),COLUMNS($BZ$4:CC133))),\"\")","v":""},{"$f":"IFERROR(VLOOKUP(BZ133,'Master Template'!$B$73:$C$83,2,FALSE),\"\")","v":""},{"$f":"IFERROR(VLOOKUP(CA133,'Master Template'!$B$73:$C$83,2,FALSE),\"\")","v":""},{"$f":"IFERROR(VLOOKUP(CB133,'Master Template'!$B$73:$C$83,2,FALSE),\"\")","v":""},{"$f":"IFERROR(VLOOKUP(CC133,'Master Template'!$B$73:$C$83,2,FALSE),\"\")","v":""},""]
[null,null,null,null,null,null,null,null,null,null,null,null,null,null,null,null,null,null,null,null,null,null,null,null,null,null,null,null,null,null,null,null,null,null,null,null,null,null,null,null,null,null,null,null,null,null,null,null,null,null,null,null,null,null,null,null,null,null,null,null,null,null,null,null,null,null,null,null,null,null,null,null,null,null,null,null,{"$f":"'List Data'!B131","v":"242-2"},{"$f":"IFERROR(INDEX('Master Template'!$M$8:$M$37,SMALL(IF('Master Template'!$F$8:$F$37=$BY134,ROW('Master Template'!$F$8:$F$37)-7,\"\"),COLUMNS($BZ$4:BZ134))),\"\")","v":""},{"$f":"IFERROR(INDEX('Master Template'!$M$8:$M$37,SMALL(IF('Master Template'!$F$8:$F$37=$BY134,ROW('Master Template'!$F$8:$F$37)-7,\"\"),COLUMNS($BZ$4:CA134))),\"\")","v":""},{"$f":"IFERROR(INDEX('Master Template'!$M$8:$M$37,SMALL(IF('Master Template'!$F$8:$F$37=$BY134,ROW('Master Template'!$F$8:$F$37)-7,\"\"),COLUMNS($BZ$4:CB134))),\"\")","v":""},{"$f":"IFERROR(INDEX('Master Template'!$M$8:$M$37,SMALL(IF('Master Template'!$F$8:$F$37=$BY134,ROW('Master Template'!$F$8:$F$37)-7,\"\"),COLUMNS($BZ$4:CC134))),\"\")","v":""},{"$f":"IFERROR(VLOOKUP(BZ134,'Master Template'!$B$73:$C$83,2,FALSE),\"\")","v":""},{"$f":"IFERROR(VLOOKUP(CA134,'Master Template'!$B$73:$C$83,2,FALSE),\"\")","v":""},{"$f":"IFERROR(VLOOKUP(CB134,'Master Template'!$B$73:$C$83,2,FALSE),\"\")","v":""},{"$f":"IFERROR(VLOOKUP(CC134,'Master Template'!$B$73:$C$83,2,FALSE),\"\")","v":""},{"$f":"IF(CD134=\"\",\"\",IF(CE134=\"\",CD134,IF(CF134=\"\",CD134&\",\"&CE134,IF(CG134=\"\",CD134&\",\"&CE134&\",\"&CF134,CD134&\",\"&CE134&\",\"&CF134&\",\"&CG134))))","v":""}]
[null,null,null,null,null,null,null,null,null,null,null,null,null,null,null,null,null,null,null,null,null,null,null,null,null,null,null,null,null,null,null,null,null,null,null,null,null,null,null,null,null,null,null,null,null,null,null,null,null,null,null,null,null,null,null,null,null,null,null,null,null,null,null,null,null,null,null,null,null,null,null,null,null,null,null,null,{"$f":"'List Data'!B132","v":"243-1"},{"$f":"IFERROR(INDEX('Master Template'!$M$8:$M$37,SMALL(IF('Master Template'!$F$8:$F$37=$BY135,ROW('Master Template'!$F$8:$F$37)-7,\"\"),COLUMNS($BZ$4:BZ135))),\"\")","v":""},{"$f":"IFERROR(INDEX('Master Template'!$M$8:$M$37,SMALL(IF('Master Template'!$F$8:$F$37=$BY135,ROW('Master Template'!$F$8:$F$37)-7,\"\"),COLUMNS($BZ$4:CA135))),\"\")","v":""},{"$f":"IFERROR(INDEX('Master Template'!$M$8:$M$37,SMALL(IF('Master Template'!$F$8:$F$37=$BY135,ROW('Master Template'!$F$8:$F$37)-7,\"\"),COLUMNS($BZ$4:CB135))),\"\")","v":""},{"$f":"IFERROR(INDEX('Master Template'!$M$8:$M$37,SMALL(IF('Master Template'!$F$8:$F$37=$BY135,ROW('Master Template'!$F$8:$F$37)-7,\"\"),COLUMNS($BZ$4:CC135))),\"\")","v":""},{"$f":"IFERROR(VLOOKUP(BZ135,'Master Template'!$B$73:$C$83,2,FALSE),\"\")","v":""},{"$f":"IFERROR(VLOOKUP(CA135,'Master Template'!$B$73:$C$83,2,FALSE),\"\")","v":""},{"$f":"IFERROR(VLOOKUP(CB135,'Master Template'!$B$73:$C$83,2,FALSE),\"\")","v":""},{"$f":"IFERROR(VLOOKUP(CC135,'Master Template'!$B$73:$C$83,2,FALSE),\"\")","v":""},""]
[null,null,null,null,null,null,null,null,null,null,null,null,null,null,null,null,null,null,null,null,null,null,null,null,null,null,null,null,null,null,null,null,null,null,null,null,null,null,null,null,null,null,null,null,null,null,null,null,null,null,null,null,null,null,null,null,null,null,null,null,null,null,null,null,null,null,null,null,null,null,null,null,null,null,null,null,{"$f":"'List Data'!B133","v":"243-2"},{"$f":"IFERROR(INDEX('Master Template'!$M$8:$M$37,SMALL(IF('Master Template'!$F$8:$F$37=$BY136,ROW('Master Template'!$F$8:$F$37)-7,\"\"),COLUMNS($BZ$4:BZ136))),\"\")","v":""},{"$f":"IFERROR(INDEX('Master Template'!$M$8:$M$37,SMALL(IF('Master Template'!$F$8:$F$37=$BY136,ROW('Master Template'!$F$8:$F$37)-7,\"\"),COLUMNS($BZ$4:CA136))),\"\")","v":""},{"$f":"IFERROR(INDEX('Master Template'!$M$8:$M$37,SMALL(IF('Master Template'!$F$8:$F$37=$BY136,ROW('Master Template'!$F$8:$F$37)-7,\"\"),COLUMNS($BZ$4:CB136))),\"\")","v":""},{"$f":"IFERROR(INDEX('Master Template'!$M$8:$M$37,SMALL(IF('Master Template'!$F$8:$F$37=$BY136,ROW('Master Template'!$F$8:$F$37)-7,\"\"),COLUMNS($BZ$4:CC136))),\"\")","v":""},{"$f":"IFERROR(VLOOKUP(BZ136,'Master Template'!$B$73:$C$83,2,FALSE),\"\")","v":""},{"$f":"IFERROR(VLOOKUP(CA136,'Master Template'!$B$73:$C$83,2,FALSE),\"\")","v":""},{"$f":"IFERROR(VLOOKUP(CB136,'Master Template'!$B$73:$C$83,2,FALSE),\"\")","v":""},{"$f":"IFERROR(VLOOKUP(CC136,'Master Template'!$B$73:$C$83,2,FALSE),\"\")","v":""},""]
[null,null,null,null,null,null,null,null,null,null,null,null,null,null,null,null,null,null,null,null,null,null,null,null,null,null,null,null,null,null,null,null,null,null,null,null,null,null,null,null,null,null,null,null,null,null,null,null,null,null,null,null,null,null,null,null,null,null,null,null,null,null,null,null,null,null,null,null,null,null,null,null,null,null,null,null,{"$f":"'List Data'!B134","v":"245-1"},{"$f":"IFERROR(INDEX('Master Template'!$M$8:$M$37,SMALL(IF('Master Template'!$F$8:$F$37=$BY137,ROW('Master Template'!$F$8:$F$37)-7,\"\"),COLUMNS($BZ$4:BZ137))),\"\")","v":""},{"$f":"IFERROR(INDEX('Master Template'!$M$8:$M$37,SMALL(IF('Master Template'!$F$8:$F$37=$BY137,ROW('Master Template'!$F$8:$F$37)-7,\"\"),COLUMNS($BZ$4:CA137))),\"\")","v":""},{"$f":"IFERROR(INDEX('Master Template'!$M$8:$M$37,SMALL(IF('Master Template'!$F$8:$F$37=$BY137,ROW('Master Template'!$F$8:$F$37)-7,\"\"),COLUMNS($BZ$4:CB137))),\"\")","v":""},{"$f":"IFERROR(INDEX('Master Template'!$M$8:$M$37,SMALL(IF('Master Template'!$F$8:$F$37=$BY137,ROW('Master Template'!$F$8:$F$37)-7,\"\"),COLUMNS($BZ$4:CC137))),\"\")","v":""},{"$f":"IFERROR(VLOOKUP(BZ137,'Master Template'!$B$73:$C$83,2,FALSE),\"\")","v":""},{"$f":"IFERROR(VLOOKUP(CA137,'Master Template'!$B$73:$C$83,2,FALSE),\"\")","v":""},{"$f":"IFERROR(VLOOKUP(CB137,'Master Template'!$B$73:$C$83,2,FALSE),\"\")","v":""},{"$f":"IFERROR(VLOOKUP(CC137,'Master Template'!$B$73:$C$83,2,FALSE),\"\")","v":""},""]
[null,null,null,null,null,null,null,null,null,null,null,null,null,null,null,null,null,null,null,null,null,null,null,null,null,null,null,null,null,null,null,null,null,null,null,null,null,null,null,null,null,null,null,null,null,null,null,null,null,null,null,null,null,null,null,null,null,null,null,null,null,null,null,null,null,null,null,null,null,null,null,null,null,null,null,null,{"$f":"'List Data'!B135","v":"245-2"},{"$f":"IFERROR(INDEX('Master Template'!$M$8:$M$37,SMALL(IF('Master Template'!$F$8:$F$37=$BY138,ROW('Master Template'!$F$8:$F$37)-7,\"\"),COLUMNS($BZ$4:BZ138))),\"\")","v":""},{"$f":"IFERROR(INDEX('Master Template'!$M$8:$M$37,SMALL(IF('Master Template'!$F$8:$F$37=$BY138,ROW('Master Template'!$F$8:$F$37)-7,\"\"),COLUMNS($BZ$4:CA138))),\"\")","v":""},{"$f":"IFERROR(INDEX('Master Template'!$M$8:$M$37,SMALL(IF('Master Template'!$F$8:$F$37=$BY138,ROW('Master Template'!$F$8:$F$37)-7,\"\"),COLUMNS($BZ$4:CB138))),\"\")","v":""},{"$f":"IFERROR(INDEX('Master Template'!$M$8:$M$37,SMALL(IF('Master Template'!$F$8:$F$37=$BY138,ROW('Master Template'!$F$8:$F$37)-7,\"\"),COLUMNS($BZ$4:CC138))),\"\")","v":""},{"$f":"IFERROR(VLOOKUP(BZ138,'Master Template'!$B$73:$C$83,2,FALSE),\"\")","v":""},{"$f":"IFERROR(VLOOKUP(CA138,'Master Template'!$B$73:$C$83,2,FALSE),\"\")","v":""},{"$f":"IFERROR(VLOOKUP(CB138,'Master Template'!$B$73:$C$83,2,FALSE),\"\")","v":""},{"$f":"IFERROR(VLOOKUP(CC138,'Master Template'!$B$73:$C$83,2,FALSE),\"\")","v":""},""]
[null,null,null,null,null,null,null,null,null,null,null,null,null,null,null,null,null,null,null,null,null,null,null,null,null,null,null,null,null,null,null,null,null,null,null,null,null,null,null,null,null,null,null,null,null,null,null,null,null,null,null,null,null,null,null,null,null,null,null,null,null,null,null,null,null,null,null,null,null,null,null,null,null,null,null,null,{"$f":"'List Data'!B136","v":"246-1"},{"$f":"IFERROR(INDEX('Master Template'!$M$8:$M$37,SMALL(IF('Master Template'!$F$8:$F$37=$BY139,ROW('Master Template'!$F$8:$F$37)-7,\"\"),COLUMNS($BZ$4:BZ139))),\"\")","v":""},{"$f":"IFERROR(INDEX('Master Template'!$M$8:$M$37,SMALL(IF('Master Template'!$F$8:$F$37=$BY139,ROW('Master Template'!$F$8:$F$37)-7,\"\"),COLUMNS($BZ$4:CA139))),\"\")","v":""},{"$f":"IFERROR(INDEX('Master Template'!$M$8:$M$37,SMALL(IF('Master Template'!$F$8:$F$37=$BY139,ROW('Master Template'!$F$8:$F$37)-7,\"\"),COLUMNS($BZ$4:CB139))),\"\")","v":""},{"$f":"IFERROR(INDEX('Master Template'!$M$8:$M$37,SMALL(IF('Master Template'!$F$8:$F$37=$BY139,ROW('Master Template'!$F$8:$F$37)-7,\"\"),COLUMNS($BZ$4:CC139))),\"\")","v":""},{"$f":"IFERROR(VLOOKUP(BZ139,'Master Template'!$B$73:$C$83,2,FALSE),\"\")","v":""},{"$f":"IFERROR(VLOOKUP(CA139,'Master Template'!$B$73:$C$83,2,FALSE),\"\")","v":""},{"$f":"IFERROR(VLOOKUP(CB139,'Master Template'!$B$73:$C$83,2,FALSE),\"\")","v":""},{"$f":"IFERROR(VLOOKUP(CC139,'Master Template'!$B$73:$C$83,2,FALSE),\"\")","v":""},""]
[null,null,null,null,null,null,null,null,null,null,null,null,null,null,null,null,null,null,null,null,null,null,null,null,null,null,null,null,null,null,null,null,null,null,null,null,null,null,null,null,null,null,null,null,null,null,null,null,null,null,null,null,null,null,null,null,null,null,null,null,null,null,null,null,null,null,null,null,null,null,null,null,null,null,null,null,{"$f":"'List Data'!B137","v":"246-2"},{"$f":"IFERROR(INDEX('Master Template'!$M$8:$M$37,SMALL(IF('Master Template'!$F$8:$F$37=$BY140,ROW('Master Template'!$F$8:$F$37)-7,\"\"),COLUMNS($BZ$4:BZ140))),\"\")","v":""},{"$f":"IFERROR(INDEX('Master Template'!$M$8:$M$37,SMALL(IF('Master Template'!$F$8:$F$37=$BY140,ROW('Master Template'!$F$8:$F$37)-7,\"\"),COLUMNS($BZ$4:CA140))),\"\")","v":""},{"$f":"IFERROR(INDEX('Master Template'!$M$8:$M$37,SMALL(IF('Master Template'!$F$8:$F$37=$BY140,ROW('Master Template'!$F$8:$F$37)-7,\"\"),COLUMNS($BZ$4:CB140))),\"\")","v":""},{"$f":"IFERROR(INDEX('Master Template'!$M$8:$M$37,SMALL(IF('Master Template'!$F$8:$F$37=$BY140,ROW('Master Template'!$F$8:$F$37)-7,\"\"),COLUMNS($BZ$4:CC140))),\"\")","v":""},{"$f":"IFERROR(VLOOKUP(BZ140,'Master Template'!$B$73:$C$83,2,FALSE),\"\")","v":""},{"$f":"IFERROR(VLOOKUP(CA140,'Master Template'!$B$73:$C$83,2,FALSE),\"\")","v":""},{"$f":"IFERROR(VLOOKUP(CB140,'Master Template'!$B$73:$C$83,2,FALSE),\"\")","v":""},{"$f":"IFERROR(VLOOKUP(CC140,'Master Template'!$B$73:$C$83,2,FALSE),\"\")","v":""},""]
[null,null,null,null,null,null,null,null,null,null,null,null,null,null,null,null,null,null,null,null,null,null,null,null,null,null,null,null,null,null,null,null,null,null,null,null,null,null,null,null,null,null,null,null,null,null,null,null,null,null,null,null,null,null,null,null,null,null,null,null,null,null,null,null,null,null,null,null,null,null,null,null,null,null,null,null,{"$f":"'List Data'!B138","v":"247-1"},{"$f":"IFERROR(INDEX('Master Template'!$M$8:$M$37,SMALL(IF('Master Template'!$F$8:$F$37=$BY141,ROW('Master Template'!$F$8:$F$37)-7,\"\"),COLUMNS($BZ$4:BZ141))),\"\")","v":""},{"$f":"IFERROR(INDEX('Master Template'!$M$8:$M$37,SMALL(IF('Master Template'!$F$8:$F$37=$BY141,ROW('Master Template'!$F$8:$F$37)-7,\"\"),COLUMNS($BZ$4:CA141))),\"\")","v":""},{"$f":"IFERROR(INDEX('Master Template'!$M$8:$M$37,SMALL(IF('Master Template'!$F$8:$F$37=$BY141,ROW('Master Template'!$F$8:$F$37)-7,\"\"),COLUMNS($BZ$4:CB141))),\"\")","v":""},{"$f":"IFERROR(INDEX('Master Template'!$M$8:$M$37,SMALL(IF('Master Template'!$F$8:$F$37=$BY141,ROW('Master Template'!$F$8:$F$37)-7,\"\"),COLUMNS($BZ$4:CC141))),\"\")","v":""},{"$f":"IFERROR(VLOOKUP(BZ141,'Master Template'!$B$73:$C$83,2,FALSE),\"\")","v":""},{"$f":"IFERROR(VLOOKUP(CA141,'Master Template'!$B$73:$C$83,2,FALSE),\"\")","v":""},{"$f":"IFERROR(VLOOKUP(CB141,'Master Template'!$B$73:$C$83,2,FALSE),\"\")","v":""},{"$f":"IFERROR(VLOOKUP(CC141,'Master Template'!$B$73:$C$83,2,FALSE),\"\")","v":""},""]
[null,null,null,null,null,null,null,null,null,null,null,null,null,null,null,null,null,null,null,null,null,null,null,null,null,null,null,null,null,null,null,null,null,null,null,null,null,null,null,null,null,null,null,null,null,null,null,null,null,null,null,null,null,null,null,null,null,null,null,null,null,null,null,null,null,null,null,null,null,null,null,null,null,null,null,null,{"$f":"'List Data'!B139","v":"247-2"},{"$f":"IFERROR(INDEX('Master Template'!$M$8:$M$37,SMALL(IF('Master Template'!$F$8:$F$37=$BY142,ROW('Master Template'!$F$8:$F$37)-7,\"\"),COLUMNS($BZ$4:BZ142))),\"\")","v":""},{"$f":"IFERROR(INDEX('Master Template'!$M$8:$M$37,SMALL(IF('Master Template'!$F$8:$F$37=$BY142,ROW('Master Template'!$F$8:$F$37)-7,\"\"),COLUMNS($BZ$4:CA142))),\"\")","v":""},{"$f":"IFERROR(INDEX('Master Template'!$M$8:$M$37,SMALL(IF('Master Template'!$F$8:$F$37=$BY142,ROW('Master Template'!$F$8:$F$37)-7,\"\"),COLUMNS($BZ$4:CB142))),\"\")","v":""},{"$f":"IFERROR(INDEX('Master Template'!$M$8:$M$37,SMALL(IF('Master Template'!$F$8:$F$37=$BY142,ROW('Master Template'!$F$8:$F$37)-7,\"\"),COLUMNS($BZ$4:CC142))),\"\")","v":""},{"$f":"IFERROR(VLOOKUP(BZ142,'Master Template'!$B$73:$C$83,2,FALSE),\"\")","v":""},{"$f":"IFERROR(VLOOKUP(CA142,'Master Template'!$B$73:$C$83,2,FALSE),\"\")","v":""},{"$f":"IFERROR(VLOOKUP(CB142,'Master Template'!$B$73:$C$83,2,FALSE),\"\")","v":""},{"$f":"IFERROR(VLOOKUP(CC142,'Master Template'!$B$73:$C$83,2,FALSE),\"\")","v":""},""]
[null,null,null,null,null,null,null,null,null,null,null,null,null,null,null,null,null,null,null,null,null,null,null,null,null,null,null,null,null,null,null,null,null,null,null,null,null,null,null,null,null,null,null,null,null,null,null,null,null,null,null,null,null,null,null,null,null,null,null,null,null,null,null,null,null,null,null,null,null,null,null,null,null,null,null,null,{"$f":"'List Data'!B140","v":"248-1"},{"$f":"IFERROR(INDEX('Master Template'!$M$8:$M$37,SMALL(IF('Master Template'!$F$8:$F$37=$BY143,ROW('Master Template'!$F$8:$F$37)-7,\"\"),COLUMNS($BZ$4:BZ143))),\"\")","v":""},{"$f":"IFERROR(INDEX('Master Template'!$M$8:$M$37,SMALL(IF('Master Template'!$F$8:$F$37=$BY143,ROW('Master Template'!$F$8:$F$37)-7,\"\"),COLUMNS($BZ$4:CA143))),\"\")","v":""},{"$f":"IFERROR(INDEX('Master Template'!$M$8:$M$37,SMALL(IF('Master Template'!$F$8:$F$37=$BY143,ROW('Master Template'!$F$8:$F$37)-7,\"\"),COLUMNS($BZ$4:CB143))),\"\")","v":""},{"$f":"IFERROR(INDEX('Master Template'!$M$8:$M$37,SMALL(IF('Master Template'!$F$8:$F$37=$BY143,ROW('Master Template'!$F$8:$F$37)-7,\"\"),COLUMNS($BZ$4:CC143))),\"\")","v":""},{"$f":"IFERROR(VLOOKUP(BZ143,'Master Template'!$B$73:$C$83,2,FALSE),\"\")","v":""},{"$f":"IFERROR(VLOOKUP(CA143,'Master Template'!$B$73:$C$83,2,FALSE),\"\")","v":""},{"$f":"IFERROR(VLOOKUP(CB143,'Master Template'!$B$73:$C$83,2,FALSE),\"\")","v":""},{"$f":"IFERROR(VLOOKUP(CC143,'Master Template'!$B$73:$C$83,2,FALSE),\"\")","v":""},""]
[null,null,null,null,null,null,null,null,null,null,null,null,null,null,null,null,null,null,null,null,null,null,null,null,null,null,null,null,null,null,null,null,null,null,null,null,null,null,null,null,null,null,null,null,null,null,null,null,null,null,null,null,null,null,null,null,null,null,null,null,null,null,null,null,null,null,null,null,null,null,null,null,null,null,null,null,{"$f":"'List Data'!B141","v":"248-2"},{"$f":"IFERROR(INDEX('Master Template'!$M$8:$M$37,SMALL(IF('Master Template'!$F$8:$F$37=$BY144,ROW('Master Template'!$F$8:$F$37)-7,\"\"),COLUMNS($BZ$4:BZ144))),\"\")","v":""},{"$f":"IFERROR(INDEX('Master Template'!$M$8:$M$37,SMALL(IF('Master Template'!$F$8:$F$37=$BY144,ROW('Master Template'!$F$8:$F$37)-7,\"\"),COLUMNS($BZ$4:CA144))),\"\")","v":""},{"$f":"IFERROR(INDEX('Master Template'!$M$8:$M$37,SMALL(IF('Master Template'!$F$8:$F$37=$BY144,ROW('Master Template'!$F$8:$F$37)-7,\"\"),COLUMNS($BZ$4:CB144))),\"\")","v":""},{"$f":"IFERROR(INDEX('Master Template'!$M$8:$M$37,SMALL(IF('Master Template'!$F$8:$F$37=$BY144,ROW('Master Template'!$F$8:$F$37)-7,\"\"),COLUMNS($BZ$4:CC144))),\"\")","v":""},{"$f":"IFERROR(VLOOKUP(BZ144,'Master Template'!$B$73:$C$83,2,FALSE),\"\")","v":""},{"$f":"IFERROR(VLOOKUP(CA144,'Master Template'!$B$73:$C$83,2,FALSE),\"\")","v":""},{"$f":"IFERROR(VLOOKUP(CB144,'Master Template'!$B$73:$C$83,2,FALSE),\"\")","v":""},{"$f":"IFERROR(VLOOKUP(CC144,'Master Template'!$B$73:$C$83,2,FALSE),\"\")","v":""},""]
[null,null,null,null,null,null,null,null,null,null,null,null,null,null,null,null,null,null,null,null,null,null,null,null,null,null,null,null,null,null,null,null,null,null,null,null,null,null,null,null,null,null,null,null,null,null,null,null,null,null,null,null,null,null,null,null,null,null,null,null,null,null,null,null,null,null,null,null,null,null,null,null,null,null,null,null,{"$f":"'List Data'!B142","v":"249-1"},{"$f":"IFERROR(INDEX('Master Template'!$M$8:$M$37,SMALL(IF('Master Template'!$F$8:$F$37=$BY145,ROW('Master Template'!$F$8:$F$37)-7,\"\"),COLUMNS($BZ$4:BZ145))),\"\")","v":""},{"$f":"IFERROR(INDEX('Master Template'!$M$8:$M$37,SMALL(IF('Master Template'!$F$8:$F$37=$BY145,ROW('Master Template'!$F$8:$F$37)-7,\"\"),COLUMNS($BZ$4:CA145))),\"\")","v":""},{"$f":"IFERROR(INDEX('Master Template'!$M$8:$M$37,SMALL(IF('Master Template'!$F$8:$F$37=$BY145,ROW('Master Template'!$F$8:$F$37)-7,\"\"),COLUMNS($BZ$4:CB145))),\"\")","v":""},{"$f":"IFERROR(INDEX('Master Template'!$M$8:$M$37,SMALL(IF('Master Template'!$F$8:$F$37=$BY145,ROW('Master Template'!$F$8:$F$37)-7,\"\"),COLUMNS($BZ$4:CC145))),\"\")","v":""},{"$f":"IFERROR(VLOOKUP(BZ145,'Master Template'!$B$73:$C$83,2,FALSE),\"\")","v":""},{"$f":"IFERROR(VLOOKUP(CA145,'Master Template'!$B$73:$C$83,2,FALSE),\"\")","v":""},{"$f":"IFERROR(VLOOKUP(CB145,'Master Template'!$B$73:$C$83,2,FALSE),\"\")","v":""},{"$f":"IFERROR(VLOOKUP(CC145,'Master Template'!$B$73:$C$83,2,FALSE),\"\")","v":""},""]
[null,null,null,null,null,null,null,null,null,null,null,null,null,null,null,null,null,null,null,null,null,null,null,null,null,null,null,null,null,null,null,null,null,null,null,null,null,null,null,null,null,null,null,null,null,null,null,null,null,null,null,null,null,null,null,null,null,null,null,null,null,null,null,null,null,null,null,null,null,null,null,null,null,null,null,null,{"$f":"'List Data'!B143","v":"249-2"},{"$f":"IFERROR(INDEX('Master Template'!$M$8:$M$37,SMALL(IF('Master Template'!$F$8:$F$37=$BY146,ROW('Master Template'!$F$8:$F$37)-7,\"\"),COLUMNS($BZ$4:BZ146))),\"\")","v":""},{"$f":"IFERROR(INDEX('Master Template'!$M$8:$M$37,SMALL(IF('Master Template'!$F$8:$F$37=$BY146,ROW('Master Template'!$F$8:$F$37)-7,\"\"),COLUMNS($BZ$4:CA146))),\"\")","v":""},{"$f":"IFERROR(INDEX('Master Template'!$M$8:$M$37,SMALL(IF('Master Template'!$F$8:$F$37=$BY146,ROW('Master Template'!$F$8:$F$37)-7,\"\"),COLUMNS($BZ$4:CB146))),\"\")","v":""},{"$f":"IFERROR(INDEX('Master Template'!$M$8:$M$37,SMALL(IF('Master Template'!$F$8:$F$37=$BY146,ROW('Master Template'!$F$8:$F$37)-7,\"\"),COLUMNS($BZ$4:CC146))),\"\")","v":""},{"$f":"IFERROR(VLOOKUP(BZ146,'Master Template'!$B$73:$C$83,2,FALSE),\"\")","v":""},{"$f":"IFERROR(VLOOKUP(CA146,'Master Template'!$B$73:$C$83,2,FALSE),\"\")","v":""},{"$f":"IFERROR(VLOOKUP(CB146,'Master Template'!$B$73:$C$83,2,FALSE),\"\")","v":""},{"$f":"IFERROR(VLOOKUP(CC146,'Master Template'!$B$73:$C$83,2,FALSE),\"\")","v":""},""]
[null,null,null,null,null,null,null,null,null,null,null,null,null,null,null,null,null,null,null,null,null,null,null,null,null,null,null,null,null,null,null,null,null,null,null,null,null,null,null,null,null,null,null,null,null,null,null,null,null,null,null,null,null,null,null,null,null,null,null,null,null,null,null,null,null,null,null,null,null,null,null,null,null,null,null,null,{"$f":"'List Data'!B144","v":"250-1"},{"$f":"IFERROR(INDEX('Master Template'!$M$8:$M$37,SMALL(IF('Master Template'!$F$8:$F$37=$BY147,ROW('Master Template'!$F$8:$F$37)-7,\"\"),COLUMNS($BZ$4:BZ147))),\"\")","v":""},{"$f":"IFERROR(INDEX('Master Template'!$M$8:$M$37,SMALL(IF('Master Template'!$F$8:$F$37=$BY147,ROW('Master Template'!$F$8:$F$37)-7,\"\"),COLUMNS($BZ$4:CA147))),\"\")","v":""},{"$f":"IFERROR(INDEX('Master Template'!$M$8:$M$37,SMALL(IF('Master Template'!$F$8:$F$37=$BY147,ROW('Master Template'!$F$8:$F$37)-7,\"\"),COLUMNS($BZ$4:CB147))),\"\")","v":""},{"$f":"IFERROR(INDEX('Master Template'!$M$8:$M$37,SMALL(IF('Master Template'!$F$8:$F$37=$BY147,ROW('Master Template'!$F$8:$F$37)-7,\"\"),COLUMNS($BZ$4:CC147))),\"\")","v":""},{"$f":"IFERROR(VLOOKUP(BZ147,'Master Template'!$B$73:$C$83,2,FALSE),\"\")","v":""},{"$f":"IFERROR(VLOOKUP(CA147,'Master Template'!$B$73:$C$83,2,FALSE),\"\")","v":""},{"$f":"IFERROR(VLOOKUP(CB147,'Master Template'!$B$73:$C$83,2,FALSE),\"\")","v":""},{"$f":"IFERROR(VLOOKUP(CC147,'Master Template'!$B$73:$C$83,2,FALSE),\"\")","v":""},""]
[null,null,null,null,null,null,null,null,null,null,null,null,null,null,null,null,null,null,null,null,null,null,null,null,null,null,null,null,null,null,null,null,null,null,null,null,null,null,null,null,null,null,null,null,null,null,null,null,null,null,null,null,null,null,null,null,null,null,null,null,null,null,null,null,null,null,null,null,null,null,null,null,null,null,null,null,{"$f":"'List Data'!B145","v":"250-2"},{"$f":"IFERROR(INDEX('Master Template'!$M$8:$M$37,SMALL(IF('Master Template'!$F$8:$F$37=$BY148,ROW('Master Template'!$F$8:$F$37)-7,\"\"),COLUMNS($BZ$4:BZ148))),\"\")","v":""},{"$f":"IFERROR(INDEX('Master Template'!$M$8:$M$37,SMALL(IF('Master Template'!$F$8:$F$37=$BY148,ROW('Master Template'!$F$8:$F$37)-7,\"\"),COLUMNS($BZ$4:CA148))),\"\")","v":""},{"$f":"IFERROR(INDEX('Master Template'!$M$8:$M$37,SMALL(IF('Master Template'!$F$8:$F$37=$BY148,ROW('Master Template'!$F$8:$F$37)-7,\"\"),COLUMNS($BZ$4:CB148))),\"\")","v":""},{"$f":"IFERROR(INDEX('Master Template'!$M$8:$M$37,SMALL(IF('Master Template'!$F$8:$F$37=$BY148,ROW('Master Template'!$F$8:$F$37)-7,\"\"),COLUMNS($BZ$4:CC148))),\"\")","v":""},{"$f":"IFERROR(VLOOKUP(BZ148,'Master Template'!$B$73:$C$83,2,FALSE),\"\")","v":""},{"$f":"IFERROR(VLOOKUP(CA148,'Master Template'!$B$73:$C$83,2,FALSE),\"\")","v":""},{"$f":"IFERROR(VLOOKUP(CB148,'Master Template'!$B$73:$C$83,2,FALSE),\"\")","v":""},{"$f":"IFERROR(VLOOKUP(CC148,'Master Template'!$B$73:$C$83,2,FALSE),\"\")","v":""},""]
[null,null,null,null,null,null,null,null,null,null,null,null,null,null,null,null,null,null,null,null,null,null,null,null,null,null,null,null,null,null,null,null,null,null,null,null,null,null,null,null,null,null,null,null,null,null,null,null,null,null,null,null,null,null,null,null,null,null,null,null,null,null,null,null,null,null,null,null,null,null,null,null,null,null,null,null,{"$f":"'List Data'!B146","v":"301-1"},{"$f":"IFERROR(INDEX('Master Template'!$M$8:$M$37,SMALL(IF('Master Template'!$F$8:$F$37=$BY149,ROW('Master Template'!$F$8:$F$37)-7,\"\"),COLUMNS($BZ$4:BZ149))),\"\")","v":""},{"$f":"IFERROR(INDEX('Master Template'!$M$8:$M$37,SMALL(IF('Master Template'!$F$8:$F$37=$BY149,ROW('Master Template'!$F$8:$F$37)-7,\"\"),COLUMNS($BZ$4:CA149))),\"\")","v":""},{"$f":"IFERROR(INDEX('Master Template'!$M$8:$M$37,SMALL(IF('Master Template'!$F$8:$F$37=$BY149,ROW('Master Template'!$F$8:$F$37)-7,\"\"),COLUMNS($BZ$4:CB149))),\"\")","v":""},{"$f":"IFERROR(INDEX('Master Template'!$M$8:$M$37,SMALL(IF('Master Template'!$F$8:$F$37=$BY149,ROW('Master Template'!$F$8:$F$37)-7,\"\"),COLUMNS($BZ$4:CC149))),\"\")","v":""},{"$f":"IFERROR(VLOOKUP(BZ149,'Master Template'!$B$73:$C$83,2,FALSE),\"\")","v":""},{"$f":"IFERROR(VLOOKUP(CA149,'Master Template'!$B$73:$C$83,2,FALSE),\"\")","v":""},{"$f":"IFERROR(VLOOKUP(CB149,'Master Template'!$B$73:$C$83,2,FALSE),\"\")","v":""},{"$f":"IFERROR(VLOOKUP(CC149,'Master Template'!$B$73:$C$83,2,FALSE),\"\")","v":""},""]
[null,null,null,null,null,null,null,null,null,null,null,null,null,null,null,null,null,null,null,null,null,null,null,null,null,null,null,null,null,null,null,null,null,null,null,null,null,null,null,null,null,null,null,null,null,null,null,null,null,null,null,null,null,null,null,null,null,null,null,null,null,null,null,null,null,null,null,null,null,null,null,null,null,null,null,null,{"$f":"'List Data'!B147","v":"301-2"},{"$f":"IFERROR(INDEX('Master Template'!$M$8:$M$37,SMALL(IF('Master Template'!$F$8:$F$37=$BY150,ROW('Master Template'!$F$8:$F$37)-7,\"\"),COLUMNS($BZ$4:BZ150))),\"\")","v":""},{"$f":"IFERROR(INDEX('Master Template'!$M$8:$M$37,SMALL(IF('Master Template'!$F$8:$F$37=$BY150,ROW('Master Template'!$F$8:$F$37)-7,\"\"),COLUMNS($BZ$4:CA150))),\"\")","v":""},{"$f":"IFERROR(INDEX('Master Template'!$M$8:$M$37,SMALL(IF('Master Template'!$F$8:$F$37=$BY150,ROW('Master Template'!$F$8:$F$37)-7,\"\"),COLUMNS($BZ$4:CB150))),\"\")","v":""},{"$f":"IFERROR(INDEX('Master Template'!$M$8:$M$37,SMALL(IF('Master Template'!$F$8:$F$37=$BY150,ROW('Master Template'!$F$8:$F$37)-7,\"\"),COLUMNS($BZ$4:CC150))),\"\")","v":""},{"$f":"IFERROR(VLOOKUP(BZ150,'Master Template'!$B$73:$C$83,2,FALSE),\"\")","v":""},{"$f":"IFERROR(VLOOKUP(CA150,'Master Template'!$B$73:$C$83,2,FALSE),\"\")","v":""},{"$f":"IFERROR(VLOOKUP(CB150,'Master Template'!$B$73:$C$83,2,FALSE),\"\")","v":""},{"$f":"IFERROR(VLOOKUP(CC150,'Master Template'!$B$73:$C$83,2,FALSE),\"\")","v":""},""]
[null,null,null,null,null,null,null,null,null,null,null,null,null,null,null,null,null,null,null,null,null,null,null,null,null,null,null,null,null,null,null,null,null,null,null,null,null,null,null,null,null,null,null,null,null,null,null,null,null,null,null,null,null,null,null,null,null,null,null,null,null,null,null,null,null,null,null,null,null,null,null,null,null,null,null,null,{"$f":"'List Data'!B148","v":"302-1"},{"$f":"IFERROR(INDEX('Master Template'!$M$8:$M$37,SMALL(IF('Master Template'!$F$8:$F$37=$BY151,ROW('Master Template'!$F$8:$F$37)-7,\"\"),COLUMNS($BZ$4:BZ151))),\"\")","v":""},{"$f":"IFERROR(INDEX('Master Template'!$M$8:$M$37,SMALL(IF('Master Template'!$F$8:$F$37=$BY151,ROW('Master Template'!$F$8:$F$37)-7,\"\"),COLUMNS($BZ$4:CA151))),\"\")","v":""},{"$f":"IFERROR(INDEX('Master Template'!$M$8:$M$37,SMALL(IF('Master Template'!$F$8:$F$37=$BY151,ROW('Master Template'!$F$8:$F$37)-7,\"\"),COLUMNS($BZ$4:CB151))),\"\")","v":""},{"$f":"IFERROR(INDEX('Master Template'!$M$8:$M$37,SMALL(IF('Master Template'!$F$8:$F$37=$BY151,ROW('Master Template'!$F$8:$F$37)-7,\"\"),COLUMNS($BZ$4:CC151))),\"\")","v":""},{"$f":"IFERROR(VLOOKUP(BZ151,'Master Template'!$B$73:$C$83,2,FALSE),\"\")","v":""},{"$f":"IFERROR(VLOOKUP(CA151,'Master Template'!$B$73:$C$83,2,FALSE),\"\")","v":""},{"$f":"IFERROR(VLOOKUP(CB151,'Master Template'!$B$73:$C$83,2,FALSE),\"\")","v":""},{"$f":"IFERROR(VLOOKUP(CC151,'Master Template'!$B$73:$C$83,2,FALSE),\"\")","v":""},""]
[null,null,null,null,null,null,null,null,null,null,null,null,null,null,null,null,null,null,null,null,null,null,null,null,null,null,null,null,null,null,null,null,null,null,null,null,null,null,null,null,null,null,null,null,null,null,null,null,null,null,null,null,null,null,null,null,null,null,null,null,null,null,null,null,null,null,null,null,null,null,null,null,null,null,null,null,{"$f":"'List Data'!B149","v":"302-2"},{"$f":"IFERROR(INDEX('Master Template'!$M$8:$M$37,SMALL(IF('Master Template'!$F$8:$F$37=$BY152,ROW('Master Template'!$F$8:$F$37)-7,\"\"),COLUMNS($BZ$4:BZ152))),\"\")","v":""},{"$f":"IFERROR(INDEX('Master Template'!$M$8:$M$37,SMALL(IF('Master Template'!$F$8:$F$37=$BY152,ROW('Master Template'!$F$8:$F$37)-7,\"\"),COLUMNS($BZ$4:CA152))),\"\")","v":""},{"$f":"IFERROR(INDEX('Master Template'!$M$8:$M$37,SMALL(IF('Master Template'!$F$8:$F$37=$BY152,ROW('Master Template'!$F$8:$F$37)-7,\"\"),COLUMNS($BZ$4:CB152))),\"\")","v":""},{"$f":"IFERROR(INDEX('Master Template'!$M$8:$M$37,SMALL(IF('Master Template'!$F$8:$F$37=$BY152,ROW('Master Template'!$F$8:$F$37)-7,\"\"),COLUMNS($BZ$4:CC152))),\"\")","v":""},{"$f":"IFERROR(VLOOKUP(BZ152,'Master Template'!$B$73:$C$83,2,FALSE),\"\")","v":""},{"$f":"IFERROR(VLOOKUP(CA152,'Master Template'!$B$73:$C$83,2,FALSE),\"\")","v":""},{"$f":"IFERROR(VLOOKUP(CB152,'Master Template'!$B$73:$C$83,2,FALSE),\"\")","v":""},{"$f":"IFERROR(VLOOKUP(CC152,'Master Template'!$B$73:$C$83,2,FALSE),\"\")","v":""},""]
[null,null,null,null,null,null,null,null,null,null,null,null,null,null,null,null,null,null,null,null,null,null,null,null,null,null,null,null,null,null,null,null,null,null,null,null,null,null,null,null,null,null,null,null,null,null,null,null,null,null,null,null,null,null,null,null,null,null,null,null,null,null,null,null,null,null,null,null,null,null,null,null,null,null,null,null,{"$f":"'List Data'!B150","v":"303-1"},{"$f":"IFERROR(INDEX('Master Template'!$M$8:$M$37,SMALL(IF('Master Template'!$F$8:$F$37=$BY153,ROW('Master Template'!$F$8:$F$37)-7,\"\"),COLUMNS($BZ$4:BZ153))),\"\")","v":""},{"$f":"IFERROR(INDEX('Master Template'!$M$8:$M$37,SMALL(IF('Master Template'!$F$8:$F$37=$BY153,ROW('Master Template'!$F$8:$F$37)-7,\"\"),COLUMNS($BZ$4:CA153))),\"\")","v":""},{"$f":"IFERROR(INDEX('Master Template'!$M$8:$M$37,SMALL(IF('Master Template'!$F$8:$F$37=$BY153,ROW('Master Template'!$F$8:$F$37)-7,\"\"),COLUMNS($BZ$4:CB153))),\"\")","v":""},{"$f":"IFERROR(INDEX('Master Template'!$M$8:$M$37,SMALL(IF('Master Template'!$F$8:$F$37=$BY153,ROW('Master Template'!$F$8:$F$37)-7,\"\"),COLUMNS($BZ$4:CC153))),\"\")","v":""},{"$f":"IFERROR(VLOOKUP(BZ153,'Master Template'!$B$73:$C$83,2,FALSE),\"\")","v":""},{"$f":"IFERROR(VLOOKUP(CA153,'Master Template'!$B$73:$C$83,2,FALSE),\"\")","v":""},{"$f":"IFERROR(VLOOKUP(CB153,'Master Template'!$B$73:$C$83,2,FALSE),\"\")","v":""},{"$f":"IFERROR(VLOOKUP(CC153,'Master Template'!$B$73:$C$83,2,FALSE),\"\")","v":""},""]
[null,null,null,null,null,null,null,null,null,null,null,null,null,null,null,null,null,null,null,null,null,null,null,null,null,null,null,null,null,null,null,null,null,null,null,null,null,null,null,null,null,null,null,null,null,null,null,null,null,null,null,null,null,null,null,null,null,null,null,null,null,null,null,null,null,null,null,null,null,null,null,null,null,null,null,null,{"$f":"'List Data'!B151","v":"303-2"},{"$f":"IFERROR(INDEX('Master Template'!$M$8:$M$37,SMALL(IF('Master Template'!$F$8:$F$37=$BY154,ROW('Master Template'!$F$8:$F$37)-7,\"\"),COLUMNS($BZ$4:BZ154))),\"\")","v":""},{"$f":"IFERROR(INDEX('Master Template'!$M$8:$M$37,SMALL(IF('Master Template'!$F$8:$F$37=$BY154,ROW('Master Template'!$F$8:$F$37)-7,\"\"),COLUMNS($BZ$4:CA154))),\"\")","v":""},{"$f":"IFERROR(INDEX('Master Template'!$M$8:$M$37,SMALL(IF('Master Template'!$F$8:$F$37=$BY154,ROW('Master Template'!$F$8:$F$37)-7,\"\"),COLUMNS($BZ$4:CB154))),\"\")","v":""},{"$f":"IFERROR(INDEX('Master Template'!$M$8:$M$37,SMALL(IF('Master Template'!$F$8:$F$37=$BY154,ROW('Master Template'!$F$8:$F$37)-7,\"\"),COLUMNS($BZ$4:CC154))),\"\")","v":""},{"$f":"IFERROR(VLOOKUP(BZ154,'Master Template'!$B$73:$C$83,2,FALSE),\"\")","v":""},{"$f":"IFERROR(VLOOKUP(CA154,'Master Template'!$B$73:$C$83,2,FALSE),\"\")","v":""},{"$f":"IFERROR(VLOOKUP(CB154,'Master Template'!$B$73:$C$83,2,FALSE),\"\")","v":""},{"$f":"IFERROR(VLOOKUP(CC154,'Master Template'!$B$73:$C$83,2,FALSE),\"\")","v":""},""]
[null,null,null,null,null,null,null,null,null,null,null,null,null,null,null,null,null,null,null,null,null,null,null,null,null,null,null,null,null,null,null,null,null,null,null,null,null,null,null,null,null,null,null,null,null,null,null,null,null,null,null,null,null,null,null,null,null,null,null,null,null,null,null,null,null,null,null,null,null,null,null,null,null,null,null,null,{"$f":"'List Data'!B152","v":"304-1"},{"$f":"IFERROR(INDEX('Master Template'!$M$8:$M$37,SMALL(IF('Master Template'!$F$8:$F$37=$BY155,ROW('Master Template'!$F$8:$F$37)-7,\"\"),COLUMNS($BZ$4:BZ155))),\"\")","v":""},{"$f":"IFERROR(INDEX('Master Template'!$M$8:$M$37,SMALL(IF('Master Template'!$F$8:$F$37=$BY155,ROW('Master Template'!$F$8:$F$37)-7,\"\"),COLUMNS($BZ$4:CA155))),\"\")","v":""},{"$f":"IFERROR(INDEX('Master Template'!$M$8:$M$37,SMALL(IF('Master Template'!$F$8:$F$37=$BY155,ROW('Master Template'!$F$8:$F$37)-7,\"\"),COLUMNS($BZ$4:CB155))),\"\")","v":""},{"$f":"IFERROR(INDEX('Master Template'!$M$8:$M$37,SMALL(IF('Master Template'!$F$8:$F$37=$BY155,ROW('Master Template'!$F$8:$F$37)-7,\"\"),COLUMNS($BZ$4:CC155))),\"\")","v":""},{"$f":"IFERROR(VLOOKUP(BZ155,'Master Template'!$B$73:$C$83,2,FALSE),\"\")","v":""},{"$f":"IFERROR(VLOOKUP(CA155,'Master Template'!$B$73:$C$83,2,FALSE),\"\")","v":""},{"$f":"IFERROR(VLOOKUP(CB155,'Master Template'!$B$73:$C$83,2,FALSE),\"\")","v":""},{"$f":"IFERROR(VLOOKUP(CC155,'Master Template'!$B$73:$C$83,2,FALSE),\"\")","v":""},""]
[null,null,null,null,null,null,null,null,null,null,null,null,null,null,null,null,null,null,null,null,null,null,null,null,null,null,null,null,null,null,null,null,null,null,null,null,null,null,null,null,null,null,null,null,null,null,null,null,null,null,null,null,null,null,null,null,null,null,null,null,null,null,null,null,null,null,null,null,null,null,null,null,null,null,null,null,{"$f":"'List Data'!B153","v":"304-2"},{"$f":"IFERROR(INDEX('Master Template'!$M$8:$M$37,SMALL(IF('Master Template'!$F$8:$F$37=$BY156,ROW('Master Template'!$F$8:$F$37)-7,\"\"),COLUMNS($BZ$4:BZ156))),\"\")","v":""},{"$f":"IFERROR(INDEX('Master Template'!$M$8:$M$37,SMALL(IF('Master Template'!$F$8:$F$37=$BY156,ROW('Master Template'!$F$8:$F$37)-7,\"\"),COLUMNS($BZ$4:CA156))),\"\")","v":""},{"$f":"IFERROR(INDEX('Master Template'!$M$8:$M$37,SMALL(IF('Master Template'!$F$8:$F$37=$BY156,ROW('Master Template'!$F$8:$F$37)-7,\"\"),COLUMNS($BZ$4:CB156))),\"\")","v":""},{"$f":"IFERROR(INDEX('Master Template'!$M$8:$M$37,SMALL(IF('Master Template'!$F$8:$F$37=$BY156,ROW('Master Template'!$F$8:$F$37)-7,\"\"),COLUMNS($BZ$4:CC156))),\"\")","v":""},{"$f":"IFERROR(VLOOKUP(BZ156,'Master Template'!$B$73:$C$83,2,FALSE),\"\")","v":""},{"$f":"IFERROR(VLOOKUP(CA156,'Master Template'!$B$73:$C$83,2,FALSE),\"\")","v":""},{"$f":"IFERROR(VLOOKUP(CB156,'Master Template'!$B$73:$C$83,2,FALSE),\"\")","v":""},{"$f":"IFERROR(VLOOKUP(CC156,'Master Template'!$B$73:$C$83,2,FALSE),\"\")","v":""},""]
[null,null,null,null,null,null,null,null,null,null,null,null,null,null,null,null,null,null,null,null,null,null,null,null,null,null,null,null,null,null,null,null,null,null,null,null,null,null,null,null,null,null,null,null,null,null,null,null,null,null,null,null,null,null,null,null,null,null,null,null,null,null,null,null,null,null,null,null,null,null,null,null,null,null,null,null,{"$f":"'List Data'!B154","v":"305-1"},{"$f":"IFERROR(INDEX('Master Template'!$M$8:$M$37,SMALL(IF('Master Template'!$F$8:$F$37=$BY157,ROW('Master Template'!$F$8:$F$37)-7,\"\"),COLUMNS($BZ$4:BZ157))),\"\")","v":""},{"$f":"IFERROR(INDEX('Master Template'!$M$8:$M$37,SMALL(IF('Master Template'!$F$8:$F$37=$BY157,ROW('Master Template'!$F$8:$F$37)-7,\"\"),COLUMNS($BZ$4:CA157))),\"\")","v":""},{"$f":"IFERROR(INDEX('Master Template'!$M$8:$M$37,SMALL(IF('Master Template'!$F$8:$F$37=$BY157,ROW('Master Template'!$F$8:$F$37)-7,\"\"),COLUMNS($BZ$4:CB157))),\"\")","v":""},{"$f":"IFERROR(INDEX('Master Template'!$M$8:$M$37,SMALL(IF('Master Template'!$F$8:$F$37=$BY157,ROW('Master Template'!$F$8:$F$37)-7,\"\"),COLUMNS($BZ$4:CC157))),\"\")","v":""},{"$f":"IFERROR(VLOOKUP(BZ157,'Master Template'!$B$73:$C$83,2,FALSE),\"\")","v":""},{"$f":"IFERROR(VLOOKUP(CA157,'Master Template'!$B$73:$C$83,2,FALSE),\"\")","v":""},{"$f":"IFERROR(VLOOKUP(CB157,'Master Template'!$B$73:$C$83,2,FALSE),\"\")","v":""},{"$f":"IFERROR(VLOOKUP(CC157,'Master Template'!$B$73:$C$83,2,FALSE),\"\")","v":""},""]
[null,null,null,null,null,null,null,null,null,null,null,null,null,null,null,null,null,null,null,null,null,null,null,null,null,null,null,null,null,null,null,null,null,null,null,null,null,null,null,null,null,null,null,null,null,null,null,null,null,null,null,null,null,null,null,null,null,null,null,null,null,null,null,null,null,null,null,null,null,null,null,null,null,null,null,null,{"$f":"'List Data'!B155","v":"305-2"},{"$f":"IFERROR(INDEX('Master Template'!$M$8:$M$37,SMALL(IF('Master Template'!$F$8:$F$37=$BY158,ROW('Master Template'!$F$8:$F$37)-7,\"\"),COLUMNS($BZ$4:BZ158))),\"\")","v":""},{"$f":"IFERROR(INDEX('Master Template'!$M$8:$M$37,SMALL(IF('Master Template'!$F$8:$F$37=$BY158,ROW('Master Template'!$F$8:$F$37)-7,\"\"),COLUMNS($BZ$4:CA158))),\"\")","v":""},{"$f":"IFERROR(INDEX('Master Template'!$M$8:$M$37,SMALL(IF('Master Template'!$F$8:$F$37=$BY158,ROW('Master Template'!$F$8:$F$37)-7,\"\"),COLUMNS($BZ$4:CB158))),\"\")","v":""},{"$f":"IFERROR(INDEX('Master Template'!$M$8:$M$37,SMALL(IF('Master Template'!$F$8:$F$37=$BY158,ROW('Master Template'!$F$8:$F$37)-7,\"\"),COLUMNS($BZ$4:CC158))),\"\")","v":""},{"$f":"IFERROR(VLOOKUP(BZ158,'Master Template'!$B$73:$C$83,2,FALSE),\"\")","v":""},{"$f":"IFERROR(VLOOKUP(CA158,'Master Template'!$B$73:$C$83,2,FALSE),\"\")","v":""},{"$f":"IFERROR(VLOOKUP(CB158,'Master Template'!$B$73:$C$83,2,FALSE),\"\")","v":""},{"$f":"IFERROR(VLOOKUP(CC158,'Master Template'!$B$73:$C$83,2,FALSE),\"\")","v":""},""]
[null,null,null,null,null,null,null,null,null,null,null,null,null,null,null,null,null,null,null,null,null,null,null,null,null,null,null,null,null,null,null,null,null,null,null,null,null,null,null,null,null,null,null,null,null,null,null,null,null,null,null,null,null,null,null,null,null,null,null,null,null,null,null,null,null,null,null,null,null,null,null,null,null,null,null,null,{"$f":"'List Data'!B156","v":"306-1"},{"$f":"IFERROR(INDEX('Master Template'!$M$8:$M$37,SMALL(IF('Master Template'!$F$8:$F$37=$BY159,ROW('Master Template'!$F$8:$F$37)-7,\"\"),COLUMNS($BZ$4:BZ159))),\"\")","v":""},{"$f":"IFERROR(INDEX('Master Template'!$M$8:$M$37,SMALL(IF('Master Template'!$F$8:$F$37=$BY159,ROW('Master Template'!$F$8:$F$37)-7,\"\"),COLUMNS($BZ$4:CA159))),\"\")","v":""},{"$f":"IFERROR(INDEX('Master Template'!$M$8:$M$37,SMALL(IF('Master Template'!$F$8:$F$37=$BY159,ROW('Master Template'!$F$8:$F$37)-7,\"\"),COLUMNS($BZ$4:CB159))),\"\")","v":""},{"$f":"IFERROR(INDEX('Master Template'!$M$8:$M$37,SMALL(IF('Master Template'!$F$8:$F$37=$BY159,ROW('Master Template'!$F$8:$F$37)-7,\"\"),COLUMNS($BZ$4:CC159))),\"\")","v":""},{"$f":"IFERROR(VLOOKUP(BZ159,'Master Template'!$B$73:$C$83,2,FALSE),\"\")","v":""},{"$f":"IFERROR(VLOOKUP(CA159,'Master Template'!$B$73:$C$83,2,FALSE),\"\")","v":""},{"$f":"IFERROR(VLOOKUP(CB159,'Master Template'!$B$73:$C$83,2,FALSE),\"\")","v":""},{"$f":"IFERROR(VLOOKUP(CC159,'Master Template'!$B$73:$C$83,2,FALSE),\"\")","v":""},""]
[null,null,null,null,null,null,null,null,null,null,null,null,null,null,null,null,null,null,null,null,null,null,null,null,null,null,null,null,null,null,null,null,null,null,null,null,null,null,null,null,null,null,null,null,null,null,null,null,null,null,null,null,null,null,null,null,null,null,null,null,null,null,null,null,null,null,null,null,null,null,null,null,null,null,null,null,{"$f":"'List Data'!B157","v":"306-2"},{"$f":"IFERROR(INDEX('Master Template'!$M$8:$M$37,SMALL(IF('Master Template'!$F$8:$F$37=$BY160,ROW('Master Template'!$F$8:$F$37)-7,\"\"),COLUMNS($BZ$4:BZ160))),\"\")","v":""},{"$f":"IFERROR(INDEX('Master Template'!$M$8:$M$37,SMALL(IF('Master Template'!$F$8:$F$37=$BY160,ROW('Master Template'!$F$8:$F$37)-7,\"\"),COLUMNS($BZ$4:CA160))),\"\")","v":""},{"$f":"IFERROR(INDEX('Master Template'!$M$8:$M$37,SMALL(IF('Master Template'!$F$8:$F$37=$BY160,ROW('Master Template'!$F$8:$F$37)-7,\"\"),COLUMNS($BZ$4:CB160))),\"\")","v":""},{"$f":"IFERROR(INDEX('Master Template'!$M$8:$M$37,SMALL(IF('Master Template'!$F$8:$F$37=$BY160,ROW('Master Template'!$F$8:$F$37)-7,\"\"),COLUMNS($BZ$4:CC160))),\"\")","v":""},{"$f":"IFERROR(VLOOKUP(BZ160,'Master Template'!$B$73:$C$83,2,FALSE),\"\")","v":""},{"$f":"IFERROR(VLOOKUP(CA160,'Master Template'!$B$73:$C$83,2,FALSE),\"\")","v":""},{"$f":"IFERROR(VLOOKUP(CB160,'Master Template'!$B$73:$C$83,2,FALSE),\"\")","v":""},{"$f":"IFERROR(VLOOKUP(CC160,'Master Template'!$B$73:$C$83,2,FALSE),\"\")","v":""},""]
[null,null,null,null,null,null,null,null,null,null,null,null,null,null,null,null,null,null,null,null,null,null,null,null,null,null,null,null,null,null,null,null,null,null,null,null,null,null,null,null,null,null,null,null,null,null,null,null,null,null,null,null,null,null,null,null,null,null,null,null,null,null,null,null,null,null,null,null,null,null,null,null,null,null,null,null,{"$f":"'List Data'!B158","v":"307-1"},{"$f":"IFERROR(INDEX('Master Template'!$M$8:$M$37,SMALL(IF('Master Template'!$F$8:$F$37=$BY161,ROW('Master Template'!$F$8:$F$37)-7,\"\"),COLUMNS($BZ$4:BZ161))),\"\")","v":""},{"$f":"IFERROR(INDEX('Master Template'!$M$8:$M$37,SMALL(IF('Master Template'!$F$8:$F$37=$BY161,ROW('Master Template'!$F$8:$F$37)-7,\"\"),COLUMNS($BZ$4:CA161))),\"\")","v":""},{"$f":"IFERROR(INDEX('Master Template'!$M$8:$M$37,SMALL(IF('Master Template'!$F$8:$F$37=$BY161,ROW('Master Template'!$F$8:$F$37)-7,\"\"),COLUMNS($BZ$4:CB161))),\"\")","v":""},{"$f":"IFERROR(INDEX('Master Template'!$M$8:$M$37,SMALL(IF('Master Template'!$F$8:$F$37=$BY161,ROW('Master Template'!$F$8:$F$37)-7,\"\"),COLUMNS($BZ$4:CC161))),\"\")","v":""},{"$f":"IFERROR(VLOOKUP(BZ161,'Master Template'!$B$73:$C$83,2,FALSE),\"\")","v":""},{"$f":"IFERROR(VLOOKUP(CA161,'Master Template'!$B$73:$C$83,2,FALSE),\"\")","v":""},{"$f":"IFERROR(VLOOKUP(CB161,'Master Template'!$B$73:$C$83,2,FALSE),\"\")","v":""},{"$f":"IFERROR(VLOOKUP(CC161,'Master Template'!$B$73:$C$83,2,FALSE),\"\")","v":""},""]
[null,null,null,null,null,null,null,null,null,null,null,null,null,null,null,null,null,null,null,null,null,null,null,null,null,null,null,null,null,null,null,null,null,null,null,null,null,null,null,null,null,null,null,null,null,null,null,null,null,null,null,null,null,null,null,null,null,null,null,null,null,null,null,null,null,null,null,null,null,null,null,null,null,null,null,null,{"$f":"'List Data'!B159","v":"307-2"},{"$f":"IFERROR(INDEX('Master Template'!$M$8:$M$37,SMALL(IF('Master Template'!$F$8:$F$37=$BY162,ROW('Master Template'!$F$8:$F$37)-7,\"\"),COLUMNS($BZ$4:BZ162))),\"\")","v":""},{"$f":"IFERROR(INDEX('Master Template'!$M$8:$M$37,SMALL(IF('Master Template'!$F$8:$F$37=$BY162,ROW('Master Template'!$F$8:$F$37)-7,\"\"),COLUMNS($BZ$4:CA162))),\"\")","v":""},{"$f":"IFERROR(INDEX('Master Template'!$M$8:$M$37,SMALL(IF('Master Template'!$F$8:$F$37=$BY162,ROW('Master Template'!$F$8:$F$37)-7,\"\"),COLUMNS($BZ$4:CB162))),\"\")","v":""},{"$f":"IFERROR(INDEX('Master Template'!$M$8:$M$37,SMALL(IF('Master Template'!$F$8:$F$37=$BY162,ROW('Master Template'!$F$8:$F$37)-7,\"\"),COLUMNS($BZ$4:CC162))),\"\")","v":""},{"$f":"IFERROR(VLOOKUP(BZ162,'Master Template'!$B$73:$C$83,2,FALSE),\"\")","v":""},{"$f":"IFERROR(VLOOKUP(CA162,'Master Template'!$B$73:$C$83,2,FALSE),\"\")","v":""},{"$f":"IFERROR(VLOOKUP(CB162,'Master Template'!$B$73:$C$83,2,FALSE),\"\")","v":""},{"$f":"IFERROR(VLOOKUP(CC162,'Master Template'!$B$73:$C$83,2,FALSE),\"\")","v":""},""]
[null,null,null,null,null,null,null,null,null,null,null,null,null,null,null,null,null,null,null,null,null,null,null,null,null,null,null,null,null,null,null,null,null,null,null,null,null,null,null,null,null,null,null,null,null,null,null,null,null,null,null,null,null,null,null,null,null,null,null,null,null,null,null,null,null,null,null,null,null,null,null,null,null,null,null,null,{"$f":"'List Data'!B160","v":"308-1"},{"$f":"IFERROR(INDEX('Master Template'!$M$8:$M$37,SMALL(IF('Master Template'!$F$8:$F$37=$BY163,ROW('Master Template'!$F$8:$F$37)-7,\"\"),COLUMNS($BZ$4:BZ163))),\"\")","v":""},{"$f":"IFERROR(INDEX('Master Template'!$M$8:$M$37,SMALL(IF('Master Template'!$F$8:$F$37=$BY163,ROW('Master Template'!$F$8:$F$37)-7,\"\"),COLUMNS($BZ$4:CA163))),\"\")","v":""},{"$f":"IFERROR(INDEX('Master Template'!$M$8:$M$37,SMALL(IF('Master Template'!$F$8:$F$37=$BY163,ROW('Master Template'!$F$8:$F$37)-7,\"\"),COLUMNS($BZ$4:CB163))),\"\")","v":""},{"$f":"IFERROR(INDEX('Master Template'!$M$8:$M$37,SMALL(IF('Master Template'!$F$8:$F$37=$BY163,ROW('Master Template'!$F$8:$F$37)-7,\"\"),COLUMNS($BZ$4:CC163))),\"\")","v":""},{"$f":"IFERROR(VLOOKUP(BZ163,'Master Template'!$B$73:$C$83,2,FALSE),\"\")","v":""},{"$f":"IFERROR(VLOOKUP(CA163,'Master Template'!$B$73:$C$83,2,FALSE),\"\")","v":""},{"$f":"IFERROR(VLOOKUP(CB163,'Master Template'!$B$73:$C$83,2,FALSE),\"\")","v":""},{"$f":"IFERROR(VLOOKUP(CC163,'Master Template'!$B$73:$C$83,2,FALSE),\"\")","v":""},""]
[null,null,null,null,null,null,null,null,null,null,null,null,null,null,null,null,null,null,null,null,null,null,null,null,null,null,null,null,null,null,null,null,null,null,null,null,null,null,null,null,null,null,null,null,null,null,null,null,null,null,null,null,null,null,null,null,null,null,null,null,null,null,null,null,null,null,null,null,null,null,null,null,null,null,null,null,{"$f":"'List Data'!B161","v":"308-2"},{"$f":"IFERROR(INDEX('Master Template'!$M$8:$M$37,SMALL(IF('Master Template'!$F$8:$F$37=$BY164,ROW('Master Template'!$F$8:$F$37)-7,\"\"),COLUMNS($BZ$4:BZ164))),\"\")","v":""},{"$f":"IFERROR(INDEX('Master Template'!$M$8:$M$37,SMALL(IF('Master Template'!$F$8:$F$37=$BY164,ROW('Master Template'!$F$8:$F$37)-7,\"\"),COLUMNS($BZ$4:CA164))),\"\")","v":""},{"$f":"IFERROR(INDEX('Master Template'!$M$8:$M$37,SMALL(IF('Master Template'!$F$8:$F$37=$BY164,ROW('Master Template'!$F$8:$F$37)-7,\"\"),COLUMNS($BZ$4:CB164))),\"\")","v":""},{"$f":"IFERROR(INDEX('Master Template'!$M$8:$M$37,SMALL(IF('Master Template'!$F$8:$F$37=$BY164,ROW('Master Template'!$F$8:$F$37)-7,\"\"),COLUMNS($BZ$4:CC164))),\"\")","v":""},{"$f":"IFERROR(VLOOKUP(BZ164,'Master Template'!$B$73:$C$83,2,FALSE),\"\")","v":""},{"$f":"IFERROR(VLOOKUP(CA164,'Master Template'!$B$73:$C$83,2,FALSE),\"\")","v":""},{"$f":"IFERROR(VLOOKUP(CB164,'Master Template'!$B$73:$C$83,2,FALSE),\"\")","v":""},{"$f":"IFERROR(VLOOKUP(CC164,'Master Template'!$B$73:$C$83,2,FALSE),\"\")","v":""},""]
[null,null,null,null,null,null,null,null,null,null,null,null,null,null,null,null,null,null,null,null,null,null,null,null,null,null,null,null,null,null,null,null,null,null,null,null,null,null,null,null,null,null,null,null,null,null,null,null,null,null,null,null,null,null,null,null,null,null,null,null,null,null,null,null,null,null,null,null,null,null,null,null,null,null,null,null,{"$f":"'List Data'!B162","v":"309-1"},{"$f":"IFERROR(INDEX('Master Template'!$M$8:$M$37,SMALL(IF('Master Template'!$F$8:$F$37=$BY165,ROW('Master Template'!$F$8:$F$37)-7,\"\"),COLUMNS($BZ$4:BZ165))),\"\")","v":""},{"$f":"IFERROR(INDEX('Master Template'!$M$8:$M$37,SMALL(IF('Master Template'!$F$8:$F$37=$BY165,ROW('Master Template'!$F$8:$F$37)-7,\"\"),COLUMNS($BZ$4:CA165))),\"\")","v":""},{"$f":"IFERROR(INDEX('Master Template'!$M$8:$M$37,SMALL(IF('Master Template'!$F$8:$F$37=$BY165,ROW('Master Template'!$F$8:$F$37)-7,\"\"),COLUMNS($BZ$4:CB165))),\"\")","v":""},{"$f":"IFERROR(INDEX('Master Template'!$M$8:$M$37,SMALL(IF('Master Template'!$F$8:$F$37=$BY165,ROW('Master Template'!$F$8:$F$37)-7,\"\"),COLUMNS($BZ$4:CC165))),\"\")","v":""},{"$f":"IFERROR(VLOOKUP(BZ165,'Master Template'!$B$73:$C$83,2,FALSE),\"\")","v":""},{"$f":"IFERROR(VLOOKUP(CA165,'Master Template'!$B$73:$C$83,2,FALSE),\"\")","v":""},{"$f":"IFERROR(VLOOKUP(CB165,'Master Template'!$B$73:$C$83,2,FALSE),\"\")","v":""},{"$f":"IFERROR(VLOOKUP(CC165,'Master Template'!$B$73:$C$83,2,FALSE),\"\")","v":""},""]
[null,null,null,null,null,null,null,null,null,null,null,null,null,null,null,null,null,null,null,null,null,null,null,null,null,null,null,null,null,null,null,null,null,null,null,null,null,null,null,null,null,null,null,null,null,null,null,null,null,null,null,null,null,null,null,null,null,null,null,null,null,null,null,null,null,null,null,null,null,null,null,null,null,null,null,null,{"$f":"'List Data'!B163","v":"309-2"},{"$f":"IFERROR(INDEX('Master Template'!$M$8:$M$37,SMALL(IF('Master Template'!$F$8:$F$37=$BY166,ROW('Master Template'!$F$8:$F$37)-7,\"\"),COLUMNS($BZ$4:BZ166))),\"\")","v":""},{"$f":"IFERROR(INDEX('Master Template'!$M$8:$M$37,SMALL(IF('Master Template'!$F$8:$F$37=$BY166,ROW('Master Template'!$F$8:$F$37)-7,\"\"),COLUMNS($BZ$4:CA166))),\"\")","v":""},{"$f":"IFERROR(INDEX('Master Template'!$M$8:$M$37,SMALL(IF('Master Template'!$F$8:$F$37=$BY166,ROW('Master Template'!$F$8:$F$37)-7,\"\"),COLUMNS($BZ$4:CB166))),\"\")","v":""},{"$f":"IFERROR(INDEX('Master Template'!$M$8:$M$37,SMALL(IF('Master Template'!$F$8:$F$37=$BY166,ROW('Master Template'!$F$8:$F$37)-7,\"\"),COLUMNS($BZ$4:CC166))),\"\")","v":""},{"$f":"IFERROR(VLOOKUP(BZ166,'Master Template'!$B$73:$C$83,2,FALSE),\"\")","v":""},{"$f":"IFERROR(VLOOKUP(CA166,'Master Template'!$B$73:$C$83,2,FALSE),\"\")","v":""},{"$f":"IFERROR(VLOOKUP(CB166,'Master Template'!$B$73:$C$83,2,FALSE),\"\")","v":""},{"$f":"IFERROR(VLOOKUP(CC166,'Master Template'!$B$73:$C$83,2,FALSE),\"\")","v":""},""]
[null,null,null,null,null,null,null,null,null,null,null,null,null,null,null,null,null,null,null,null,null,null,null,null,null,null,null,null,null,null,null,null,null,null,null,null,null,null,null,null,null,null,null,null,null,null,null,null,null,null,null,null,null,null,null,null,null,null,null,null,null,null,null,null,null,null,null,null,null,null,null,null,null,null,null,null,{"$f":"'List Data'!B164","v":"310-1"},{"$f":"IFERROR(INDEX('Master Template'!$M$8:$M$37,SMALL(IF('Master Template'!$F$8:$F$37=$BY167,ROW('Master Template'!$F$8:$F$37)-7,\"\"),COLUMNS($BZ$4:BZ167))),\"\")","v":""},{"$f":"IFERROR(INDEX('Master Template'!$M$8:$M$37,SMALL(IF('Master Template'!$F$8:$F$37=$BY167,ROW('Master Template'!$F$8:$F$37)-7,\"\"),COLUMNS($BZ$4:CA167))),\"\")","v":""},{"$f":"IFERROR(INDEX('Master Template'!$M$8:$M$37,SMALL(IF('Master Template'!$F$8:$F$37=$BY167,ROW('Master Template'!$F$8:$F$37)-7,\"\"),COLUMNS($BZ$4:CB167))),\"\")","v":""},{"$f":"IFERROR(INDEX('Master Template'!$M$8:$M$37,SMALL(IF('Master Template'!$F$8:$F$37=$BY167,ROW('Master Template'!$F$8:$F$37)-7,\"\"),COLUMNS($BZ$4:CC167))),\"\")","v":""},{"$f":"IFERROR(VLOOKUP(BZ167,'Master Template'!$B$73:$C$83,2,FALSE),\"\")","v":""},{"$f":"IFERROR(VLOOKUP(CA167,'Master Template'!$B$73:$C$83,2,FALSE),\"\")","v":""},{"$f":"IFERROR(VLOOKUP(CB167,'Master Template'!$B$73:$C$83,2,FALSE),\"\")","v":""},{"$f":"IFERROR(VLOOKUP(CC167,'Master Template'!$B$73:$C$83,2,FALSE),\"\")","v":""},""]
[null,null,null,null,null,null,null,null,null,null,null,null,null,null,null,null,null,null,null,null,null,null,null,null,null,null,null,null,null,null,null,null,null,null,null,null,null,null,null,null,null,null,null,null,null,null,null,null,null,null,null,null,null,null,null,null,null,null,null,null,null,null,null,null,null,null,null,null,null,null,null,null,null,null,null,null,{"$f":"'List Data'!B165","v":"310-2"},{"$f":"IFERROR(INDEX('Master Template'!$M$8:$M$37,SMALL(IF('Master Template'!$F$8:$F$37=$BY168,ROW('Master Template'!$F$8:$F$37)-7,\"\"),COLUMNS($BZ$4:BZ168))),\"\")","v":""},{"$f":"IFERROR(INDEX('Master Template'!$M$8:$M$37,SMALL(IF('Master Template'!$F$8:$F$37=$BY168,ROW('Master Template'!$F$8:$F$37)-7,\"\"),COLUMNS($BZ$4:CA168))),\"\")","v":""},{"$f":"IFERROR(INDEX('Master Template'!$M$8:$M$37,SMALL(IF('Master Template'!$F$8:$F$37=$BY168,ROW('Master Template'!$F$8:$F$37)-7,\"\"),COLUMNS($BZ$4:CB168))),\"\")","v":""},{"$f":"IFERROR(INDEX('Master Template'!$M$8:$M$37,SMALL(IF('Master Template'!$F$8:$F$37=$BY168,ROW('Master Template'!$F$8:$F$37)-7,\"\"),COLUMNS($BZ$4:CC168))),\"\")","v":""},{"$f":"IFERROR(VLOOKUP(BZ168,'Master Template'!$B$73:$C$83,2,FALSE),\"\")","v":""},{"$f":"IFERROR(VLOOKUP(CA168,'Master Template'!$B$73:$C$83,2,FALSE),\"\")","v":""},{"$f":"IFERROR(VLOOKUP(CB168,'Master Template'!$B$73:$C$83,2,FALSE),\"\")","v":""},{"$f":"IFERROR(VLOOKUP(CC168,'Master Template'!$B$73:$C$83,2,FALSE),\"\")","v":""},""]
[null,null,null,null,null,null,null,null,null,null,null,null,null,null,null,null,null,null,null,null,null,null,null,null,null,null,null,null,null,null,null,null,null,null,null,null,null,null,null,null,null,null,null,null,null,null,null,null,null,null,null,null,null,null,null,null,null,null,null,null,null,null,null,null,null,null,null,null,null,null,null,null,null,null,null,null,{"$f":"'List Data'!B166","v":"311-1"},{"$f":"IFERROR(INDEX('Master Template'!$M$8:$M$37,SMALL(IF('Master Template'!$F$8:$F$37=$BY169,ROW('Master Template'!$F$8:$F$37)-7,\"\"),COLUMNS($BZ$4:BZ169))),\"\")","v":""},{"$f":"IFERROR(INDEX('Master Template'!$M$8:$M$37,SMALL(IF('Master Template'!$F$8:$F$37=$BY169,ROW('Master Template'!$F$8:$F$37)-7,\"\"),COLUMNS($BZ$4:CA169))),\"\")","v":""},{"$f":"IFERROR(INDEX('Master Template'!$M$8:$M$37,SMALL(IF('Master Template'!$F$8:$F$37=$BY169,ROW('Master Template'!$F$8:$F$37)-7,\"\"),COLUMNS($BZ$4:CB169))),\"\")","v":""},{"$f":"IFERROR(INDEX('Master Template'!$M$8:$M$37,SMALL(IF('Master Template'!$F$8:$F$37=$BY169,ROW('Master Template'!$F$8:$F$37)-7,\"\"),COLUMNS($BZ$4:CC169))),\"\")","v":""},{"$f":"IFERROR(VLOOKUP(BZ169,'Master Template'!$B$73:$C$83,2,FALSE),\"\")","v":""},{"$f":"IFERROR(VLOOKUP(CA169,'Master Template'!$B$73:$C$83,2,FALSE),\"\")","v":""},{"$f":"IFERROR(VLOOKUP(CB169,'Master Template'!$B$73:$C$83,2,FALSE),\"\")","v":""},{"$f":"IFERROR(VLOOKUP(CC169,'Master Template'!$B$73:$C$83,2,FALSE),\"\")","v":""},""]
[null,null,null,null,null,null,null,null,null,null,null,null,null,null,null,null,null,null,null,null,null,null,null,null,null,null,null,null,null,null,null,null,null,null,null,null,null,null,null,null,null,null,null,null,null,null,null,null,null,null,null,null,null,null,null,null,null,null,null,null,null,null,null,null,null,null,null,null,null,null,null,null,null,null,null,null,{"$f":"'List Data'!B167","v":"311-2"},{"$f":"IFERROR(INDEX('Master Template'!$M$8:$M$37,SMALL(IF('Master Template'!$F$8:$F$37=$BY170,ROW('Master Template'!$F$8:$F$37)-7,\"\"),COLUMNS($BZ$4:BZ170))),\"\")","v":""},{"$f":"IFERROR(INDEX('Master Template'!$M$8:$M$37,SMALL(IF('Master Template'!$F$8:$F$37=$BY170,ROW('Master Template'!$F$8:$F$37)-7,\"\"),COLUMNS($BZ$4:CA170))),\"\")","v":""},{"$f":"IFERROR(INDEX('Master Template'!$M$8:$M$37,SMALL(IF('Master Template'!$F$8:$F$37=$BY170,ROW('Master Template'!$F$8:$F$37)-7,\"\"),COLUMNS($BZ$4:CB170))),\"\")","v":""},{"$f":"IFERROR(INDEX('Master Template'!$M$8:$M$37,SMALL(IF('Master Template'!$F$8:$F$37=$BY170,ROW('Master Template'!$F$8:$F$37)-7,\"\"),COLUMNS($BZ$4:CC170))),\"\")","v":""},{"$f":"IFERROR(VLOOKUP(BZ170,'Master Template'!$B$73:$C$83,2,FALSE),\"\")","v":""},{"$f":"IFERROR(VLOOKUP(CA170,'Master Template'!$B$73:$C$83,2,FALSE),\"\")","v":""},{"$f":"IFERROR(VLOOKUP(CB170,'Master Template'!$B$73:$C$83,2,FALSE),\"\")","v":""},{"$f":"IFERROR(VLOOKUP(CC170,'Master Template'!$B$73:$C$83,2,FALSE),\"\")","v":""},""]
[null,null,null,null,null,null,null,null,null,null,null,null,null,null,null,null,null,null,null,null,null,null,null,null,null,null,null,null,null,null,null,null,null,null,null,null,null,null,null,null,null,null,null,null,null,null,null,null,null,null,null,null,null,null,null,null,null,null,null,null,null,null,null,null,null,null,null,null,null,null,null,null,null,null,null,null,{"$f":"'List Data'!B168","v":"312-1"},{"$f":"IFERROR(INDEX('Master Template'!$M$8:$M$37,SMALL(IF('Master Template'!$F$8:$F$37=$BY171,ROW('Master Template'!$F$8:$F$37)-7,\"\"),COLUMNS($BZ$4:BZ171))),\"\")","v":""},{"$f":"IFERROR(INDEX('Master Template'!$M$8:$M$37,SMALL(IF('Master Template'!$F$8:$F$37=$BY171,ROW('Master Template'!$F$8:$F$37)-7,\"\"),COLUMNS($BZ$4:CA171))),\"\")","v":""},{"$f":"IFERROR(INDEX('Master Template'!$M$8:$M$37,SMALL(IF('Master Template'!$F$8:$F$37=$BY171,ROW('Master Template'!$F$8:$F$37)-7,\"\"),COLUMNS($BZ$4:CB171))),\"\")","v":""},{"$f":"IFERROR(INDEX('Master Template'!$M$8:$M$37,SMALL(IF('Master Template'!$F$8:$F$37=$BY171,ROW('Master Template'!$F$8:$F$37)-7,\"\"),COLUMNS($BZ$4:CC171))),\"\")","v":""},{"$f":"IFERROR(VLOOKUP(BZ171,'Master Template'!$B$73:$C$83,2,FALSE),\"\")","v":""},{"$f":"IFERROR(VLOOKUP(CA171,'Master Template'!$B$73:$C$83,2,FALSE),\"\")","v":""},{"$f":"IFERROR(VLOOKUP(CB171,'Master Template'!$B$73:$C$83,2,FALSE),\"\")","v":""},{"$f":"IFERROR(VLOOKUP(CC171,'Master Template'!$B$73:$C$83,2,FALSE),\"\")","v":""},""]
[null,null,null,null,null,null,null,null,null,null,null,null,null,null,null,null,null,null,null,null,null,null,null,null,null,null,null,null,null,null,null,null,null,null,null,null,null,null,null,null,null,null,null,null,null,null,null,null,null,null,null,null,null,null,null,null,null,null,null,null,null,null,null,null,null,null,null,null,null,null,null,null,null,null,null,null,{"$f":"'List Data'!B169","v":"312-2"},{"$f":"IFERROR(INDEX('Master Template'!$M$8:$M$37,SMALL(IF('Master Template'!$F$8:$F$37=$BY172,ROW('Master Template'!$F$8:$F$37)-7,\"\"),COLUMNS($BZ$4:BZ172))),\"\")","v":""},{"$f":"IFERROR(INDEX('Master Template'!$M$8:$M$37,SMALL(IF('Master Template'!$F$8:$F$37=$BY172,ROW('Master Template'!$F$8:$F$37)-7,\"\"),COLUMNS($BZ$4:CA172))),\"\")","v":""},{"$f":"IFERROR(INDEX('Master Template'!$M$8:$M$37,SMALL(IF('Master Template'!$F$8:$F$37=$BY172,ROW('Master Template'!$F$8:$F$37)-7,\"\"),COLUMNS($BZ$4:CB172))),\"\")","v":""},{"$f":"IFERROR(INDEX('Master Template'!$M$8:$M$37,SMALL(IF('Master Template'!$F$8:$F$37=$BY172,ROW('Master Template'!$F$8:$F$37)-7,\"\"),COLUMNS($BZ$4:CC172))),\"\")","v":""},{"$f":"IFERROR(VLOOKUP(BZ172,'Master Template'!$B$73:$C$83,2,FALSE),\"\")","v":""},{"$f":"IFERROR(VLOOKUP(CA172,'Master Template'!$B$73:$C$83,2,FALSE),\"\")","v":""},{"$f":"IFERROR(VLOOKUP(CB172,'Master Template'!$B$73:$C$83,2,FALSE),\"\")","v":""},{"$f":"IFERROR(VLOOKUP(CC172,'Master Template'!$B$73:$C$83,2,FALSE),\"\")","v":""},""]
[null,null,null,null,null,null,null,null,null,null,null,null,null,null,null,null,null,null,null,null,null,null,null,null,null,null,null,null,null,null,null,null,null,null,null,null,null,null,null,null,null,null,null,null,null,null,null,null,null,null,null,null,null,null,null,null,null,null,null,null,null,null,null,null,null,null,null,null,null,null,null,null,null,null,null,null,{"$f":"'List Data'!B170","v":"313-1"},{"$f":"IFERROR(INDEX('Master Template'!$M$8:$M$37,SMALL(IF('Master Template'!$F$8:$F$37=$BY173,ROW('Master Template'!$F$8:$F$37)-7,\"\"),COLUMNS($BZ$4:BZ173))),\"\")","v":""},{"$f":"IFERROR(INDEX('Master Template'!$M$8:$M$37,SMALL(IF('Master Template'!$F$8:$F$37=$BY173,ROW('Master Template'!$F$8:$F$37)-7,\"\"),COLUMNS($BZ$4:CA173))),\"\")","v":""},{"$f":"IFERROR(INDEX('Master Template'!$M$8:$M$37,SMALL(IF('Master Template'!$F$8:$F$37=$BY173,ROW('Master Template'!$F$8:$F$37)-7,\"\"),COLUMNS($BZ$4:CB173))),\"\")","v":""},{"$f":"IFERROR(INDEX('Master Template'!$M$8:$M$37,SMALL(IF('Master Template'!$F$8:$F$37=$BY173,ROW('Master Template'!$F$8:$F$37)-7,\"\"),COLUMNS($BZ$4:CC173))),\"\")","v":""},{"$f":"IFERROR(VLOOKUP(BZ173,'Master Template'!$B$73:$C$83,2,FALSE),\"\")","v":""},{"$f":"IFERROR(VLOOKUP(CA173,'Master Template'!$B$73:$C$83,2,FALSE),\"\")","v":""},{"$f":"IFERROR(VLOOKUP(CB173,'Master Template'!$B$73:$C$83,2,FALSE),\"\")","v":""},{"$f":"IFERROR(VLOOKUP(CC173,'Master Template'!$B$73:$C$83,2,FALSE),\"\")","v":""},""]
[null,null,null,null,null,null,null,null,null,null,null,null,null,null,null,null,null,null,null,null,null,null,null,null,null,null,null,null,null,null,null,null,null,null,null,null,null,null,null,null,null,null,null,null,null,null,null,null,null,null,null,null,null,null,null,null,null,null,null,null,null,null,null,null,null,null,null,null,null,null,null,null,null,null,null,null,{"$f":"'List Data'!B171","v":"313-2"},{"$f":"IFERROR(INDEX('Master Template'!$M$8:$M$37,SMALL(IF('Master Template'!$F$8:$F$37=$BY174,ROW('Master Template'!$F$8:$F$37)-7,\"\"),COLUMNS($BZ$4:BZ174))),\"\")","v":""},{"$f":"IFERROR(INDEX('Master Template'!$M$8:$M$37,SMALL(IF('Master Template'!$F$8:$F$37=$BY174,ROW('Master Template'!$F$8:$F$37)-7,\"\"),COLUMNS($BZ$4:CA174))),\"\")","v":""},{"$f":"IFERROR(INDEX('Master Template'!$M$8:$M$37,SMALL(IF('Master Template'!$F$8:$F$37=$BY174,ROW('Master Template'!$F$8:$F$37)-7,\"\"),COLUMNS($BZ$4:CB174))),\"\")","v":""},{"$f":"IFERROR(INDEX('Master Template'!$M$8:$M$37,SMALL(IF('Master Template'!$F$8:$F$37=$BY174,ROW('Master Template'!$F$8:$F$37)-7,\"\"),COLUMNS($BZ$4:CC174))),\"\")","v":""},{"$f":"IFERROR(VLOOKUP(BZ174,'Master Template'!$B$73:$C$83,2,FALSE),\"\")","v":""},{"$f":"IFERROR(VLOOKUP(CA174,'Master Template'!$B$73:$C$83,2,FALSE),\"\")","v":""},{"$f":"IFERROR(VLOOKUP(CB174,'Master Template'!$B$73:$C$83,2,FALSE),\"\")","v":""},{"$f":"IFERROR(VLOOKUP(CC174,'Master Template'!$B$73:$C$83,2,FALSE),\"\")","v":""},""]
[null,null,null,null,null,null,null,null,null,null,null,null,null,null,null,null,null,null,null,null,null,null,null,null,null,null,null,null,null,null,null,null,null,null,null,null,null,null,null,null,null,null,null,null,null,null,null,null,null,null,null,null,null,null,null,null,null,null,null,null,null,null,null,null,null,null,null,null,null,null,null,null,null,null,null,null,{"$f":"'List Data'!B172","v":"314-1"},{"$f":"IFERROR(INDEX('Master Template'!$M$8:$M$37,SMALL(IF('Master Template'!$F$8:$F$37=$BY175,ROW('Master Template'!$F$8:$F$37)-7,\"\"),COLUMNS($BZ$4:BZ175))),\"\")","v":""},{"$f":"IFERROR(INDEX('Master Template'!$M$8:$M$37,SMALL(IF('Master Template'!$F$8:$F$37=$BY175,ROW('Master Template'!$F$8:$F$37)-7,\"\"),COLUMNS($BZ$4:CA175))),\"\")","v":""},{"$f":"IFERROR(INDEX('Master Template'!$M$8:$M$37,SMALL(IF('Master Template'!$F$8:$F$37=$BY175,ROW('Master Template'!$F$8:$F$37)-7,\"\"),COLUMNS($BZ$4:CB175))),\"\")","v":""},{"$f":"IFERROR(INDEX('Master Template'!$M$8:$M$37,SMALL(IF('Master Template'!$F$8:$F$37=$BY175,ROW('Master Template'!$F$8:$F$37)-7,\"\"),COLUMNS($BZ$4:CC175))),\"\")","v":""},{"$f":"IFERROR(VLOOKUP(BZ175,'Master Template'!$B$73:$C$83,2,FALSE),\"\")","v":""},{"$f":"IFERROR(VLOOKUP(CA175,'Master Template'!$B$73:$C$83,2,FALSE),\"\")","v":""},{"$f":"IFERROR(VLOOKUP(CB175,'Master Template'!$B$73:$C$83,2,FALSE),\"\")","v":""},{"$f":"IFERROR(VLOOKUP(CC175,'Master Template'!$B$73:$C$83,2,FALSE),\"\")","v":""},""]
[null,null,null,null,null,null,null,null,null,null,null,null,null,null,null,null,null,null,null,null,null,null,null,null,null,null,null,null,null,null,null,null,null,null,null,null,null,null,null,null,null,null,null,null,null,null,null,null,null,null,null,null,null,null,null,null,null,null,null,null,null,null,null,null,null,null,null,null,null,null,null,null,null,null,null,null,{"$f":"'List Data'!B173","v":"314-2"},{"$f":"IFERROR(INDEX('Master Template'!$M$8:$M$37,SMALL(IF('Master Template'!$F$8:$F$37=$BY176,ROW('Master Template'!$F$8:$F$37)-7,\"\"),COLUMNS($BZ$4:BZ176))),\"\")","v":""},{"$f":"IFERROR(INDEX('Master Template'!$M$8:$M$37,SMALL(IF('Master Template'!$F$8:$F$37=$BY176,ROW('Master Template'!$F$8:$F$37)-7,\"\"),COLUMNS($BZ$4:CA176))),\"\")","v":""},{"$f":"IFERROR(INDEX('Master Template'!$M$8:$M$37,SMALL(IF('Master Template'!$F$8:$F$37=$BY176,ROW('Master Template'!$F$8:$F$37)-7,\"\"),COLUMNS($BZ$4:CB176))),\"\")","v":""},{"$f":"IFERROR(INDEX('Master Template'!$M$8:$M$37,SMALL(IF('Master Template'!$F$8:$F$37=$BY176,ROW('Master Template'!$F$8:$F$37)-7,\"\"),COLUMNS($BZ$4:CC176))),\"\")","v":""},{"$f":"IFERROR(VLOOKUP(BZ176,'Master Template'!$B$73:$C$83,2,FALSE),\"\")","v":""},{"$f":"IFERROR(VLOOKUP(CA176,'Master Template'!$B$73:$C$83,2,FALSE),\"\")","v":""},{"$f":"IFERROR(VLOOKUP(CB176,'Master Template'!$B$73:$C$83,2,FALSE),\"\")","v":""},{"$f":"IFERROR(VLOOKUP(CC176,'Master Template'!$B$73:$C$83,2,FALSE),\"\")","v":""},""]
[null,null,null,null,null,null,null,null,null,null,null,null,null,null,null,null,null,null,null,null,null,null,null,null,null,null,null,null,null,null,null,null,null,null,null,null,null,null,null,null,null,null,null,null,null,null,null,null,null,null,null,null,null,null,null,null,null,null,null,null,null,null,null,null,null,null,null,null,null,null,null,null,null,null,null,null,{"$f":"'List Data'!B174","v":"315-1"},{"$f":"IFERROR(INDEX('Master Template'!$M$8:$M$37,SMALL(IF('Master Template'!$F$8:$F$37=$BY177,ROW('Master Template'!$F$8:$F$37)-7,\"\"),COLUMNS($BZ$4:BZ177))),\"\")","v":""},{"$f":"IFERROR(INDEX('Master Template'!$M$8:$M$37,SMALL(IF('Master Template'!$F$8:$F$37=$BY177,ROW('Master Template'!$F$8:$F$37)-7,\"\"),COLUMNS($BZ$4:CA177))),\"\")","v":""},{"$f":"IFERROR(INDEX('Master Template'!$M$8:$M$37,SMALL(IF('Master Template'!$F$8:$F$37=$BY177,ROW('Master Template'!$F$8:$F$37)-7,\"\"),COLUMNS($BZ$4:CB177))),\"\")","v":""},{"$f":"IFERROR(INDEX('Master Template'!$M$8:$M$37,SMALL(IF('Master Template'!$F$8:$F$37=$BY177,ROW('Master Template'!$F$8:$F$37)-7,\"\"),COLUMNS($BZ$4:CC177))),\"\")","v":""},{"$f":"IFERROR(VLOOKUP(BZ177,'Master Template'!$B$73:$C$83,2,FALSE),\"\")","v":""},{"$f":"IFERROR(VLOOKUP(CA177,'Master Template'!$B$73:$C$83,2,FALSE),\"\")","v":""},{"$f":"IFERROR(VLOOKUP(CB177,'Master Template'!$B$73:$C$83,2,FALSE),\"\")","v":""},{"$f":"IFERROR(VLOOKUP(CC177,'Master Template'!$B$73:$C$83,2,FALSE),\"\")","v":""},""]
[null,null,null,null,null,null,null,null,null,null,null,null,null,null,null,null,null,null,null,null,null,null,null,null,null,null,null,null,null,null,null,null,null,null,null,null,null,null,null,null,null,null,null,null,null,null,null,null,null,null,null,null,null,null,null,null,null,null,null,null,null,null,null,null,null,null,null,null,null,null,null,null,null,null,null,null,{"$f":"'List Data'!B175","v":"315-2"},{"$f":"IFERROR(INDEX('Master Template'!$M$8:$M$37,SMALL(IF('Master Template'!$F$8:$F$37=$BY178,ROW('Master Template'!$F$8:$F$37)-7,\"\"),COLUMNS($BZ$4:BZ178))),\"\")","v":""},{"$f":"IFERROR(INDEX('Master Template'!$M$8:$M$37,SMALL(IF('Master Template'!$F$8:$F$37=$BY178,ROW('Master Template'!$F$8:$F$37)-7,\"\"),COLUMNS($BZ$4:CA178))),\"\")","v":""},{"$f":"IFERROR(INDEX('Master Template'!$M$8:$M$37,SMALL(IF('Master Template'!$F$8:$F$37=$BY178,ROW('Master Template'!$F$8:$F$37)-7,\"\"),COLUMNS($BZ$4:CB178))),\"\")","v":""},{"$f":"IFERROR(INDEX('Master Template'!$M$8:$M$37,SMALL(IF('Master Template'!$F$8:$F$37=$BY178,ROW('Master Template'!$F$8:$F$37)-7,\"\"),COLUMNS($BZ$4:CC178))),\"\")","v":""},{"$f":"IFERROR(VLOOKUP(BZ178,'Master Template'!$B$73:$C$83,2,FALSE),\"\")","v":""},{"$f":"IFERROR(VLOOKUP(CA178,'Master Template'!$B$73:$C$83,2,FALSE),\"\")","v":""},{"$f":"IFERROR(VLOOKUP(CB178,'Master Template'!$B$73:$C$83,2,FALSE),\"\")","v":""},{"$f":"IFERROR(VLOOKUP(CC178,'Master Template'!$B$73:$C$83,2,FALSE),\"\")","v":""},""]
[null,null,null,null,null,null,null,null,null,null,null,null,null,null,null,null,null,null,null,null,null,null,null,null,null,null,null,null,null,null,null,null,null,null,null,null,null,null,null,null,null,null,null,null,null,null,null,null,null,null,null,null,null,null,null,null,null,null,null,null,null,null,null,null,null,null,null,null,null,null,null,null,null,null,null,null,{"$f":"'List Data'!B176","v":"316-1"},{"$f":"IFERROR(INDEX('Master Template'!$M$8:$M$37,SMALL(IF('Master Template'!$F$8:$F$37=$BY179,ROW('Master Template'!$F$8:$F$37)-7,\"\"),COLUMNS($BZ$4:BZ179))),\"\")","v":""},{"$f":"IFERROR(INDEX('Master Template'!$M$8:$M$37,SMALL(IF('Master Template'!$F$8:$F$37=$BY179,ROW('Master Template'!$F$8:$F$37)-7,\"\"),COLUMNS($BZ$4:CA179))),\"\")","v":""},{"$f":"IFERROR(INDEX('Master Template'!$M$8:$M$37,SMALL(IF('Master Template'!$F$8:$F$37=$BY179,ROW('Master Template'!$F$8:$F$37)-7,\"\"),COLUMNS($BZ$4:CB179))),\"\")","v":""},{"$f":"IFERROR(INDEX('Master Template'!$M$8:$M$37,SMALL(IF('Master Template'!$F$8:$F$37=$BY179,ROW('Master Template'!$F$8:$F$37)-7,\"\"),COLUMNS($BZ$4:CC179))),\"\")","v":""},{"$f":"IFERROR(VLOOKUP(BZ179,'Master Template'!$B$73:$C$83,2,FALSE),\"\")","v":""},{"$f":"IFERROR(VLOOKUP(CA179,'Master Template'!$B$73:$C$83,2,FALSE),\"\")","v":""},{"$f":"IFERROR(VLOOKUP(CB179,'Master Template'!$B$73:$C$83,2,FALSE),\"\")","v":""},{"$f":"IFERROR(VLOOKUP(CC179,'Master Template'!$B$73:$C$83,2,FALSE),\"\")","v":""},""]
[null,null,null,null,null,null,null,null,null,null,null,null,null,null,null,null,null,null,null,null,null,null,null,null,null,null,null,null,null,null,null,null,null,null,null,null,null,null,null,null,null,null,null,null,null,null,null,null,null,null,null,null,null,null,null,null,null,null,null,null,null,null,null,null,null,null,null,null,null,null,null,null,null,null,null,null,{"$f":"'List Data'!B177","v":"316-2"},{"$f":"IFERROR(INDEX('Master Template'!$M$8:$M$37,SMALL(IF('Master Template'!$F$8:$F$37=$BY180,ROW('Master Template'!$F$8:$F$37)-7,\"\"),COLUMNS($BZ$4:BZ180))),\"\")","v":""},{"$f":"IFERROR(INDEX('Master Template'!$M$8:$M$37,SMALL(IF('Master Template'!$F$8:$F$37=$BY180,ROW('Master Template'!$F$8:$F$37)-7,\"\"),COLUMNS($BZ$4:CA180))),\"\")","v":""},{"$f":"IFERROR(INDEX('Master Template'!$M$8:$M$37,SMALL(IF('Master Template'!$F$8:$F$37=$BY180,ROW('Master Template'!$F$8:$F$37)-7,\"\"),COLUMNS($BZ$4:CB180))),\"\")","v":""},{"$f":"IFERROR(INDEX('Master Template'!$M$8:$M$37,SMALL(IF('Master Template'!$F$8:$F$37=$BY180,ROW('Master Template'!$F$8:$F$37)-7,\"\"),COLUMNS($BZ$4:CC180))),\"\")","v":""},{"$f":"IFERROR(VLOOKUP(BZ180,'Master Template'!$B$73:$C$83,2,FALSE),\"\")","v":""},{"$f":"IFERROR(VLOOKUP(CA180,'Master Template'!$B$73:$C$83,2,FALSE),\"\")","v":""},{"$f":"IFERROR(VLOOKUP(CB180,'Master Template'!$B$73:$C$83,2,FALSE),\"\")","v":""},{"$f":"IFERROR(VLOOKUP(CC180,'Master Template'!$B$73:$C$83,2,FALSE),\"\")","v":""},""]
[null,null,null,null,null,null,null,null,null,null,null,null,null,null,null,null,null,null,null,null,null,null,null,null,null,null,null,null,null,null,null,null,null,null,null,null,null,null,null,null,null,null,null,null,null,null,null,null,null,null,null,null,null,null,null,null,null,null,null,null,null,null,null,null,null,null,null,null,null,null,null,null,null,null,null,null,{"$f":"'List Data'!B178","v":"317-1"},{"$f":"IFERROR(INDEX('Master Template'!$M$8:$M$37,SMALL(IF('Master Template'!$F$8:$F$37=$BY181,ROW('Master Template'!$F$8:$F$37)-7,\"\"),COLUMNS($BZ$4:BZ181))),\"\")","v":""},{"$f":"IFERROR(INDEX('Master Template'!$M$8:$M$37,SMALL(IF('Master Template'!$F$8:$F$37=$BY181,ROW('Master Template'!$F$8:$F$37)-7,\"\"),COLUMNS($BZ$4:CA181))),\"\")","v":""},{"$f":"IFERROR(INDEX('Master Template'!$M$8:$M$37,SMALL(IF('Master Template'!$F$8:$F$37=$BY181,ROW('Master Template'!$F$8:$F$37)-7,\"\"),COLUMNS($BZ$4:CB181))),\"\")","v":""},{"$f":"IFERROR(INDEX('Master Template'!$M$8:$M$37,SMALL(IF('Master Template'!$F$8:$F$37=$BY181,ROW('Master Template'!$F$8:$F$37)-7,\"\"),COLUMNS($BZ$4:CC181))),\"\")","v":""},{"$f":"IFERROR(VLOOKUP(BZ181,'Master Template'!$B$73:$C$83,2,FALSE),\"\")","v":""},{"$f":"IFERROR(VLOOKUP(CA181,'Master Template'!$B$73:$C$83,2,FALSE),\"\")","v":""},{"$f":"IFERROR(VLOOKUP(CB181,'Master Template'!$B$73:$C$83,2,FALSE),\"\")","v":""},{"$f":"IFERROR(VLOOKUP(CC181,'Master Template'!$B$73:$C$83,2,FALSE),\"\")","v":""},""]
[null,null,null,null,null,null,null,null,null,null,null,null,null,null,null,null,null,null,null,null,null,null,null,null,null,null,null,null,null,null,null,null,null,null,null,null,null,null,null,null,null,null,null,null,null,null,null,null,null,null,null,null,null,null,null,null,null,null,null,null,null,null,null,null,null,null,null,null,null,null,null,null,null,null,null,null,{"$f":"'List Data'!B179","v":"317-2"},{"$f":"IFERROR(INDEX('Master Template'!$M$8:$M$37,SMALL(IF('Master Template'!$F$8:$F$37=$BY182,ROW('Master Template'!$F$8:$F$37)-7,\"\"),COLUMNS($BZ$4:BZ182))),\"\")","v":""},{"$f":"IFERROR(INDEX('Master Template'!$M$8:$M$37,SMALL(IF('Master Template'!$F$8:$F$37=$BY182,ROW('Master Template'!$F$8:$F$37)-7,\"\"),COLUMNS($BZ$4:CA182))),\"\")","v":""},{"$f":"IFERROR(INDEX('Master Template'!$M$8:$M$37,SMALL(IF('Master Template'!$F$8:$F$37=$BY182,ROW('Master Template'!$F$8:$F$37)-7,\"\"),COLUMNS($BZ$4:CB182))),\"\")","v":""},{"$f":"IFERROR(INDEX('Master Template'!$M$8:$M$37,SMALL(IF('Master Template'!$F$8:$F$37=$BY182,ROW('Master Template'!$F$8:$F$37)-7,\"\"),COLUMNS($BZ$4:CC182))),\"\")","v":""},{"$f":"IFERROR(VLOOKUP(BZ182,'Master Template'!$B$73:$C$83,2,FALSE),\"\")","v":""},{"$f":"IFERROR(VLOOKUP(CA182,'Master Template'!$B$73:$C$83,2,FALSE),\"\")","v":""},{"$f":"IFERROR(VLOOKUP(CB182,'Master Template'!$B$73:$C$83,2,FALSE),\"\")","v":""},{"$f":"IFERROR(VLOOKUP(CC182,'Master Template'!$B$73:$C$83,2,FALSE),\"\")","v":""},""]
[null,null,null,null,null,null,null,null,null,null,null,null,null,null,null,null,null,null,null,null,null,null,null,null,null,null,null,null,null,null,null,null,null,null,null,null,null,null,null,null,null,null,null,null,null,null,null,null,null,null,null,null,null,null,null,null,null,null,null,null,null,null,null,null,null,null,null,null,null,null,null,null,null,null,null,null,{"$f":"'List Data'!B180","v":"319-1"},{"$f":"IFERROR(INDEX('Master Template'!$M$8:$M$37,SMALL(IF('Master Template'!$F$8:$F$37=$BY183,ROW('Master Template'!$F$8:$F$37)-7,\"\"),COLUMNS($BZ$4:BZ183))),\"\")","v":""},{"$f":"IFERROR(INDEX('Master Template'!$M$8:$M$37,SMALL(IF('Master Template'!$F$8:$F$37=$BY183,ROW('Master Template'!$F$8:$F$37)-7,\"\"),COLUMNS($BZ$4:CA183))),\"\")","v":""},{"$f":"IFERROR(INDEX('Master Template'!$M$8:$M$37,SMALL(IF('Master Template'!$F$8:$F$37=$BY183,ROW('Master Template'!$F$8:$F$37)-7,\"\"),COLUMNS($BZ$4:CB183))),\"\")","v":""},{"$f":"IFERROR(INDEX('Master Template'!$M$8:$M$37,SMALL(IF('Master Template'!$F$8:$F$37=$BY183,ROW('Master Template'!$F$8:$F$37)-7,\"\"),COLUMNS($BZ$4:CC183))),\"\")","v":""},{"$f":"IFERROR(VLOOKUP(BZ183,'Master Template'!$B$73:$C$83,2,FALSE),\"\")","v":""},{"$f":"IFERROR(VLOOKUP(CA183,'Master Template'!$B$73:$C$83,2,FALSE),\"\")","v":""},{"$f":"IFERROR(VLOOKUP(CB183,'Master Template'!$B$73:$C$83,2,FALSE),\"\")","v":""},{"$f":"IFERROR(VLOOKUP(CC183,'Master Template'!$B$73:$C$83,2,FALSE),\"\")","v":""},""]
[null,null,null,null,null,null,null,null,null,null,null,null,null,null,null,null,null,null,null,null,null,null,null,null,null,null,null,null,null,null,null,null,null,null,null,null,null,null,null,null,null,null,null,null,null,null,null,null,null,null,null,null,null,null,null,null,null,null,null,null,null,null,null,null,null,null,null,null,null,null,null,null,null,null,null,null,{"$f":"'List Data'!B181","v":"319-2"},{"$f":"IFERROR(INDEX('Master Template'!$M$8:$M$37,SMALL(IF('Master Template'!$F$8:$F$37=$BY184,ROW('Master Template'!$F$8:$F$37)-7,\"\"),COLUMNS($BZ$4:BZ184))),\"\")","v":""},{"$f":"IFERROR(INDEX('Master Template'!$M$8:$M$37,SMALL(IF('Master Template'!$F$8:$F$37=$BY184,ROW('Master Template'!$F$8:$F$37)-7,\"\"),COLUMNS($BZ$4:CA184))),\"\")","v":""},{"$f":"IFERROR(INDEX('Master Template'!$M$8:$M$37,SMALL(IF('Master Template'!$F$8:$F$37=$BY184,ROW('Master Template'!$F$8:$F$37)-7,\"\"),COLUMNS($BZ$4:CB184))),\"\")","v":""},{"$f":"IFERROR(INDEX('Master Template'!$M$8:$M$37,SMALL(IF('Master Template'!$F$8:$F$37=$BY184,ROW('Master Template'!$F$8:$F$37)-7,\"\"),COLUMNS($BZ$4:CC184))),\"\")","v":""},{"$f":"IFERROR(VLOOKUP(BZ184,'Master Template'!$B$73:$C$83,2,FALSE),\"\")","v":""},{"$f":"IFERROR(VLOOKUP(CA184,'Master Template'!$B$73:$C$83,2,FALSE),\"\")","v":""},{"$f":"IFERROR(VLOOKUP(CB184,'Master Template'!$B$73:$C$83,2,FALSE),\"\")","v":""},{"$f":"IFERROR(VLOOKUP(CC184,'Master Template'!$B$73:$C$83,2,FALSE),\"\")","v":""},""]
[null,null,null,null,null,null,null,null,null,null,null,null,null,null,null,null,null,null,null,null,null,null,null,null,null,null,null,null,null,null,null,null,null,null,null,null,null,null,null,null,null,null,null,null,null,null,null,null,null,null,null,null,null,null,null,null,null,null,null,null,null,null,null,null,null,null,null,null,null,null,null,null,null,null,null,null,{"$f":"'List Data'!B182","v":0},{"$f":"IFERROR(INDEX('Master Template'!$M$8:$M$37,SMALL(IF('Master Template'!$F$8:$F$37=$BY185,ROW('Master Template'!$F$8:$F$37)-7,\"\"),COLUMNS($BZ$4:BZ185))),\"\")","v":0},{"$f":"IFERROR(INDEX('Master Template'!$M$8:$M$37,SMALL(IF('Master Template'!$F$8:$F$37=$BY185,ROW('Master Template'!$F$8:$F$37)-7,\"\"),COLUMNS($BZ$4:CA185))),\"\")","v":0},{"$f":"IFERROR(INDEX('Master Template'!$M$8:$M$37,SMALL(IF('Master Template'!$F$8:$F$37=$BY185,ROW('Master Template'!$F$8:$F$37)-7,\"\"),COLUMNS($BZ$4:CB185))),\"\")","v":0},{"$f":"IFERROR(INDEX('Master Template'!$M$8:$M$37,SMALL(IF('Master Template'!$F$8:$F$37=$BY185,ROW('Master Template'!$F$8:$F$37)-7,\"\"),COLUMNS($BZ$4:CC185))),\"\")","v":0},{"$f":"IFERROR(VLOOKUP(BZ185,'Master Template'!$B$73:$C$83,2,FALSE),\"\")","v":""},{"$f":"IFERROR(VLOOKUP(CA185,'Master Template'!$B$73:$C$83,2,FALSE),\"\")","v":""},{"$f":"IFERROR(VLOOKUP(CB185,'Master Template'!$B$73:$C$83,2,FALSE),\"\")","v":""},{"$f":"IFERROR(VLOOKUP(CC185,'Master Template'!$B$73:$C$83,2,FALSE),\"\")","v":""},""]
[null,null,null,null,null,null,null,null,null,null,null,null,null,null,null,null,null,null,null,null,null,null,null,null,null,null,null,null,null,null,null,null,null,null,null,null,null,null,null,null,null,null,null,null,null,null,null,null,null,null,null,null,null,null,null,null,null,null,null,null,null,null,null,null,null,null,null,null,null,null,null,null,null,null,null,null,{"$f":"'List Data'!B183","v":0},{"$f":"IFERROR(INDEX('Master Template'!$M$8:$M$37,SMALL(IF('Master Template'!$F$8:$F$37=$BY186,ROW('Master Template'!$F$8:$F$37)-7,\"\"),COLUMNS($BZ$4:BZ186))),\"\")","v":0},{"$f":"IFERROR(INDEX('Master Template'!$M$8:$M$37,SMALL(IF('Master Template'!$F$8:$F$37=$BY186,ROW('Master Template'!$F$8:$F$37)-7,\"\"),COLUMNS($BZ$4:CA186))),\"\")","v":0},{"$f":"IFERROR(INDEX('Master Template'!$M$8:$M$37,SMALL(IF('Master Template'!$F$8:$F$37=$BY186,ROW('Master Template'!$F$8:$F$37)-7,\"\"),COLUMNS($BZ$4:CB186))),\"\")","v":0},{"$f":"IFERROR(INDEX('Master Template'!$M$8:$M$37,SMALL(IF('Master Template'!$F$8:$F$37=$BY186,ROW('Master Template'!$F$8:$F$37)-7,\"\"),COLUMNS($BZ$4:CC186))),\"\")","v":0},{"$f":"IFERROR(VLOOKUP(BZ186,'Master Template'!$B$73:$C$83,2,FALSE),\"\")","v":""},{"$f":"IFERROR(VLOOKUP(CA186,'Master Template'!$B$73:$C$83,2,FALSE),\"\")","v":""},{"$f":"IFERROR(VLOOKUP(CB186,'Master Template'!$B$73:$C$83,2,FALSE),\"\")","v":""},{"$f":"IFERROR(VLOOKUP(CC186,'Master Template'!$B$73:$C$83,2,FALSE),\"\")","v":""},""]
[null,null,null,null,null,null,null,null,null,null,null,null,null,null,null,null,null,null,null,null,null,null,null,null,null,null,null,null,null,null,null,null,null,null,null,null,null,null,null,null,null,null,null,null,null,null,null,null,null,null,null,null,null,null,null,null,null,null,null,null,null,null,null,null,null,null,null,null,null,null,null,null,null,null,null,null,{"$f":"'List Data'!B184","v":0},{"$f":"IFERROR(INDEX('Master Template'!$M$8:$M$37,SMALL(IF('Master Template'!$F$8:$F$37=$BY187,ROW('Master Template'!$F$8:$F$37)-7,\"\"),COLUMNS($BZ$4:BZ187))),\"\")","v":0},{"$f":"IFERROR(INDEX('Master Template'!$M$8:$M$37,SMALL(IF('Master Template'!$F$8:$F$37=$BY187,ROW('Master Template'!$F$8:$F$37)-7,\"\"),COLUMNS($BZ$4:CA187))),\"\")","v":0},{"$f":"IFERROR(INDEX('Master Template'!$M$8:$M$37,SMALL(IF('Master Template'!$F$8:$F$37=$BY187,ROW('Master Template'!$F$8:$F$37)-7,\"\"),COLUMNS($BZ$4:CB187))),\"\")","v":0},{"$f":"IFERROR(INDEX('Master Template'!$M$8:$M$37,SMALL(IF('Master Template'!$F$8:$F$37=$BY187,ROW('Master Template'!$F$8:$F$37)-7,\"\"),COLUMNS($BZ$4:CC187))),\"\")","v":0},{"$f":"IFERROR(VLOOKUP(BZ187,'Master Template'!$B$73:$C$83,2,FALSE),\"\")","v":""},{"$f":"IFERROR(VLOOKUP(CA187,'Master Template'!$B$73:$C$83,2,FALSE),\"\")","v":""},{"$f":"IFERROR(VLOOKUP(CB187,'Master Template'!$B$73:$C$83,2,FALSE),\"\")","v":""},{"$f":"IFERROR(VLOOKUP(CC187,'Master Template'!$B$73:$C$83,2,FALSE),\"\")","v":""},""]
[null,null,null,null,null,null,null,null,null,null,null,null,null,null,null,null,null,null,null,null,null,null,null,null,null,null,null,null,null,null,null,null,null,null,null,null,null,null,null,null,null,null,null,null,null,null,null,null,null,null,null,null,null,null,null,null,null,null,null,null,null,null,null,null,null,null,null,null,null,null,null,null,null,null,null,null,{"$f":"'List Data'!B185","v":0},{"$f":"IFERROR(INDEX('Master Template'!$M$8:$M$37,SMALL(IF('Master Template'!$F$8:$F$37=$BY188,ROW('Master Template'!$F$8:$F$37)-7,\"\"),COLUMNS($BZ$4:BZ188))),\"\")","v":0},{"$f":"IFERROR(INDEX('Master Template'!$M$8:$M$37,SMALL(IF('Master Template'!$F$8:$F$37=$BY188,ROW('Master Template'!$F$8:$F$37)-7,\"\"),COLUMNS($BZ$4:CA188))),\"\")","v":0},{"$f":"IFERROR(INDEX('Master Template'!$M$8:$M$37,SMALL(IF('Master Template'!$F$8:$F$37=$BY188,ROW('Master Template'!$F$8:$F$37)-7,\"\"),COLUMNS($BZ$4:CB188))),\"\")","v":0},{"$f":"IFERROR(INDEX('Master Template'!$M$8:$M$37,SMALL(IF('Master Template'!$F$8:$F$37=$BY188,ROW('Master Template'!$F$8:$F$37)-7,\"\"),COLUMNS($BZ$4:CC188))),\"\")","v":0},{"$f":"IFERROR(VLOOKUP(BZ188,'Master Template'!$B$73:$C$83,2,FALSE),\"\")","v":""},{"$f":"IFERROR(VLOOKUP(CA188,'Master Template'!$B$73:$C$83,2,FALSE),\"\")","v":""},{"$f":"IFERROR(VLOOKUP(CB188,'Master Template'!$B$73:$C$83,2,FALSE),\"\")","v":""},{"$f":"IFERROR(VLOOKUP(CC188,'Master Template'!$B$73:$C$83,2,FALSE),\"\")","v":""},""]
[null,null,null,null,null,null,null,null,null,null,null,null,null,null,null,null,null,null,null,null,null,null,null,null,null,null,null,null,null,null,null,null,null,null,null,null,null,null,null,null,null,null,null,null,null,null,null,null,null,null,null,null,null,null,null,null,null,null,null,null,null,null,null,null,null,null,null,null,null,null,null,null,null,null,null,null,{"$f":"'List Data'!B186","v":0},{"$f":"IFERROR(INDEX('Master Template'!$M$8:$M$37,SMALL(IF('Master Template'!$F$8:$F$37=$BY189,ROW('Master Template'!$F$8:$F$37)-7,\"\"),COLUMNS($BZ$4:BZ189))),\"\")","v":0},{"$f":"IFERROR(INDEX('Master Template'!$M$8:$M$37,SMALL(IF('Master Template'!$F$8:$F$37=$BY189,ROW('Master Template'!$F$8:$F$37)-7,\"\"),COLUMNS($BZ$4:CA189))),\"\")","v":0},{"$f":"IFERROR(INDEX('Master Template'!$M$8:$M$37,SMALL(IF('Master Template'!$F$8:$F$37=$BY189,ROW('Master Template'!$F$8:$F$37)-7,\"\"),COLUMNS($BZ$4:CB189))),\"\")","v":0},{"$f":"IFERROR(INDEX('Master Template'!$M$8:$M$37,SMALL(IF('Master Template'!$F$8:$F$37=$BY189,ROW('Master Template'!$F$8:$F$37)-7,\"\"),COLUMNS($BZ$4:CC189))),\"\")","v":0},{"$f":"IFERROR(VLOOKUP(BZ189,'Master Template'!$B$73:$C$83,2,FALSE),\"\")","v":""},{"$f":"IFERROR(VLOOKUP(CA189,'Master Template'!$B$73:$C$83,2,FALSE),\"\")","v":""},{"$f":"IFERROR(VLOOKUP(CB189,'Master Template'!$B$73:$C$83,2,FALSE),\"\")","v":""},{"$f":"IFERROR(VLOOKUP(CC189,'Master Template'!$B$73:$C$83,2,FALSE),\"\")","v":""},""]
[null,null,null,null,null,null,null,null,null,null,null,null,null,null,null,null,null,null,null,null,null,null,null,null,null,null,null,null,null,null,null,null,null,null,null,null,null,null,null,null,null,null,null,null,null,null,null,null,null,null,null,null,null,null,null,null,null,null,null,null,null,null,null,null,null,null,null,null,null,null,null,null,null,null,null,null,{"$f":"'List Data'!B187","v":0},{"$f":"IFERROR(INDEX('Master Template'!$M$8:$M$37,SMALL(IF('Master Template'!$F$8:$F$37=$BY190,ROW('Master Template'!$F$8:$F$37)-7,\"\"),COLUMNS($BZ$4:BZ190))),\"\")","v":0},{"$f":"IFERROR(INDEX('Master Template'!$M$8:$M$37,SMALL(IF('Master Template'!$F$8:$F$37=$BY190,ROW('Master Template'!$F$8:$F$37)-7,\"\"),COLUMNS($BZ$4:CA190))),\"\")","v":0},{"$f":"IFERROR(INDEX('Master Template'!$M$8:$M$37,SMALL(IF('Master Template'!$F$8:$F$37=$BY190,ROW('Master Template'!$F$8:$F$37)-7,\"\"),COLUMNS($BZ$4:CB190))),\"\")","v":0},{"$f":"IFERROR(INDEX('Master Template'!$M$8:$M$37,SMALL(IF('Master Template'!$F$8:$F$37=$BY190,ROW('Master Template'!$F$8:$F$37)-7,\"\"),COLUMNS($BZ$4:CC190))),\"\")","v":0},{"$f":"IFERROR(VLOOKUP(BZ190,'Master Template'!$B$73:$C$83,2,FALSE),\"\")","v":""},{"$f":"IFERROR(VLOOKUP(CA190,'Master Template'!$B$73:$C$83,2,FALSE),\"\")","v":""},{"$f":"IFERROR(VLOOKUP(CB190,'Master Template'!$B$73:$C$83,2,FALSE),\"\")","v":""},{"$f":"IFERROR(VLOOKUP(CC190,'Master Template'!$B$73:$C$83,2,FALSE),\"\")","v":""},""]
[null,null,null,null,null,null,null,null,null,null,null,null,null,null,null,null,null,null,null,null,null,null,null,null,null,null,null,null,null,null,null,null,null,null,null,null,null,null,null,null,null,null,null,null,null,null,null,null,null,null,null,null,null,null,null,null,null,null,null,null,null,null,null,null,null,null,null,null,null,null,null,null,null,null,null,null,{"$f":"'List Data'!B188","v":0},{"$f":"IFERROR(INDEX('Master Template'!$M$8:$M$37,SMALL(IF('Master Template'!$F$8:$F$37=$BY191,ROW('Master Template'!$F$8:$F$37)-7,\"\"),COLUMNS($BZ$4:BZ191))),\"\")","v":0},{"$f":"IFERROR(INDEX('Master Template'!$M$8:$M$37,SMALL(IF('Master Template'!$F$8:$F$37=$BY191,ROW('Master Template'!$F$8:$F$37)-7,\"\"),COLUMNS($BZ$4:CA191))),\"\")","v":0},{"$f":"IFERROR(INDEX('Master Template'!$M$8:$M$37,SMALL(IF('Master Template'!$F$8:$F$37=$BY191,ROW('Master Template'!$F$8:$F$37)-7,\"\"),COLUMNS($BZ$4:CB191))),\"\")","v":0},{"$f":"IFERROR(INDEX('Master Template'!$M$8:$M$37,SMALL(IF('Master Template'!$F$8:$F$37=$BY191,ROW('Master Template'!$F$8:$F$37)-7,\"\"),COLUMNS($BZ$4:CC191))),\"\")","v":0},{"$f":"IFERROR(VLOOKUP(BZ191,'Master Template'!$B$73:$C$83,2,FALSE),\"\")","v":""},{"$f":"IFERROR(VLOOKUP(CA191,'Master Template'!$B$73:$C$83,2,FALSE),\"\")","v":""},{"$f":"IFERROR(VLOOKUP(CB191,'Master Template'!$B$73:$C$83,2,FALSE),\"\")","v":""},{"$f":"IFERROR(VLOOKUP(CC191,'Master Template'!$B$73:$C$83,2,FALSE),\"\")","v":""},""]
[null,null,null,null,null,null,null,null,null,null,null,null,null,null,null,null,null,null,null,null,null,null,null,null,null,null,null,null,null,null,null,null,null,null,null,null,null,null,null,null,null,null,null,null,null,null,null,null,null,null,null,null,null,null,null,null,null,null,null,null,null,null,null,null,null,null,null,null,null,null,null,null,null,null,null,null,{"$f":"'List Data'!B189","v":0},{"$f":"IFERROR(INDEX('Master Template'!$M$8:$M$37,SMALL(IF('Master Template'!$F$8:$F$37=$BY192,ROW('Master Template'!$F$8:$F$37)-7,\"\"),COLUMNS($BZ$4:BZ192))),\"\")","v":0},{"$f":"IFERROR(INDEX('Master Template'!$M$8:$M$37,SMALL(IF('Master Template'!$F$8:$F$37=$BY192,ROW('Master Template'!$F$8:$F$37)-7,\"\"),COLUMNS($BZ$4:CA192))),\"\")","v":0},{"$f":"IFERROR(INDEX('Master Template'!$M$8:$M$37,SMALL(IF('Master Template'!$F$8:$F$37=$BY192,ROW('Master Template'!$F$8:$F$37)-7,\"\"),COLUMNS($BZ$4:CB192))),\"\")","v":0},{"$f":"IFERROR(INDEX('Master Template'!$M$8:$M$37,SMALL(IF('Master Template'!$F$8:$F$37=$BY192,ROW('Master Template'!$F$8:$F$37)-7,\"\"),COLUMNS($BZ$4:CC192))),\"\")","v":0},{"$f":"IFERROR(VLOOKUP(BZ192,'Master Template'!$B$73:$C$83,2,FALSE),\"\")","v":""},{"$f":"IFERROR(VLOOKUP(CA192,'Master Template'!$B$73:$C$83,2,FALSE),\"\")","v":""},{"$f":"IFERROR(VLOOKUP(CB192,'Master Template'!$B$73:$C$83,2,FALSE),\"\")","v":""},{"$f":"IFERROR(VLOOKUP(CC192,'Master Template'!$B$73:$C$83,2,FALSE),\"\")","v":""},""]
[null,null,null,null,null,null,null,null,null,null,null,null,null,null,null,null,null,null,null,null,null,null,null,null,null,null,null,null,null,null,null,null,null,null,null,null,null,null,null,null,null,null,null,null,null,null,null,null,null,null,null,null,null,null,null,null,null,null,null,null,null,null,null,null,null,null,null,null,null,null,null,null,null,null,null,null,{"$f":"'List Data'!B190","v":0},{"$f":"IFERROR(INDEX('Master Template'!$M$8:$M$37,SMALL(IF('Master Template'!$F$8:$F$37=$BY193,ROW('Master Template'!$F$8:$F$37)-7,\"\"),COLUMNS($BZ$4:BZ193))),\"\")","v":0},{"$f":"IFERROR(INDEX('Master Template'!$M$8:$M$37,SMALL(IF('Master Template'!$F$8:$F$37=$BY193,ROW('Master Template'!$F$8:$F$37)-7,\"\"),COLUMNS($BZ$4:CA193))),\"\")","v":0},{"$f":"IFERROR(INDEX('Master Template'!$M$8:$M$37,SMALL(IF('Master Template'!$F$8:$F$37=$BY193,ROW('Master Template'!$F$8:$F$37)-7,\"\"),COLUMNS($BZ$4:CB193))),\"\")","v":0},{"$f":"IFERROR(INDEX('Master Template'!$M$8:$M$37,SMALL(IF('Master Template'!$F$8:$F$37=$BY193,ROW('Master Template'!$F$8:$F$37)-7,\"\"),COLUMNS($BZ$4:CC193))),\"\")","v":0},{"$f":"IFERROR(VLOOKUP(BZ193,'Master Template'!$B$73:$C$83,2,FALSE),\"\")","v":""},{"$f":"IFERROR(VLOOKUP(CA193,'Master Template'!$B$73:$C$83,2,FALSE),\"\")","v":""},{"$f":"IFERROR(VLOOKUP(CB193,'Master Template'!$B$73:$C$83,2,FALSE),\"\")","v":""},{"$f":"IFERROR(VLOOKUP(CC193,'Master Template'!$B$73:$C$83,2,FALSE),\"\")","v":""},""]
[null,null,null,null,null,null,null,null,null,null,null,null,null,null,null,null,null,null,null,null,null,null,null,null,null,null,null,null,null,null,null,null,null,null,null,null,null,null,null,null,null,null,null,null,null,null,null,null,null,null,null,null,null,null,null,null,null,null,null,null,null,null,null,null,null,null,null,null,null,null,null,null,null,null,null,null,{"$f":"'List Data'!B191","v":0},{"$f":"IFERROR(INDEX('Master Template'!$M$8:$M$37,SMALL(IF('Master Template'!$F$8:$F$37=$BY194,ROW('Master Template'!$F$8:$F$37)-7,\"\"),COLUMNS($BZ$4:BZ194))),\"\")","v":0},{"$f":"IFERROR(INDEX('Master Template'!$M$8:$M$37,SMALL(IF('Master Template'!$F$8:$F$37=$BY194,ROW('Master Template'!$F$8:$F$37)-7,\"\"),COLUMNS($BZ$4:CA194))),\"\")","v":0},{"$f":"IFERROR(INDEX('Master Template'!$M$8:$M$37,SMALL(IF('Master Template'!$F$8:$F$37=$BY194,ROW('Master Template'!$F$8:$F$37)-7,\"\"),COLUMNS($BZ$4:CB194))),\"\")","v":0},{"$f":"IFERROR(INDEX('Master Template'!$M$8:$M$37,SMALL(IF('Master Template'!$F$8:$F$37=$BY194,ROW('Master Template'!$F$8:$F$37)-7,\"\"),COLUMNS($BZ$4:CC194))),\"\")","v":0},{"$f":"IFERROR(VLOOKUP(BZ194,'Master Template'!$B$73:$C$83,2,FALSE),\"\")","v":""},{"$f":"IFERROR(VLOOKUP(CA194,'Master Template'!$B$73:$C$83,2,FALSE),\"\")","v":""},{"$f":"IFERROR(VLOOKUP(CB194,'Master Template'!$B$73:$C$83,2,FALSE),\"\")","v":""},{"$f":"IFERROR(VLOOKUP(CC194,'Master Template'!$B$73:$C$83,2,FALSE),\"\")","v":""},""]
[null,null,null,null,null,null,null,null,null,null,null,null,null,null,null,null,null,null,null,null,null,null,null,null,null,null,null,null,null,null,null,null,null,null,null,null,null,null,null,null,null,null,null,null,null,null,null,null,null,null,null,null,null,null,null,null,null,null,null,null,null,null,null,null,null,null,null,null,null,null,null,null,null,null,null,null,{"$f":"'List Data'!B192","v":0},{"$f":"IFERROR(INDEX('Master Template'!$M$8:$M$37,SMALL(IF('Master Template'!$F$8:$F$37=$BY195,ROW('Master Template'!$F$8:$F$37)-7,\"\"),COLUMNS($BZ$4:BZ195))),\"\")","v":0},{"$f":"IFERROR(INDEX('Master Template'!$M$8:$M$37,SMALL(IF('Master Template'!$F$8:$F$37=$BY195,ROW('Master Template'!$F$8:$F$37)-7,\"\"),COLUMNS($BZ$4:CA195))),\"\")","v":0},{"$f":"IFERROR(INDEX('Master Template'!$M$8:$M$37,SMALL(IF('Master Template'!$F$8:$F$37=$BY195,ROW('Master Template'!$F$8:$F$37)-7,\"\"),COLUMNS($BZ$4:CB195))),\"\")","v":0},{"$f":"IFERROR(INDEX('Master Template'!$M$8:$M$37,SMALL(IF('Master Template'!$F$8:$F$37=$BY195,ROW('Master Template'!$F$8:$F$37)-7,\"\"),COLUMNS($BZ$4:CC195))),\"\")","v":0},{"$f":"IFERROR(VLOOKUP(BZ195,'Master Template'!$B$73:$C$83,2,FALSE),\"\")","v":""},{"$f":"IFERROR(VLOOKUP(CA195,'Master Template'!$B$73:$C$83,2,FALSE),\"\")","v":""},{"$f":"IFERROR(VLOOKUP(CB195,'Master Template'!$B$73:$C$83,2,FALSE),\"\")","v":""},{"$f":"IFERROR(VLOOKUP(CC195,'Master Template'!$B$73:$C$83,2,FALSE),\"\")","v":""},""]
[null,null,null,null,null,null,null,null,null,null,null,null,null,null,null,null,null,null,null,null,null,null,null,null,null,null,null,null,null,null,null,null,null,null,null,null,null,null,null,null,null,null,null,null,null,null,null,null,null,null,null,null,null,null,null,null,null,null,null,null,null,null,null,null,null,null,null,null,null,null,null,null,null,null,null,null,{"$f":"'List Data'!B193","v":0},{"$f":"IFERROR(INDEX('Master Template'!$M$8:$M$37,SMALL(IF('Master Template'!$F$8:$F$37=$BY196,ROW('Master Template'!$F$8:$F$37)-7,\"\"),COLUMNS($BZ$4:BZ196))),\"\")","v":0},{"$f":"IFERROR(INDEX('Master Template'!$M$8:$M$37,SMALL(IF('Master Template'!$F$8:$F$37=$BY196,ROW('Master Template'!$F$8:$F$37)-7,\"\"),COLUMNS($BZ$4:CA196))),\"\")","v":0},{"$f":"IFERROR(INDEX('Master Template'!$M$8:$M$37,SMALL(IF('Master Template'!$F$8:$F$37=$BY196,ROW('Master Template'!$F$8:$F$37)-7,\"\"),COLUMNS($BZ$4:CB196))),\"\")","v":0},{"$f":"IFERROR(INDEX('Master Template'!$M$8:$M$37,SMALL(IF('Master Template'!$F$8:$F$37=$BY196,ROW('Master Template'!$F$8:$F$37)-7,\"\"),COLUMNS($BZ$4:CC196))),\"\")","v":0},{"$f":"IFERROR(VLOOKUP(BZ196,'Master Template'!$B$73:$C$83,2,FALSE),\"\")","v":""},{"$f":"IFERROR(VLOOKUP(CA196,'Master Template'!$B$73:$C$83,2,FALSE),\"\")","v":""},{"$f":"IFERROR(VLOOKUP(CB196,'Master Template'!$B$73:$C$83,2,FALSE),\"\")","v":""},{"$f":"IFERROR(VLOOKUP(CC196,'Master Template'!$B$73:$C$83,2,FALSE),\"\")","v":""},""]
[null,null,null,null,null,null,null,null,null,null,null,null,null,null,null,null,null,null,null,null,null,null,null,null,null,null,null,null,null,null,null,null,null,null,null,null,null,null,null,null,null,null,null,null,null,null,null,null,null,null,null,null,null,null,null,null,null,null,null,null,null,null,null,null,null,null,null,null,null,null,null,null,null,null,null,null,{"$f":"'List Data'!B194","v":0},{"$f":"IFERROR(INDEX('Master Template'!$M$8:$M$37,SMALL(IF('Master Template'!$F$8:$F$37=$BY197,ROW('Master Template'!$F$8:$F$37)-7,\"\"),COLUMNS($BZ$4:BZ197))),\"\")","v":0},{"$f":"IFERROR(INDEX('Master Template'!$M$8:$M$37,SMALL(IF('Master Template'!$F$8:$F$37=$BY197,ROW('Master Template'!$F$8:$F$37)-7,\"\"),COLUMNS($BZ$4:CA197))),\"\")","v":0},{"$f":"IFERROR(INDEX('Master Template'!$M$8:$M$37,SMALL(IF('Master Template'!$F$8:$F$37=$BY197,ROW('Master Template'!$F$8:$F$37)-7,\"\"),COLUMNS($BZ$4:CB197))),\"\")","v":0},{"$f":"IFERROR(INDEX('Master Template'!$M$8:$M$37,SMALL(IF('Master Template'!$F$8:$F$37=$BY197,ROW('Master Template'!$F$8:$F$37)-7,\"\"),COLUMNS($BZ$4:CC197))),\"\")","v":0},{"$f":"IFERROR(VLOOKUP(BZ197,'Master Template'!$B$73:$C$83,2,FALSE),\"\")","v":""},{"$f":"IFERROR(VLOOKUP(CA197,'Master Template'!$B$73:$C$83,2,FALSE),\"\")","v":""},{"$f":"IFERROR(VLOOKUP(CB197,'Master Template'!$B$73:$C$83,2,FALSE),\"\")","v":""},{"$f":"IFERROR(VLOOKUP(CC197,'Master Template'!$B$73:$C$83,2,FALSE),\"\")","v":""},""]
[null,null,null,null,null,null,null,null,null,null,null,null,null,null,null,null,null,null,null,null,null,null,null,null,null,null,null,null,null,null,null,null,null,null,null,null,null,null,null,null,null,null,null,null,null,null,null,null,null,null,null,null,null,null,null,null,null,null,null,null,null,null,null,null,null,null,null,null,null,null,null,null,null,null,null,null,{"$f":"'List Data'!B195","v":0},{"$f":"IFERROR(INDEX('Master Template'!$M$8:$M$37,SMALL(IF('Master Template'!$F$8:$F$37=$BY198,ROW('Master Template'!$F$8:$F$37)-7,\"\"),COLUMNS($BZ$4:BZ198))),\"\")","v":0},{"$f":"IFERROR(INDEX('Master Template'!$M$8:$M$37,SMALL(IF('Master Template'!$F$8:$F$37=$BY198,ROW('Master Template'!$F$8:$F$37)-7,\"\"),COLUMNS($BZ$4:CA198))),\"\")","v":0},{"$f":"IFERROR(INDEX('Master Template'!$M$8:$M$37,SMALL(IF('Master Template'!$F$8:$F$37=$BY198,ROW('Master Template'!$F$8:$F$37)-7,\"\"),COLUMNS($BZ$4:CB198))),\"\")","v":0},{"$f":"IFERROR(INDEX('Master Template'!$M$8:$M$37,SMALL(IF('Master Template'!$F$8:$F$37=$BY198,ROW('Master Template'!$F$8:$F$37)-7,\"\"),COLUMNS($BZ$4:CC198))),\"\")","v":0},{"$f":"IFERROR(VLOOKUP(BZ198,'Master Template'!$B$73:$C$83,2,FALSE),\"\")","v":""},{"$f":"IFERROR(VLOOKUP(CA198,'Master Template'!$B$73:$C$83,2,FALSE),\"\")","v":""},{"$f":"IFERROR(VLOOKUP(CB198,'Master Template'!$B$73:$C$83,2,FALSE),\"\")","v":""},{"$f":"IFERROR(VLOOKUP(CC198,'Master Template'!$B$73:$C$83,2,FALSE),\"\")","v":""},{"$f":"IF(CD198=\"\",\"\",IF(CE198=\"\",CD198,IF(CF198=\"\",CD198&\",\"&CE198,IF(CG198=\"\",CD198&\",\"&CE198&\",\"&CF198,CD198&\",\"&CE198&\",\"&CF198&\",\"&CG198))))","v":""}]
[null,null,null,null,null,null,null,null,null,null,null,null,null,null,null,null,null,null,null,null,null,null,null,null,null,null,null,null,null,null,null,null,null,null,null,null,null,null,null,null,null,null,null,null,null,null,null,null,null,null,null,null,null,null,null,null,null,null,null,null,null,null,null,null,null,null,null,null,null,null,null,null,null,null,null,null,{"$f":"'List Data'!B196","v":0},{"$f":"IFERROR(INDEX('Master Template'!$M$8:$M$37,SMALL(IF('Master Template'!$F$8:$F$37=$BY199,ROW('Master Template'!$F$8:$F$37)-7,\"\"),COLUMNS($BZ$4:BZ199))),\"\")","v":0},{"$f":"IFERROR(INDEX('Master Template'!$M$8:$M$37,SMALL(IF('Master Template'!$F$8:$F$37=$BY199,ROW('Master Template'!$F$8:$F$37)-7,\"\"),COLUMNS($BZ$4:CA199))),\"\")","v":0},{"$f":"IFERROR(INDEX('Master Template'!$M$8:$M$37,SMALL(IF('Master Template'!$F$8:$F$37=$BY199,ROW('Master Template'!$F$8:$F$37)-7,\"\"),COLUMNS($BZ$4:CB199))),\"\")","v":0},{"$f":"IFERROR(INDEX('Master Template'!$M$8:$M$37,SMALL(IF('Master Template'!$F$8:$F$37=$BY199,ROW('Master Template'!$F$8:$F$37)-7,\"\"),COLUMNS($BZ$4:CC199))),\"\")","v":0},{"$f":"IFERROR(VLOOKUP(BZ199,'Master Template'!$B$73:$C$83,2,FALSE),\"\")","v":""},{"$f":"IFERROR(VLOOKUP(CA199,'Master Template'!$B$73:$C$83,2,FALSE),\"\")","v":""},{"$f":"IFERROR(VLOOKUP(CB199,'Master Template'!$B$73:$C$83,2,FALSE),\"\")","v":""},{"$f":"IFERROR(VLOOKUP(CC199,'Master Template'!$B$73:$C$83,2,FALSE),\"\")","v":""},""]
[null,null,null,null,null,null,null,null,null,null,null,null,null,null,null,null,null,null,null,null,null,null,null,null,null,null,null,null,null,null,null,null,null,null,null,null,null,null,null,null,null,null,null,null,null,null,null,null,null,null,null,null,null,null,null,null,null,null,null,null,null,null,null,null,null,null,null,null,null,null,null,null,null,null,null,null,{"$f":"'List Data'!B197","v":0},{"$f":"IFERROR(INDEX('Master Template'!$M$8:$M$37,SMALL(IF('Master Template'!$F$8:$F$37=$BY200,ROW('Master Template'!$F$8:$F$37)-7,\"\"),COLUMNS($BZ$4:BZ200))),\"\")","v":0},{"$f":"IFERROR(INDEX('Master Template'!$M$8:$M$37,SMALL(IF('Master Template'!$F$8:$F$37=$BY200,ROW('Master Template'!$F$8:$F$37)-7,\"\"),COLUMNS($BZ$4:CA200))),\"\")","v":0},{"$f":"IFERROR(INDEX('Master Template'!$M$8:$M$37,SMALL(IF('Master Template'!$F$8:$F$37=$BY200,ROW('Master Template'!$F$8:$F$37)-7,\"\"),COLUMNS($BZ$4:CB200))),\"\")","v":0},{"$f":"IFERROR(INDEX('Master Template'!$M$8:$M$37,SMALL(IF('Master Template'!$F$8:$F$37=$BY200,ROW('Master Template'!$F$8:$F$37)-7,\"\"),COLUMNS($BZ$4:CC200))),\"\")","v":0},{"$f":"IFERROR(VLOOKUP(BZ200,'Master Template'!$B$73:$C$83,2,FALSE),\"\")","v":""},{"$f":"IFERROR(VLOOKUP(CA200,'Master Template'!$B$73:$C$83,2,FALSE),\"\")","v":""},{"$f":"IFERROR(VLOOKUP(CB200,'Master Template'!$B$73:$C$83,2,FALSE),\"\")","v":""},{"$f":"IFERROR(VLOOKUP(CC200,'Master Template'!$B$73:$C$83,2,FALSE),\"\")","v":""},""]

{"sheet":"Dummy Data","index":2,"n_rows":200,"n_cols":86,"rows_kept":200,"cut":false,"hidden":false,"merged":[[4,18,4,21],[1,3,1,4],[4,5,4,7],[4,9,4,10],[4,13,4,15],[4,16,4,17],[104,1,104,12],[5,3,6,3],[5,4,5,8],[5,9,5,11],[5,12,5,23],[5,31,5,35],[5,37,5,49],[31,37,32,49],[71,1,71,2],[71,34,71,35],[5,24,5,28],[5,29,5,30],[105,1,105,4],[105,5,105,12],[106,1,106,4],[106,5,106,12],[107,1,107,4],[107,5,107,12],[111,1,111,4],[111,5,111,12],[114,1,115,12],[108,1,108,4],[108,5,108,12],[109,1,109,4],[109,5,109,12],[110,1,110,4],[110,5,110,12]]}
[]
[null,null,null,"Print Reports:"]
[null,null,null,null,null,null,null,null,null,null,null,null,null,null,null,null,null,null,null,null,null,null,null,null,null,null,null,null,null,null,null,null,null,null,null,null,null,null,null,null,null,null,null,null,null,null,null,null,null,null,null,null,null,null,null,null,null,null,null,null,null,null,null,null,null,null,null,null,null,null,null,null,null,null,null,null,null,"Infection Events",null,null,null,"Symbol Translation",null,null,null,"Symbol Concatenatioin"]
[null,null,null,null,null,null,null,null,null,null,null,null,null,null,null,null,null,null,null,null,null,null,null,null,null,null,null,null,null,null,null,null,null,null,null,null,null,null,null,null,null,null,null,null,null,null,null,null,null,null,null,null,null,null,null,null,null,null,null,null,null,null,null,null,null,null,null,null,null,null,null,null,null,null,null,null,"Room Number","1st infection","2nd infection","3rd infection","4th infection","1st infection","2nd infection","3rd infection","4th infection","Up to 4, \"\" if none."]
[null,"Infection Control Surveillance Log               ",null,null,"Facility","Meadowbrook",null,null,"Month","August",null,"Year",2019,"Avg. Daily Census",null,null,null,null,"Resident Days per Month",null,null,null,null,null,null,null,null,null,null,null,null,null,null,null,null,null,null,null,null,null,null,null,null,null,null,null,null,null,null,null,null,null,null,null,null,null,null,null,null,null,null,null,null,null,null,null,null,null,null,null,null,null,null,null,null,null,{"$f":"'List Data'!B2","v":"001-1"},{"$f":"IFERROR(INDEX('Dummy Data'!$M$8:$M$37,SMALL(IF('Dummy Data'!$F$8:$F$37=$BY5,ROW('Dummy Data'!$F$8:$F$37)-7,\"\"),COLUMNS($BZ$4:BZ5))),\"\")","v":""},{"$f":"IFERROR(INDEX('Dummy Data'!$M$8:$M$37,SMALL(IF('Dummy Data'!$F$8:$F$37=$BY5,ROW('Dummy Data'!$F$8:$F$37)-7,\"\"),COLUMNS($BZ$4:CA5))),\"\")","v":""},{"$f":"IFERROR(INDEX('Dummy Data'!$M$8:$M$37,SMALL(IF('Dummy Data'!$F$8:$F$37=$BY5,ROW('Dummy Data'!$F$8:$F$37)-7,\"\"),COLUMNS($BZ$4:CB5))),\"\")","v":""},{"$f":"IFERROR(INDEX('Dummy Data'!$M$8:$M$37,SMALL(IF('Dummy Data'!$F$8:$F$37=$BY5,ROW('Dummy Data'!$F$8:$F$37)-7,\"\"),COLUMNS($BZ$4:CC5))),\"\")","v":""},{"$f":"IFERROR(VLOOKUP(BZ5,'Dummy Data'!$B$73:$C$83,2,FALSE),\"\")","v":""},{"$f":"IFERROR(VLOOKUP(CA5,'Dummy Data'!$B$73:$C$83,2,FALSE),\"\")","v":""},{"$f":"IFERROR(VLOOKUP(CB5,'Dummy Data'!$B$73:$C$83,2,FALSE),\"\")","v":""},{"$f":"IFERROR(VLOOKUP(CC5,'Dummy Data'!$B$73:$C$83,2,FALSE),\"\")","v":""},{"$f":"IF(CD5=\"\",\"\",IF(CE5=\"\",CD5,IF(CF5=\"\",CD5&\",\"&CE5,IF(CG5=\"\",CD5&\",\"&CE5&\",\"&CF5,CD5&\",\"&CE5&\",\"&CF5&\",\"&CG5))))","v":""}]
[null,"Consultant Pharmacist",null,"Medical Director Endorsement","Resident",null,null,null,null,"Staff",null,null,"Clinical Information",null,null,null,null,null,null,null,null,null,null,null,"Treatment",null,null,null,null,"Prescriber",null,"Therapy",null,null,null,null,null,"Infection Log Reports",null,null,null,null,null,null,null,null,null,null,null,null,null,null,null,null,null,null,null,null,null,null,null,null,null,null,null,null,null,null,null,null,null,null,null,null,null,null,{"$f":"'List Data'!B3","v":"001-2"},{"$f":"IFERROR(INDEX('Dummy Data'!$M$8:$M$37,SMALL(IF('Dummy Data'!$F$8:$F$37=$BY6,ROW('Dummy Data'!$F$8:$F$37)-7,\"\"),COLUMNS($BZ$4:BZ6))),\"\")","v":""},{"$f":"IFERROR(INDEX('Dummy Data'!$M$8:$M$37,SMALL(IF('Dummy Data'!$F$8:$F$37=$BY6,ROW('Dummy Data'!$F$8:$F$37)-7,\"\"),COLUMNS($BZ$4:CA6))),\"\")","v":""},{"$f":"IFERROR(INDEX('Dummy Data'!$M$8:$M$37,SMALL(IF('Dummy Data'!$F$8:$F$37=$BY6,ROW('Dummy Data'!$F$8:$F$37)-7,\"\"),COLUMNS($BZ$4:CB6))),\"\")","v":""},{"$f":"IFERROR(INDEX('Dummy Data'!$M$8:$M$37,SMALL(IF('Dummy Data'!$F$8:$F$37=$BY6,ROW('Dummy Data'!$F$8:$F$37)-7,\"\"),COLUMNS($BZ$4:CC6))),\"\")","v":""},{"$f":"IFERROR(VLOOKUP(BZ6,'Dummy Data'!$B$73:$C$83,2,FALSE),\"\")","v":""},{"$f":"IFERROR(VLOOKUP(CA6,'Dummy Data'!$B$73:$C$83,2,FALSE),\"\")","v":""},{"$f":"IFERROR(VLOOKUP(CB6,'Dummy Data'!$B$73:$C$83,2,FALSE),\"\")","v":""},{"$f":"IFERROR(VLOOKUP(CC6,'Dummy Data'!$B$73:$C$83,2,FALSE),\"\")","v":""},{"$f":"IF(CD6=\"\",\"\",IF(CE6=\"\",CD6,IF(CF6=\"\",CD6&\",\"&CE6,IF(CG6=\"\",CD6&\",\"&CE6&\",\"&CF6,CD6&\",\"&CE6&\",\"&CF6&\",\"&CG6))))","v":""}]
[null,"The prescription was Reviewed (ATB selection & therapy)","Was the original therapy Endorsed?",null,"Resident Name","Room","Date of Current Admission or Readmission","Date of Onset  ","Signs & \nSymptoms","CIC initially completed (BEFORE Rx)","Who submitted the order? (Staff)","Was a CIC Form Completed? (ultimately)","Site of Infection","Meets McGeer's Criteria","Lab Identified C. difficile Infection (CDI)","MRSA Infection","Admitted with Infection","Healthcare Acquired - Nosocomial Infection","Temp","X-Ray\nTaken","Culture Taken","Foley","Trach","Causative\nOrganism \n(list or \"none found\")","Class","Medication","Treatment","Follow-up \nDe-escalation","Diagnosis","Was this antibiotic prescribed at the facility?","Who prescribed this antibiotic?","Start Date","Stop Date","Length of Therapy (days)","Reportable\ninfections\nreported","Control Techniques Utilized",null,"Location","Admitted With","Nosocomial","Total","McGeer's Met","McGeer's Not Met","% Rate of McGeer's","CIC Completed (Nosocomial)","CIC Not Completed (Nosocomial)","% Rate of CIC (Nosocomial)","Average Length of Therapy (days)","Infection Rate (%)","Rate per 1,000 Resident Days (%)",null,null,null,null,null,null,null,null,null,null,null,null,null,null,null,null,null,null,null,null,null,null,null,null,null,null,{"$f":"'List Data'!B4","v":"002-1"},{"$f":"IFERROR(INDEX('Dummy Data'!$M$8:$M$37,SMALL(IF('Dummy Data'!$F$8:$F$37=$BY7,ROW('Dummy Data'!$F$8:$F$37)-7,\"\"),COLUMNS($BZ$4:BZ7))),\"\")","v":""},{"$f":"IFERROR(INDEX('Dummy Data'!$M$8:$M$37,SMALL(IF('Dummy Data'!$F$8:$F$37=$BY7,ROW('Dummy Data'!$F$8:$F$37)-7,\"\"),COLUMNS($BZ$4:CA7))),\"\")","v":""},{"$f":"IFERROR(INDEX('Dummy Data'!$M$8:$M$37,SMALL(IF('Dummy Data'!$F$8:$F$37=$BY7,ROW('Dummy Data'!$F$8:$F$37)-7,\"\"),COLUMNS($BZ$4:CB7))),\"\")","v":""},{"$f":"IFERROR(INDEX('Dummy Data'!$M$8:$M$37,SMALL(IF('Dummy Data'!$F$8:$F$37=$BY7,ROW('Dummy Data'!$F$8:$F$37)-7,\"\"),COLUMNS($BZ$4:CC7))),\"\")","v":""},{"$f":"IFERROR(VLOOKUP(BZ7,'Dummy Data'!$B$73:$C$83,2,FALSE),\"\")","v":""},{"$f":"IFERROR(VLOOKUP(CA7,'Dummy Data'!$B$73:$C$83,2,FALSE),\"\")","v":""},{"$f":"IFERROR(VLOOKUP(CB7,'Dummy Data'!$B$73:$C$83,2,FALSE),\"\")","v":""},{"$f":"IFERROR(VLOOKUP(CC7,'Dummy Data'!$B$73:$C$83,2,FALSE),\"\")","v":""},""]
[1,"yes","yes","yes","Res1","004-1","2019-03-01","2019-02-28","fever, uncontrolled shaking","No","Manning","No","UTI","No","N/A","No","No","Yes","Yes","No","Yes","Yes","N/A","xxx","Penicillins","Ampicillin-Sulbactam","250 mg susp QD","Continue","UTI","No","David","2019-03-02","2019-03-10",{"$f":"IFERROR(IF(AF8=\"\",\"\",(DATEDIF(AF8,AG8,\"D\")+1)),\"\")","v":9},"No","Hosp did not complete a C&S",null,"UTI",{"$f":"COUNTIFS($M$8:$M$36,'List Data'!A2,$Q$8:$Q$36,\"Yes\")","v":1},{"$f":"COUNTIFS($M$8:$M$36,'List Data'!A2,$R$8:$R$36,\"Yes\")","v":7},{"$f":"SUM(AM8:AN8)","v":8},{"$f":"COUNTIFS($M$8:$M$36,'List Data'!A2,$N$8:$N$36,\"Yes\")","v":5},{"$f":"COUNTIFS($M$8:$M$36,'List Data'!A2,$N$8:$N$36,\"No\")","v":2},{"$f":"IFERROR(AP8/(AQ8+AP8),\"\")","v":0.7142857142857143},{"$f":"COUNTIFS($L$8:$L$37,\"Yes\",$M$8:$M$37,'List Data'!A2,$R$8:$R$37,\"Yes\")","v":5},{"$f":"COUNTIFS($L$8:$L$37,\"No\",$M$8:$M$37,'List Data'!A2,$R$8:$R$37,\"Yes\")","v":2},{"$f":"IFERROR(AS8/(AS8+AT8),\"\")","v":0.7142857142857143},{"$f":"IFERROR(AVERAGEIF($M$8:$M$37,'List Data'!A2,$AH$8:$AH$37),\"\")","v":11.857142857142858},{"$f":"IFERROR((AO8/$Q$5)*100,\"\")","v":""},{"$f":"IFERROR((AO8/$W$5)*1000,\"\")","v":""},null,null,null,null,null,null,null,null,null,null,null,null,null,null,null,null,null,null,null,null,null,null,null,null,null,null,{"$f":"'List Data'!B5","v":"002-2"},{"$f":"IFERROR(INDEX('Dummy Data'!$M$8:$M$37,SMALL(IF('Dummy Data'!$F$8:$F$37=$BY8,ROW('Dummy Data'!$F$8:$F$37)-7,\"\"),COLUMNS($BZ$4:BZ8))),\"\")","v":""},{"$f":"IFERROR(INDEX('Dummy Data'!$M$8:$M$37,SMALL(IF('Dummy Data'!$F$8:$F$37=$BY8,ROW('Dummy Data'!$F$8:$F$37)-7,\"\"),COLUMNS($BZ$4:CA8))),\"\")","v":""},{"$f":"IFERROR(INDEX('Dummy Data'!$M$8:$M$37,SMALL(IF('Dummy Data'!$F$8:$F$37=$BY8,ROW('Dummy Data'!$F$8:$F$37)-7,\"\"),COLUMNS($BZ$4:CB8))),\"\")","v":""},{"$f":"IFERROR(INDEX('Dummy Data'!$M$8:$M$37,SMALL(IF('Dummy Data'!$F$8:$F$37=$BY8,ROW('Dummy Data'!$F$8:$F$37)-7,\"\"),COLUMNS($BZ$4:CC8))),\"\")","v":""},{"$f":"IFERROR(VLOOKUP(BZ8,'Dummy Data'!$B$73:$C$83,2,FALSE),\"\")","v":""},{"$f":"IFERROR(VLOOKUP(CA8,'Dummy Data'!$B$73:$C$83,2,FALSE),\"\")","v":""},{"$f":"IFERROR(VLOOKUP(CB8,'Dummy Data'!$B$73:$C$83,2,FALSE),\"\")","v":""},{"$f":"IFERROR(VLOOKUP(CC8,'Dummy Data'!$B$73:$C$83,2,FALSE),\"\")","v":""},""]
[2,"yes","no","yes","Res1","008-2","2019-03-01","2019-02-28","same","Multi-Rx","Staff1","Yes","Multi-Rx","Multi-Rx","Multi-Rx","Multi-Rx","Multi-Rx","Multi-Rx","Multi-Rx","Multi-Rx","Multi-Rx","Multi-Rx","Multi-Rx","yeast","Macrolides","Doxycycline","100mg QD","Narrow","UTI","No","Dr6","2019-03-02","2019-03-11",{"$f":"IFERROR(IF(AF9=\"\",\"\",(DATEDIF(AF9,AG9,\"D\")+1)),\"\")","v":10},"No",null,null,"Cath/UTI",{"$f":"COUNTIFS($M$8:$M$36,'List Data'!A3,$Q$8:$Q$36,\"Yes\")","v":0},{"$f":"COUNTIFS($M$8:$M$36,'List Data'!A3,$R$8:$R$36,\"Yes\")","v":0},{"$f":"SUM(AM9:AN9)","v":0},{"$f":"COUNTIFS($M$8:$M$36,'List Data'!A3,$N$8:$N$36,\"Yes\")","v":0},{"$f":"COUNTIFS($M$8:$M$36,'List Data'!A3,$N$8:$N$36,\"No\")","v":0},"",{"$f":"COUNTIFS($L$8:$L$37,\"Yes\",$M$8:$M$37,'List Data'!A3,$R$8:$R$37,\"Yes\")","v":0},{"$f":"COUNTIFS($L$8:$L$37,\"No\",$M$8:$M$37,'List Data'!A3,$R$8:$R$37,\"Yes\")","v":0},"",{"$f":"IFERROR(AVERAGEIF($M$8:$M$37,'List Data'!A3,$AH$8:$AH$37),\"\")","v":""},{"$f":"IFERROR((AO9/$Q$5)*100,\"\")","v":""},{"$f":"IFERROR((AO9/$W$5)*1000,\"\")","v":""},null,null,null,null,null,null,null,null,null,null,null,null,null,null,null,null,null,null,null,null,null,null,null,null,null,null,{"$f":"'List Data'!B6","v":"003-1"},{"$f":"IFERROR(INDEX('Dummy Data'!$M$8:$M$37,SMALL(IF('Dummy Data'!$F$8:$F$37=$BY9,ROW('Dummy Data'!$F$8:$F$37)-7,\"\"),COLUMNS($BZ$4:BZ9))),\"\")","v":""},{"$f":"IFERROR(INDEX('Dummy Data'!$M$8:$M$37,SMALL(IF('Dummy Data'!$F$8:$F$37=$BY9,ROW('Dummy Data'!$F$8:$F$37)-7,\"\"),COLUMNS($BZ$4:CA9))),\"\")","v":""},{"$f":"IFERROR(INDEX('Dummy Data'!$M$8:$M$37,SMALL(IF('Dummy Data'!$F$8:$F$37=$BY9,ROW('Dummy Data'!$F$8:$F$37)-7,\"\"),COLUMNS($BZ$4:CB9))),\"\")","v":""},{"$f":"IFERROR(INDEX('Dummy Data'!$M$8:$M$37,SMALL(IF('Dummy Data'!$F$8:$F$37=$BY9,ROW('Dummy Data'!$F$8:$F$37)-7,\"\"),COLUMNS($BZ$4:CC9))),\"\")","v":""},{"$f":"IFERROR(VLOOKUP(BZ9,'Dummy Data'!$B$73:$C$83,2,FALSE),\"\")","v":""},{"$f":"IFERROR(VLOOKUP(CA9,'Dummy Data'!$B$73:$C$83,2,FALSE),\"\")","v":""},{"$f":"IFERROR(VLOOKUP(CB9,'Dummy Data'!$B$73:$C$83,2,FALSE),\"\")","v":""},{"$f":"IFERROR(VLOOKUP(CC9,'Dummy Data'!$B$73:$C$83,2,FALSE),\"\")","v":""},""]
[3,"no",null,null,"Res1","045-2","2019-03-19","2019-02-28","fevr, bloody urine","Yes","Staff1","Yes","UTI","Yes","Skin","Skin","No","Yes","Yes","No","Yes","Yes","N/A","pseudomonas aeruginosa","Urinary_anti_infectives","Fosfomycin Tromethamine","2gm Bid","Discontinue","UTI","Yes","Dr4","2019-03-09","2019-03-16",8,"No","Repeat due to no C&S",null,"Skin",{"$f":"COUNTIFS($M$8:$M$36,'List Data'!A4,$Q$8:$Q$36,\"Yes\")","v":0},{"$f":"COUNTIFS($M$8:$M$36,'List Data'!A4,$R$8:$R$36,\"Yes\")","v":1},1,{"$f":"COUNTIFS($M$8:$M$36,'List Data'!A4,$N$8:$N$36,\"Yes\")","v":0},{"$f":"COUNTIFS($M$8:$M$36,'List Data'!A4,$N$8:$N$36,\"No\")","v":1},0,{"$f":"COUNTIFS($L$8:$L$37,\"Yes\",$M$8:$M$37,'List Data'!A4,$R$8:$R$37,\"Yes\")","v":1},{"$f":"COUNTIFS($L$8:$L$37,\"No\",$M$8:$M$37,'List Data'!A4,$R$8:$R$37,\"Yes\")","v":0},1,{"$f":"IFERROR(AVERAGEIF($M$8:$M$37,'List Data'!A4,$AH$8:$AH$37),\"\")","v":3},"","",null,null,null,null,null,null,null,null,null,null,null,null,null,null,null,null,null,null,null,null,null,null,null,null,null,null,{"$f":"'List Data'!B7","v":"003-2"},{"$f":"IFERROR(INDEX('Dummy Data'!$M$8:$M$37,SMALL(IF('Dummy Data'!$F$8:$F$37=$BY10,ROW('Dummy Data'!$F$8:$F$37)-7,\"\"),COLUMNS($BZ$4:BZ10))),\"\")","v":"GI"},{"$f":"IFERROR(INDEX('Dummy Data'!$M$8:$M$37,SMALL(IF('Dummy Data'!$F$8:$F$37=$BY10,ROW('Dummy Data'!$F$8:$F$37)-7,\"\"),COLUMNS($BZ$4:CA10))),\"\")","v":""},{"$f":"IFERROR(INDEX('Dummy Data'!$M$8:$M$37,SMALL(IF('Dummy Data'!$F$8:$F$37=$BY10,ROW('Dummy Data'!$F$8:$F$37)-7,\"\"),COLUMNS($BZ$4:CB10))),\"\")","v":""},{"$f":"IFERROR(INDEX('Dummy Data'!$M$8:$M$37,SMALL(IF('Dummy Data'!$F$8:$F$37=$BY10,ROW('Dummy Data'!$F$8:$F$37)-7,\"\"),COLUMNS($BZ$4:CC10))),\"\")","v":""},{"$f":"IFERROR(VLOOKUP(BZ10,'Dummy Data'!$B$73:$C$83,2,FALSE),\"\")","v":"&"},{"$f":"IFERROR(VLOOKUP(CA10,'Dummy Data'!$B$73:$C$83,2,FALSE),\"\")","v":""},{"$f":"IFERROR(VLOOKUP(CB10,'Dummy Data'!$B$73:$C$83,2,FALSE),\"\")","v":""},{"$f":"IFERROR(VLOOKUP(CC10,'Dummy Data'!$B$73:$C$83,2,FALSE),\"\")","v":""},"&"]
[4,"yes","yes","no","Res2","050-2","2019-02-08","2019-03-08","fever, sinus cong, cough","Yes","Staff2","No","UTI","Yes","N/A","No","No","Yes","Yes","No","Yes","N/A","No","influenza A","Anti_infective_agent","Aztreonam","75mg Bid","Discontinue","influenza A","Yes","Dr2","2019-03-03","2019-03-07",5,"No","droplet precautions",null,"Respiratory",{"$f":"COUNTIFS($M$8:$M$36,'List Data'!A5,$Q$8:$Q$36,\"Yes\")","v":1},{"$f":"COUNTIFS($M$8:$M$36,'List Data'!A5,$R$8:$R$36,\"Yes\")","v":1},2,{"$f":"COUNTIFS($M$8:$M$36,'List Data'!A5,$N$8:$N$36,\"Yes\")","v":1},{"$f":"COUNTIFS($M$8:$M$36,'List Data'!A5,$N$8:$N$36,\"No\")","v":0},1,{"$f":"COUNTIFS($L$8:$L$37,\"Yes\",$M$8:$M$37,'List Data'!A5,$R$8:$R$37,\"Yes\")","v":1},{"$f":"COUNTIFS($L$8:$L$37,\"No\",$M$8:$M$37,'List Data'!A5,$R$8:$R$37,\"Yes\")","v":0},1,{"$f":"IFERROR(AVERAGEIF($M$8:$M$37,'List Data'!A5,$AH$8:$AH$37),\"\")","v":5},"","",null,null,null,null,null,null,null,null,null,null,null,null,null,null,null,null,null,null,null,null,null,null,null,null,null,null,{"$f":"'List Data'!B8","v":"004-1"},{"$f":"IFERROR(INDEX('Dummy Data'!$M$8:$M$37,SMALL(IF('Dummy Data'!$F$8:$F$37=$BY11,ROW('Dummy Data'!$F$8:$F$37)-7,\"\"),COLUMNS($BZ$4:BZ11))),\"\")","v":"UTI"},{"$f":"IFERROR(INDEX('Dummy Data'!$M$8:$M$37,SMALL(IF('Dummy Data'!$F$8:$F$37=$BY11,ROW('Dummy Data'!$F$8:$F$37)-7,\"\"),COLUMNS($BZ$4:CA11))),\"\")","v":"UTI"},{"$f":"IFERROR(INDEX('Dummy Data'!$M$8:$M$37,SMALL(IF('Dummy Data'!$F$8:$F$37=$BY11,ROW('Dummy Data'!$F$8:$F$37)-7,\"\"),COLUMNS($BZ$4:CB11))),\"\")","v":""},{"$f":"IFERROR(INDEX('Dummy Data'!$M$8:$M$37,SMALL(IF('Dummy Data'!$F$8:$F$37=$BY11,ROW('Dummy Data'!$F$8:$F$37)-7,\"\"),COLUMNS($BZ$4:CC11))),\"\")","v":""},{"$f":"IFERROR(VLOOKUP(BZ11,'Dummy Data'!$B$73:$C$83,2,FALSE),\"\")","v":"!"},{"$f":"IFERROR(VLOOKUP(CA11,'Dummy Data'!$B$73:$C$83,2,FALSE),\"\")","v":"!"},{"$f":"IFERROR(VLOOKUP(CB11,'Dummy Data'!$B$73:$C$83,2,FALSE),\"\")","v":""},{"$f":"IFERROR(VLOOKUP(CC11,'Dummy Data'!$B$73:$C$83,2,FALSE),\"\")","v":""},"!,!"]
[5,"yes","no","yes","Res3","050-1","2019-02-13","2019-02-28","decreased output, low back pain","Yes","Staff1","Yes","UTI","Yes","N/A","No","No","Yes","No","No","Yes","No","N/A","enterococcus faecium","Penicillins","Amoxicillin","100mg Bid","Change","UTI","Yes","Dr4","2019-03-09","2019-03-19",11,"No",null,null,"Eye",{"$f":"COUNTIFS($M$8:$M$36,'List Data'!A6,$Q$8:$Q$36,\"Yes\")","v":0},{"$f":"COUNTIFS($M$8:$M$36,'List Data'!A6,$R$8:$R$36,\"Yes\")","v":0},0,{"$f":"COUNTIFS($M$8:$M$36,'List Data'!A6,$N$8:$N$36,\"Yes\")","v":0},{"$f":"COUNTIFS($M$8:$M$36,'List Data'!A6,$N$8:$N$36,\"No\")","v":0},"",{"$f":"COUNTIFS($L$8:$L$37,\"Yes\",$M$8:$M$37,'List Data'!A6,$R$8:$R$37,\"Yes\")","v":0},{"$f":"COUNTIFS($L$8:$L$37,\"No\",$M$8:$M$37,'List Data'!A6,$R$8:$R$37,\"Yes\")","v":0},"",{"$f":"IFERROR(AVERAGEIF($M$8:$M$37,'List Data'!A6,$AH$8:$AH$37),\"\")","v":""},"","",null,null,null,null,null,null,null,null,null,null,null,null,null,null,null,null,null,null,null,null,null,null,null,null,null,null,{"$f":"'List Data'!B9","v":"004-2"},{"$f":"IFERROR(INDEX('Dummy Data'!$M$8:$M$37,SMALL(IF('Dummy Data'!$F$8:$F$37=$BY12,ROW('Dummy Data'!$F$8:$F$37)-7,\"\"),COLUMNS($BZ$4:BZ12))),\"\")","v":""},{"$f":"IFERROR(INDEX('Dummy Data'!$M$8:$M$37,SMALL(IF('Dummy Data'!$F$8:$F$37=$BY12,ROW('Dummy Data'!$F$8:$F$37)-7,\"\"),COLUMNS($BZ$4:CA12))),\"\")","v":""},{"$f":"IFERROR(INDEX('Dummy Data'!$M$8:$M$37,SMALL(IF('Dummy Data'!$F$8:$F$37=$BY12,ROW('Dummy Data'!$F$8:$F$37)-7,\"\"),COLUMNS($BZ$4:CB12))),\"\")","v":""},{"$f":"IFERROR(INDEX('Dummy Data'!$M$8:$M$37,SMALL(IF('Dummy Data'!$F$8:$F$37=$BY12,ROW('Dummy Data'!$F$8:$F$37)-7,\"\"),COLUMNS($BZ$4:CC12))),\"\")","v":""},{"$f":"IFERROR(VLOOKUP(BZ12,'Dummy Data'!$B$73:$C$83,2,FALSE),\"\")","v":""},{"$f":"IFERROR(VLOOKUP(CA12,'Dummy Data'!$B$73:$C$83,2,FALSE),\"\")","v":""},{"$f":"IFERROR(VLOOKUP(CB12,'Dummy Data'!$B$73:$C$83,2,FALSE),\"\")","v":""},{"$f":"IFERROR(VLOOKUP(CC12,'Dummy Data'!$B$73:$C$83,2,FALSE),\"\")","v":""},""]
[6,"yes","yes","yes","Res4","004-1","2008-02-01","2019-02-09","redness, swelling, hot to touch, pain","Yes","Staff2","yes","UTI","Yes","N/A","No","No","Yes","No","No","No","N/A","N/A","No culture","Fluoroquinolones","Gatifloxacin","800-160mg Bid","Discontinue","cellulitis","Yes","Dr1","2019-03-09","2019-03-19",11,"No",null,null,"Ear",{"$f":"COUNTIFS($M$8:$M$36,'List Data'!A7,$Q$8:$Q$36,\"Yes\")","v":0},{"$f":"COUNTIFS($M$8:$M$36,'List Data'!A7,$R$8:$R$36,\"Yes\")","v":0},0,{"$f":"COUNTIFS($M$8:$M$36,'List Data'!A7,$N$8:$N$36,\"Yes\")","v":0},{"$f":"COUNTIFS($M$8:$M$36,'List Data'!A7,$N$8:$N$36,\"No\")","v":0},"",{"$f":"COUNTIFS($L$8:$L$37,\"Yes\",$M$8:$M$37,'List Data'!A7,$R$8:$R$37,\"Yes\")","v":0},{"$f":"COUNTIFS($L$8:$L$37,\"No\",$M$8:$M$37,'List Data'!A7,$R$8:$R$37,\"Yes\")","v":0},"",{"$f":"IFERROR(AVERAGEIF($M$8:$M$37,'List Data'!A7,$AH$8:$AH$37),\"\")","v":""},"","",null,null,null,null,null,null,null,null,null,null,null,null,null,null,null,null,null,null,null,null,null,null,null,null,null,null,{"$f":"'List Data'!B10","v":"005-1"},{"$f":"IFERROR(INDEX('Dummy Data'!$M$8:$M$37,SMALL(IF('Dummy Data'!$F$8:$F$37=$BY13,ROW('Dummy Data'!$F$8:$F$37)-7,\"\"),COLUMNS($BZ$4:BZ13))),\"\")","v":""},{"$f":"IFERROR(INDEX('Dummy Data'!$M$8:$M$37,SMALL(IF('Dummy Data'!$F$8:$F$37=$BY13,ROW('Dummy Data'!$F$8:$F$37)-7,\"\"),COLUMNS($BZ$4:CA13))),\"\")","v":""},{"$f":"IFERROR(INDEX('Dummy Data'!$M$8:$M$37,SMALL(IF('Dummy Data'!$F$8:$F$37=$BY13,ROW('Dummy Data'!$F$8:$F$37)-7,\"\"),COLUMNS($BZ$4:CB13))),\"\")","v":""},{"$f":"IFERROR(INDEX('Dummy Data'!$M$8:$M$37,SMALL(IF('Dummy Data'!$F$8:$F$37=$BY13,ROW('Dummy Data'!$F$8:$F$37)-7,\"\"),COLUMNS($BZ$4:CC13))),\"\")","v":""},{"$f":"IFERROR(VLOOKUP(BZ13,'Dummy Data'!$B$73:$C$83,2,FALSE),\"\")","v":""},{"$f":"IFERROR(VLOOKUP(CA13,'Dummy Data'!$B$73:$C$83,2,FALSE),\"\")","v":""},{"$f":"IFERROR(VLOOKUP(CB13,'Dummy Data'!$B$73:$C$83,2,FALSE),\"\")","v":""},{"$f":"IFERROR(VLOOKUP(CC13,'Dummy Data'!$B$73:$C$83,2,FALSE),\"\")","v":""},""]
[7,"yes","no","no","Res4","030-2",null,null,null,"Yes","Staff3","yes","Skin","No","N/A","no",null,"Yes",null,null,null,null,null,null,"Penicillins","Amoxicillin","1gm IV ","Continue","cellulitis","Yes","Dr2","2019-03-22","2019-03-24",3,"No",null,null,"GI",{"$f":"COUNTIFS($M$8:$M$36,'List Data'!A8,$Q$8:$Q$36,\"Yes\")","v":0},{"$f":"COUNTIFS($M$8:$M$36,'List Data'!A8,$R$8:$R$36,\"Yes\")","v":1},1,{"$f":"COUNTIFS($M$8:$M$36,'List Data'!A8,$N$8:$N$36,\"Yes\")","v":1},{"$f":"COUNTIFS($M$8:$M$36,'List Data'!A8,$N$8:$N$36,\"No\")","v":0},1,{"$f":"COUNTIFS($L$8:$L$37,\"Yes\",$M$8:$M$37,'List Data'!A8,$R$8:$R$37,\"Yes\")","v":1},{"$f":"COUNTIFS($L$8:$L$37,\"No\",$M$8:$M$37,'List Data'!A8,$R$8:$R$37,\"Yes\")","v":0},1,{"$f":"IFERROR(AVERAGEIF($M$8:$M$37,'List Data'!A8,$AH$8:$AH$37),\"\")","v":8},"","",null,null,null,null,null,null,null,null,null,null,null,null,null,null,null,null,null,null,null,null,null,null,null,null,null,null,{"$f":"'List Data'!B11","v":"005-2"},{"$f":"IFERROR(INDEX('Dummy Data'!$M$8:$M$37,SMALL(IF('Dummy Data'!$F$8:$F$37=$BY14,ROW('Dummy Data'!$F$8:$F$37)-7,\"\"),COLUMNS($BZ$4:BZ14))),\"\")","v":""},{"$f":"IFERROR(INDEX('Dummy Data'!$M$8:$M$37,SMALL(IF('Dummy Data'!$F$8:$F$37=$BY14,ROW('Dummy Data'!$F$8:$F$37)-7,\"\"),COLUMNS($BZ$4:CA14))),\"\")","v":""},{"$f":"IFERROR(INDEX('Dummy Data'!$M$8:$M$37,SMALL(IF('Dummy Data'!$F$8:$F$37=$BY14,ROW('Dummy Data'!$F$8:$F$37)-7,\"\"),COLUMNS($BZ$4:CB14))),\"\")","v":""},{"$f":"IFERROR(INDEX('Dummy Data'!$M$8:$M$37,SMALL(IF('Dummy Data'!$F$8:$F$37=$BY14,ROW('Dummy Data'!$F$8:$F$37)-7,\"\"),COLUMNS($BZ$4:CC14))),\"\")","v":""},{"$f":"IFERROR(VLOOKUP(BZ14,'Dummy Data'!$B$73:$C$83,2,FALSE),\"\")","v":""},{"$f":"IFERROR(VLOOKUP(CA14,'Dummy Data'!$B$73:$C$83,2,FALSE),\"\")","v":""},{"$f":"IFERROR(VLOOKUP(CB14,'Dummy Data'!$B$73:$C$83,2,FALSE),\"\")","v":""},{"$f":"IFERROR(VLOOKUP(CC14,'Dummy Data'!$B$73:$C$83,2,FALSE),\"\")","v":""},""]
[8,"yes","yes","yes","Res4","049-2","2019-03-23","2019-03-16","SOA, pulm congest, non-prod cough","Yes","Staff3","yes","Resp","Yes","N/A","No","Yes","Yes","No","Yes","No","N/A","No","No culture","Cephalosporins","Cefuroxime","500mg QOD","Continue","bronchitis","No","Dr5","2019-03-24","2019-03-28",5,"No",null,null,"Blood",{"$f":"COUNTIFS($M$8:$M$36,'List Data'!A9,$Q$8:$Q$36,\"Yes\")","v":0},{"$f":"COUNTIFS($M$8:$M$36,'List Data'!A9,$R$8:$R$36,\"Yes\")","v":0},0,{"$f":"COUNTIFS($M$8:$M$36,'List Data'!A9,$N$8:$N$36,\"Yes\")","v":0},{"$f":"COUNTIFS($M$8:$M$36,'List Data'!A9,$N$8:$N$36,\"No\")","v":0},"",{"$f":"COUNTIFS($L$8:$L$37,\"Yes\",$M$8:$M$37,'List Data'!A9,$R$8:$R$37,\"Yes\")","v":0},{"$f":"COUNTIFS($L$8:$L$37,\"No\",$M$8:$M$37,'List Data'!A9,$R$8:$R$37,\"Yes\")","v":0},"",{"$f":"IFERROR(AVERAGEIF($M$8:$M$37,'List Data'!A9,$AH$8:$AH$37),\"\")","v":""},"","",null,null,null,null,null,null,null,null,null,null,null,null,null,null,null,null,null,null,null,null,null,null,null,null,null,null,{"$f":"'List Data'!B12","v":"006-1"},{"$f":"IFERROR(INDEX('Dummy Data'!$M$8:$M$37,SMALL(IF('Dummy Data'!$F$8:$F$37=$BY15,ROW('Dummy Data'!$F$8:$F$37)-7,\"\"),COLUMNS($BZ$4:BZ15))),\"\")","v":""},{"$f":"IFERROR(INDEX('Dummy Data'!$M$8:$M$37,SMALL(IF('Dummy Data'!$F$8:$F$37=$BY15,ROW('Dummy Data'!$F$8:$F$37)-7,\"\"),COLUMNS($BZ$4:CA15))),\"\")","v":""},{"$f":"IFERROR(INDEX('Dummy Data'!$M$8:$M$37,SMALL(IF('Dummy Data'!$F$8:$F$37=$BY15,ROW('Dummy Data'!$F$8:$F$37)-7,\"\"),COLUMNS($BZ$4:CB15))),\"\")","v":""},{"$f":"IFERROR(INDEX('Dummy Data'!$M$8:$M$37,SMALL(IF('Dummy Data'!$F$8:$F$37=$BY15,ROW('Dummy Data'!$F$8:$F$37)-7,\"\"),COLUMNS($BZ$4:CC15))),\"\")","v":""},{"$f":"IFERROR(VLOOKUP(BZ15,'Dummy Data'!$B$73:$C$83,2,FALSE),\"\")","v":""},{"$f":"IFERROR(VLOOKUP(CA15,'Dummy Data'!$B$73:$C$83,2,FALSE),\"\")","v":""},{"$f":"IFERROR(VLOOKUP(CB15,'Dummy Data'!$B$73:$C$83,2,FALSE),\"\")","v":""},{"$f":"IFERROR(VLOOKUP(CC15,'Dummy Data'!$B$73:$C$83,2,FALSE),\"\")","v":""},""]
[9,"yes","yes","no","Res6","043-1","2019-03-12","2019-03-02","Rt leg pain, redness, swelling, low grade temp","No","Staff4","yes","UTI","Yes","N/A","Yes","Yes","Yes","Yes","Yes","Yes","N/A","N/A","MRSA","Fluoroquinolones","Gatifloxacin","1.25-09gm/250ml-%","Continue","Infected hardware in Rt leg","No","Dr3","2019-03-12","2019-04-13",33,"No",null,null,"Genital",{"$f":"COUNTIFS($M$8:$M$36,'List Data'!A10,$Q$8:$Q$36,\"Yes\")","v":0},{"$f":"COUNTIFS($M$8:$M$36,'List Data'!A10,$R$8:$R$36,\"Yes\")","v":0},0,{"$f":"COUNTIFS($M$8:$M$36,'List Data'!A10,$N$8:$N$36,\"Yes\")","v":0},{"$f":"COUNTIFS($M$8:$M$36,'List Data'!A10,$N$8:$N$36,\"No\")","v":0},"",{"$f":"COUNTIFS($L$8:$L$37,\"Yes\",$M$8:$M$37,'List Data'!A10,$R$8:$R$37,\"Yes\")","v":0},{"$f":"COUNTIFS($L$8:$L$37,\"No\",$M$8:$M$37,'List Data'!A10,$R$8:$R$37,\"Yes\")","v":0},"",{"$f":"IFERROR(AVERAGEIF($M$8:$M$37,'List Data'!A10,$AH$8:$AH$37),\"\")","v":""},"","",null,null,null,null,null,null,null,null,null,null,null,null,null,null,null,null,null,null,null,null,null,null,null,null,null,null,{"$f":"'List Data'!B13","v":"006-2"},{"$f":"IFERROR(INDEX('Dummy Data'!$M$8:$M$37,SMALL(IF('Dummy Data'!$F$8:$F$37=$BY16,ROW('Dummy Data'!$F$8:$F$37)-7,\"\"),COLUMNS($BZ$4:BZ16))),\"\")","v":""},{"$f":"IFERROR(INDEX('Dummy Data'!$M$8:$M$37,SMALL(IF('Dummy Data'!$F$8:$F$37=$BY16,ROW('Dummy Data'!$F$8:$F$37)-7,\"\"),COLUMNS($BZ$4:CA16))),\"\")","v":""},{"$f":"IFERROR(INDEX('Dummy Data'!$M$8:$M$37,SMALL(IF('Dummy Data'!$F$8:$F$37=$BY16,ROW('Dummy Data'!$F$8:$F$37)-7,\"\"),COLUMNS($BZ$4:CB16))),\"\")","v":""},{"$f":"IFERROR(INDEX('Dummy Data'!$M$8:$M$37,SMALL(IF('Dummy Data'!$F$8:$F$37=$BY16,ROW('Dummy Data'!$F$8:$F$37)-7,\"\"),COLUMNS($BZ$4:CC16))),\"\")","v":""},{"$f":"IFERROR(VLOOKUP(BZ16,'Dummy Data'!$B$73:$C$83,2,FALSE),\"\")","v":""},{"$f":"IFERROR(VLOOKUP(CA16,'Dummy Data'!$B$73:$C$83,2,FALSE),\"\")","v":""},{"$f":"IFERROR(VLOOKUP(CB16,'Dummy Data'!$B$73:$C$83,2,FALSE),\"\")","v":""},{"$f":"IFERROR(VLOOKUP(CC16,'Dummy Data'!$B$73:$C$83,2,FALSE),\"\")","v":""},""]
[10,"yes","no","no","Res7","016-2","2018-11-28","2019-03-19","nausea/vomiting","No","Staff5","yes","UTI","No","N/A","No","No","Yes","No","No","Yes","No","N/A","e-coli","Macrolides","Clarithromycin","250mg Bid","Continue","UTI","Yes","Dr1","2019-03-22","2019-03-27",6,"No",null,null,"Other",{"$f":"COUNTIFS($M$8:$M$36,'List Data'!A11,$Q$8:$Q$36,\"Yes\")","v":0},{"$f":"COUNTIFS($M$8:$M$36,'List Data'!A11,$R$8:$R$36,\"Yes\")","v":0},0,{"$f":"COUNTIFS($M$8:$M$36,'List Data'!A11,$N$8:$N$36,\"Yes\")","v":0},{"$f":"COUNTIFS($M$8:$M$36,'List Data'!A11,$N$8:$N$36,\"No\")","v":0},"",{"$f":"COUNTIFS($L$8:$L$37,\"Yes\",$M$8:$M$37,'List Data'!A11,$R$8:$R$37,\"Yes\")","v":0},{"$f":"COUNTIFS($L$8:$L$37,\"No\",$M$8:$M$37,'List Data'!A11,$R$8:$R$37,\"Yes\")","v":0},"",{"$f":"IFERROR(AVERAGEIF($M$8:$M$37,'List Data'!A11,$AH$8:$AH$37),\"\")","v":""},"","",null,null,null,null,null,null,null,null,null,null,null,null,null,null,null,null,null,null,null,null,null,null,null,null,null,null,{"$f":"'List Data'!B14","v":"007-1"},{"$f":"IFERROR(INDEX('Dummy Data'!$M$8:$M$37,SMALL(IF('Dummy Data'!$F$8:$F$37=$BY17,ROW('Dummy Data'!$F$8:$F$37)-7,\"\"),COLUMNS($BZ$4:BZ17))),\"\")","v":""},{"$f":"IFERROR(INDEX('Dummy Data'!$M$8:$M$37,SMALL(IF('Dummy Data'!$F$8:$F$37=$BY17,ROW('Dummy Data'!$F$8:$F$37)-7,\"\"),COLUMNS($BZ$4:CA17))),\"\")","v":""},{"$f":"IFERROR(INDEX('Dummy Data'!$M$8:$M$37,SMALL(IF('Dummy Data'!$F$8:$F$37=$BY17,ROW('Dummy Data'!$F$8:$F$37)-7,\"\"),COLUMNS($BZ$4:CB17))),\"\")","v":""},{"$f":"IFERROR(INDEX('Dummy Data'!$M$8:$M$37,SMALL(IF('Dummy Data'!$F$8:$F$37=$BY17,ROW('Dummy Data'!$F$8:$F$37)-7,\"\"),COLUMNS($BZ$4:CC17))),\"\")","v":""},{"$f":"IFERROR(VLOOKUP(BZ17,'Dummy Data'!$B$73:$C$83,2,FALSE),\"\")","v":""},{"$f":"IFERROR(VLOOKUP(CA17,'Dummy Data'!$B$73:$C$83,2,FALSE),\"\")","v":""},{"$f":"IFERROR(VLOOKUP(CB17,'Dummy Data'!$B$73:$C$83,2,FALSE),\"\")","v":""},{"$f":"IFERROR(VLOOKUP(CC17,'Dummy Data'!$B$73:$C$83,2,FALSE),\"\")","v":""},""]
[11,"yes","yes","yes","Res6","003-2","2015-04-23","2019-03-20","foul smelling urine, dysurea, frequendy, urgency","No","Staff6","Yes","GI","Yes","N/A","No","No","Yes","No","No","Yes","No","N/A","proteus mirabilis","Anti_infective_agent","Aztreonam","300mg Bid","Continue","UTI","Yes","Dr5","2019-03-29","2019-04-05",8,"No",null,null,"Infection","Admitted With","Nosocomial","Total",null,null,null,null,null,null,null,"Infection Rate (%)","Rate per 1,000 Resident Days (%)",null,null,null,null,null,null,null,null,null,null,null,null,null,null,null,null,null,null,null,null,null,null,null,null,null,null,{"$f":"'List Data'!B15","v":"007-2"},{"$f":"IFERROR(INDEX('Dummy Data'!$M$8:$M$37,SMALL(IF('Dummy Data'!$F$8:$F$37=$BY18,ROW('Dummy Data'!$F$8:$F$37)-7,\"\"),COLUMNS($BZ$4:BZ18))),\"\")","v":""},{"$f":"IFERROR(INDEX('Dummy Data'!$M$8:$M$37,SMALL(IF('Dummy Data'!$F$8:$F$37=$BY18,ROW('Dummy Data'!$F$8:$F$37)-7,\"\"),COLUMNS($BZ$4:CA18))),\"\")","v":""},{"$f":"IFERROR(INDEX('Dummy Data'!$M$8:$M$37,SMALL(IF('Dummy Data'!$F$8:$F$37=$BY18,ROW('Dummy Data'!$F$8:$F$37)-7,\"\"),COLUMNS($BZ$4:CB18))),\"\")","v":""},{"$f":"IFERROR(INDEX('Dummy Data'!$M$8:$M$37,SMALL(IF('Dummy Data'!$F$8:$F$37=$BY18,ROW('Dummy Data'!$F$8:$F$37)-7,\"\"),COLUMNS($BZ$4:CC18))),\"\")","v":""},{"$f":"IFERROR(VLOOKUP(BZ18,'Dummy Data'!$B$73:$C$83,2,FALSE),\"\")","v":""},{"$f":"IFERROR(VLOOKUP(CA18,'Dummy Data'!$B$73:$C$83,2,FALSE),\"\")","v":""},{"$f":"IFERROR(VLOOKUP(CB18,'Dummy Data'!$B$73:$C$83,2,FALSE),\"\")","v":""},{"$f":"IFERROR(VLOOKUP(CC18,'Dummy Data'!$B$73:$C$83,2,FALSE),\"\")","v":""},""]
[12,null,null,null,null,null,null,null,null,null,null,null,null,null,null,null,null,null,null,null,null,null,null,null,null,null,null,null,null,null,null,null,null,"",null,null,null,"CDI",{"$f":"COUNTIFS($O$8:$O$36,\"Yes\",$Q$8:$Q$36,\"Yes\")","v":0},{"$f":"COUNTIFS($O$8:$O$36,\"yes\",$R$8:$R$36,\"yes\")","v":0},{"$f":"SUM(AM19:AN19)","v":0},null,null,null,null,null,null,null,{"$f":"IFERROR((AO19/$Q$5)*100,\"\")","v":""},{"$f":"IFERROR((AO19/W5)*1000,\"\")","v":""},null,null,null,null,null,null,null,null,null,null,null,null,null,null,null,null,null,null,null,null,null,null,null,null,null,null,{"$f":"'List Data'!B16","v":"008-1"},{"$f":"IFERROR(INDEX('Dummy Data'!$M$8:$M$37,SMALL(IF('Dummy Data'!$F$8:$F$37=$BY19,ROW('Dummy Data'!$F$8:$F$37)-7,\"\"),COLUMNS($BZ$4:BZ19))),\"\")","v":""},{"$f":"IFERROR(INDEX('Dummy Data'!$M$8:$M$37,SMALL(IF('Dummy Data'!$F$8:$F$37=$BY19,ROW('Dummy Data'!$F$8:$F$37)-7,\"\"),COLUMNS($BZ$4:CA19))),\"\")","v":""},{"$f":"IFERROR(INDEX('Dummy Data'!$M$8:$M$37,SMALL(IF('Dummy Data'!$F$8:$F$37=$BY19,ROW('Dummy Data'!$F$8:$F$37)-7,\"\"),COLUMNS($BZ$4:CB19))),\"\")","v":""},{"$f":"IFERROR(INDEX('Dummy Data'!$M$8:$M$37,SMALL(IF('Dummy Data'!$F$8:$F$37=$BY19,ROW('Dummy Data'!$F$8:$F$37)-7,\"\"),COLUMNS($BZ$4:CC19))),\"\")","v":""},{"$f":"IFERROR(VLOOKUP(BZ19,'Dummy Data'!$B$73:$C$83,2,FALSE),\"\")","v":""},{"$f":"IFERROR(VLOOKUP(CA19,'Dummy Data'!$B$73:$C$83,2,FALSE),\"\")","v":""},{"$f":"IFERROR(VLOOKUP(CB19,'Dummy Data'!$B$73:$C$83,2,FALSE),\"\")","v":""},{"$f":"IFERROR(VLOOKUP(CC19,'Dummy Data'!$B$73:$C$83,2,FALSE),\"\")","v":""},""]
[13,null,null,null,null,null,null,null,null,null,null,null,null,null,null,null,null,null,null,null,null,null,null,null,null,null,null,null,null,null,null,null,null,"",null,null,null,"MRSA",{"$f":"COUNTIFS($P$8:$P$36,\"Yes\",$Q$8:$Q$36,\"Yes\")","v":1},{"$f":"COUNTIFS($P$8:$P$36,\"yes\",$R$8:$R$36,\"yes\")","v":1},{"$f":"SUM(AM20:AN20)","v":2},null,null,null,null,null,null,null,{"$f":"IFERROR((AO20/$Q$5)*100,\"\")","v":""},{"$f":"IFERROR((AO20/W5)*1000,\"\")","v":""},null,null,null,null,null,null,null,null,null,null,null,null,null,null,null,null,null,null,null,null,null,null,null,null,null,null,{"$f":"'List Data'!B17","v":"008-2"},{"$f":"IFERROR(INDEX('Dummy Data'!$M$8:$M$37,SMALL(IF('Dummy Data'!$F$8:$F$37=$BY20,ROW('Dummy Data'!$F$8:$F$37)-7,\"\"),COLUMNS($BZ$4:BZ20))),\"\")","v":"Multi-Rx"},{"$f":"IFERROR(INDEX('Dummy Data'!$M$8:$M$37,SMALL(IF('Dummy Data'!$F$8:$F$37=$BY20,ROW('Dummy Data'!$F$8:$F$37)-7,\"\"),COLUMNS($BZ$4:CA20))),\"\")","v":""},{"$f":"IFERROR(INDEX('Dummy Data'!$M$8:$M$37,SMALL(IF('Dummy Data'!$F$8:$F$37=$BY20,ROW('Dummy Data'!$F$8:$F$37)-7,\"\"),COLUMNS($BZ$4:CB20))),\"\")","v":""},{"$f":"IFERROR(INDEX('Dummy Data'!$M$8:$M$37,SMALL(IF('Dummy Data'!$F$8:$F$37=$BY20,ROW('Dummy Data'!$F$8:$F$37)-7,\"\"),COLUMNS($BZ$4:CC20))),\"\")","v":""},{"$f":"IFERROR(VLOOKUP(BZ20,'Dummy Data'!$B$73:$C$83,2,FALSE),\"\")","v":","},{"$f":"IFERROR(VLOOKUP(CA20,'Dummy Data'!$B$73:$C$83,2,FALSE),\"\")","v":""},{"$f":"IFERROR(VLOOKUP(CB20,'Dummy Data'!$B$73:$C$83,2,FALSE),\"\")","v":""},{"$f":"IFERROR(VLOOKUP(CC20,'Dummy Data'!$B$73:$C$83,2,FALSE),\"\")","v":""},","]
[14,null,null,null,null,null,null,null,null,null,null,null,null,null,null,null,null,null,null,null,null,null,null,null,null,null,null,null,null,null,null,null,null,"",null,null,null,"Prescriber","McGeer's Met","McGeer's Not Met","Prescriber  % Rate of McGeer's","Continued ","Discontinued","Changed","Narrowed","Shortened","Total Number of De-escalations","Prescriber Average Length of Therapy (days)","Prescriber Average Length of Therapy, McGeer's Met (days)","Prescriber Average Length of Therapy, McGeer's Not Met (days)",null,null,null,null,null,null,null,null,null,null,null,null,null,null,null,null,null,null,null,null,null,null,null,null,null,null,{"$f":"'List Data'!B18","v":"009-1"},{"$f":"IFERROR(INDEX('Dummy Data'!$M$8:$M$37,SMALL(IF('Dummy Data'!$F$8:$F$37=$BY21,ROW('Dummy Data'!$F$8:$F$37)-7,\"\"),COLUMNS($BZ$4:BZ21))),\"\")","v":""},{"$f":"IFERROR(INDEX('Dummy Data'!$M$8:$M$37,SMALL(IF('Dummy Data'!$F$8:$F$37=$BY21,ROW('Dummy Data'!$F$8:$F$37)-7,\"\"),COLUMNS($BZ$4:CA21))),\"\")","v":""},{"$f":"IFERROR(INDEX('Dummy Data'!$M$8:$M$37,SMALL(IF('Dummy Data'!$F$8:$F$37=$BY21,ROW('Dummy Data'!$F$8:$F$37)-7,\"\"),COLUMNS($BZ$4:CB21))),\"\")","v":""},{"$f":"IFERROR(INDEX('Dummy Data'!$M$8:$M$37,SMALL(IF('Dummy Data'!$F$8:$F$37=$BY21,ROW('Dummy Data'!$F$8:$F$37)-7,\"\"),COLUMNS($BZ$4:CC21))),\"\")","v":""},{"$f":"IFERROR(VLOOKUP(BZ21,'Dummy Data'!$B$73:$C$83,2,FALSE),\"\")","v":""},{"$f":"IFERROR(VLOOKUP(CA21,'Dummy Data'!$B$73:$C$83,2,FALSE),\"\")","v":""},{"$f":"IFERROR(VLOOKUP(CB21,'Dummy Data'!$B$73:$C$83,2,FALSE),\"\")","v":""},{"$f":"IFERROR(VLOOKUP(CC21,'Dummy Data'!$B$73:$C$83,2,FALSE),\"\")","v":""},""]
[15,null,null,null,null,null,null,null,null,null,null,null,null,null,null,null,null,null,null,null,null,null,null,null,null,null,null,null,null,null,null,null,null,"",null,null,null,{"$f":"'List Data'!L2","v":"Dr1"},{"$f":"COUNTIFS($AE$8:$AE$37,'List Data'!L2,$N$8:$N$37,\"Yes\")","v":1},{"$f":"COUNTIFS($AE$8:$AE$37,'List Data'!L2,$N$8:$N$37,\"No\")","v":1},{"$f":"IFERROR(AM22/(AN22+AM22),\"\")","v":0.5},{"$f":"COUNTIFS($AE$7:$AE$37,'List Data'!L2,$AB$7:$AB$37,\"Continue\")","v":1},{"$f":"COUNTIFS($AE$7:$AE$37,'List Data'!L2,$AB$7:$AB$37,\"discontinue\")","v":1},{"$f":"COUNTIFS($AE$7:$AE$37,'List Data'!L2,$AB$7:$AB$37,\"change\")","v":0},{"$f":"COUNTIFS($AE$7:$AE$37,'List Data'!L2,$AB$7:$AB$37,\"narrow\")","v":0},{"$f":"COUNTIFS($AE$7:$AE$37,'List Data'!L2,$AB$7:$AB$37,\"shorten\")","v":0},{"$f":"SUM(AQ22:AT22)","v":1},{"$f":"IFERROR(AVERAGEIF($AE$7:$AE$37,'List Data'!L2,$AH$7:$AH$37),\"\")","v":8.5},{"$f":"IFERROR(AVERAGEIFS($AH$7:$AH$37,$AE$7:$AE$37,'List Data'!L2,$N$7:$N$37,\"Yes\"),\"\")","v":11},{"$f":"IFERROR(AVERAGEIFS($AH$7:$AH$37,$AE$7:$AE$37,'List Data'!L2,$N$7:$N$37,\"No\"),\"\")","v":6},null,null,null,null,null,null,null,null,null,null,null,null,null,null,null,null,null,null,null,null,null,null,null,null,null,null,{"$f":"'List Data'!B19","v":"009-2"},{"$f":"IFERROR(INDEX('Dummy Data'!$M$8:$M$37,SMALL(IF('Dummy Data'!$F$8:$F$37=$BY22,ROW('Dummy Data'!$F$8:$F$37)-7,\"\"),COLUMNS($BZ$4:BZ22))),\"\")","v":""},{"$f":"IFERROR(INDEX('Dummy Data'!$M$8:$M$37,SMALL(IF('Dummy Data'!$F$8:$F$37=$BY22,ROW('Dummy Data'!$F$8:$F$37)-7,\"\"),COLUMNS($BZ$4:CA22))),\"\")","v":""},{"$f":"IFERROR(INDEX('Dummy Data'!$M$8:$M$37,SMALL(IF('Dummy Data'!$F$8:$F$37=$BY22,ROW('Dummy Data'!$F$8:$F$37)-7,\"\"),COLUMNS($BZ$4:CB22))),\"\")","v":""},{"$f":"IFERROR(INDEX('Dummy Data'!$M$8:$M$37,SMALL(IF('Dummy Data'!$F$8:$F$37=$BY22,ROW('Dummy Data'!$F$8:$F$37)-7,\"\"),COLUMNS($BZ$4:CC22))),\"\")","v":""},{"$f":"IFERROR(VLOOKUP(BZ22,'Dummy Data'!$B$73:$C$83,2,FALSE),\"\")","v":""},{"$f":"IFERROR(VLOOKUP(CA22,'Dummy Data'!$B$73:$C$83,2,FALSE),\"\")","v":""},{"$f":"IFERROR(VLOOKUP(CB22,'Dummy Data'!$B$73:$C$83,2,FALSE),\"\")","v":""},{"$f":"IFERROR(VLOOKUP(CC22,'Dummy Data'!$B$73:$C$83,2,FALSE),\"\")","v":""},""]
[16,null,null,null,null,null,null,null,null,null,null,null,null,null,null,null,null,null,null,null,null,null,null,null,null,null,null,null,null,null,null,null,null,"",null,null,null,{"$f":"'List Data'!L3","v":"Dr2"},{"$f":"COUNTIFS($AE$8:$AE$37,'List Data'!L3,$N$8:$N$37,\"Yes\")","v":1},{"$f":"COUNTIFS($AE$8:$AE$37,'List Data'!L3,$N$8:$N$37,\"No\")","v":1},{"$f":"IFERROR(AM23/(AN23+AM23),\"\")","v":0.5},{"$f":"COUNTIFS($AE$7:$AE$37,'List Data'!L3,$AB$7:$AB$37,\"Continue\")","v":1},{"$f":"COUNTIFS($AE$7:$AE$37,'List Data'!L3,$AB$7:$AB$37,\"discontinue\")","v":1},{"$f":"COUNTIFS($AE$7:$AE$37,'List Data'!L3,$AB$7:$AB$37,\"change\")","v":0},{"$f":"COUNTIFS($AE$7:$AE$37,'List Data'!L3,$AB$7:$AB$37,\"narrow\")","v":0},{"$f":"COUNTIFS($AE$7:$AE$37,'List Data'!L3,$AB$7:$AB$37,\"shorten\")","v":0},{"$f":"SUM(AQ23:AT23)","v":1},{"$f":"IFERROR(AVERAGEIF($AE$7:$AE$37,'List Data'!L3,$AH$7:$AH$37),\"\")","v":4},{"$f":"IFERROR(AVERAGEIFS($AH$7:$AH$37,$AE$7:$AE$37,'List Data'!L3,$N$7:$N$37,\"Yes\"),\"\")","v":5},{"$f":"IFERROR(AVERAGEIFS($AH$7:$AH$37,$AE$7:$AE$37,'List Data'!L3,$N$7:$N$37,\"No\"),\"\")","v":3},null,null,null,null,null,null,null,null,null,null,null,null,null,null,null,null,null,null,null,null,null,null,null,null,null,null,{"$f":"'List Data'!B20","v":"010-1"},{"$f":"IFERROR(INDEX('Dummy Data'!$M$8:$M$37,SMALL(IF('Dummy Data'!$F$8:$F$37=$BY23,ROW('Dummy Data'!$F$8:$F$37)-7,\"\"),COLUMNS($BZ$4:BZ23))),\"\")","v":""},{"$f":"IFERROR(INDEX('Dummy Data'!$M$8:$M$37,SMALL(IF('Dummy Data'!$F$8:$F$37=$BY23,ROW('Dummy Data'!$F$8:$F$37)-7,\"\"),COLUMNS($BZ$4:CA23))),\"\")","v":""},{"$f":"IFERROR(INDEX('Dummy Data'!$M$8:$M$37,SMALL(IF('Dummy Data'!$F$8:$F$37=$BY23,ROW('Dummy Data'!$F$8:$F$37)-7,\"\"),COLUMNS($BZ$4:CB23))),\"\")","v":""},{"$f":"IFERROR(INDEX('Dummy Data'!$M$8:$M$37,SMALL(IF('Dummy Data'!$F$8:$F$37=$BY23,ROW('Dummy Data'!$F$8:$F$37)-7,\"\"),COLUMNS($BZ$4:CC23))),\"\")","v":""},{"$f":"IFERROR(VLOOKUP(BZ23,'Dummy Data'!$B$73:$C$83,2,FALSE),\"\")","v":""},{"$f":"IFERROR(VLOOKUP(CA23,'Dummy Data'!$B$73:$C$83,2,FALSE),\"\")","v":""},{"$f":"IFERROR(VLOOKUP(CB23,'Dummy Data'!$B$73:$C$83,2,FALSE),\"\")","v":""},{"$f":"IFERROR(VLOOKUP(CC23,'Dummy Data'!$B$73:$C$83,2,FALSE),\"\")","v":""},""]
[17,null,null,null,null,null,null,null,null,null,null,null,null,null,null,null,null,null,null,null,null,null,null,null,null,null,null,null,null,null,null,null,null,"",null,null,null,{"$f":"'List Data'!L4","v":"Dr3"},{"$f":"COUNTIFS($AE$8:$AE$37,'List Data'!L4,$N$8:$N$37,\"Yes\")","v":1},{"$f":"COUNTIFS($AE$8:$AE$37,'List Data'!L4,$N$8:$N$37,\"No\")","v":0},1,{"$f":"COUNTIFS($AE$7:$AE$37,'List Data'!L4,$AB$7:$AB$37,\"Continue\")","v":1},{"$f":"COUNTIFS($AE$7:$AE$37,'List Data'!L4,$AB$7:$AB$37,\"discontinue\")","v":0},{"$f":"COUNTIFS($AE$7:$AE$37,'List Data'!L4,$AB$7:$AB$37,\"change\")","v":0},{"$f":"COUNTIFS($AE$7:$AE$37,'List Data'!L4,$AB$7:$AB$37,\"narrow\")","v":0},{"$f":"COUNTIFS($AE$7:$AE$37,'List Data'!L4,$AB$7:$AB$37,\"shorten\")","v":0},0,{"$f":"IFERROR(AVERAGEIF($AE$7:$AE$37,'List Data'!L4,$AH$7:$AH$37),\"\")","v":33},{"$f":"IFERROR(AVERAGEIFS($AH$7:$AH$37,$AE$7:$AE$37,'List Data'!L4,$N$7:$N$37,\"Yes\"),\"\")","v":33},{"$f":"IFERROR(AVERAGEIFS($AH$7:$AH$37,$AE$7:$AE$37,'List Data'!L4,$N$7:$N$37,\"No\"),\"\")","v":""},null,null,null,null,null,null,null,null,null,null,null,null,null,null,null,null,null,null,null,null,null,null,null,null,null,null,{"$f":"'List Data'!B21","v":"010-2"},{"$f":"IFERROR(INDEX('Dummy Data'!$M$8:$M$37,SMALL(IF('Dummy Data'!$F$8:$F$37=$BY24,ROW('Dummy Data'!$F$8:$F$37)-7,\"\"),COLUMNS($BZ$4:BZ24))),\"\")","v":""},{"$f":"IFERROR(INDEX('Dummy Data'!$M$8:$M$37,SMALL(IF('Dummy Data'!$F$8:$F$37=$BY24,ROW('Dummy Data'!$F$8:$F$37)-7,\"\"),COLUMNS($BZ$4:CA24))),\"\")","v":""},{"$f":"IFERROR(INDEX('Dummy Data'!$M$8:$M$37,SMALL(IF('Dummy Data'!$F$8:$F$37=$BY24,ROW('Dummy Data'!$F$8:$F$37)-7,\"\"),COLUMNS($BZ$4:CB24))),\"\")","v":""},{"$f":"IFERROR(INDEX('Dummy Data'!$M$8:$M$37,SMALL(IF('Dummy Data'!$F$8:$F$37=$BY24,ROW('Dummy Data'!$F$8:$F$37)-7,\"\"),COLUMNS($BZ$4:CC24))),\"\")","v":""},{"$f":"IFERROR(VLOOKUP(BZ24,'Dummy Data'!$B$73:$C$83,2,FALSE),\"\")","v":""},{"$f":"IFERROR(VLOOKUP(CA24,'Dummy Data'!$B$73:$C$83,2,FALSE),\"\")","v":""},{"$f":"IFERROR(VLOOKUP(CB24,'Dummy Data'!$B$73:$C$83,2,FALSE),\"\")","v":""},{"$f":"IFERROR(VLOOKUP(CC24,'Dummy Data'!$B$73:$C$83,2,FALSE),\"\")","v":""},""]
[18,null,null,null,null,null,null,null,null,null,null,null,null,null,null,null,null,null,null,null,null,null,null,null,null,null,null,null,null,null,null,null,null,"",null,null,null,{"$f":"'List Data'!L5","v":"Dr4"},{"$f":"COUNTIFS($AE$8:$AE$37,'List Data'!L5,$N$8:$N$37,\"Yes\")","v":2},{"$f":"COUNTIFS($AE$8:$AE$37,'List Data'!L5,$N$8:$N$37,\"No\")","v":0},1,{"$f":"COUNTIFS($AE$7:$AE$37,'List Data'!L5,$AB$7:$AB$37,\"Continue\")","v":0},{"$f":"COUNTIFS($AE$7:$AE$37,'List Data'!L5,$AB$7:$AB$37,\"discontinue\")","v":1},{"$f":"COUNTIFS($AE$7:$AE$37,'List Data'!L5,$AB$7:$AB$37,\"change\")","v":1},{"$f":"COUNTIFS($AE$7:$AE$37,'List Data'!L5,$AB$7:$AB$37,\"narrow\")","v":0},{"$f":"COUNTIFS($AE$7:$AE$37,'List Data'!L5,$AB$7:$AB$37,\"shorten\")","v":0},2,{"$f":"IFERROR(AVERAGEIF($AE$7:$AE$37,'List Data'!L5,$AH$7:$AH$37),\"\")","v":9.5},{"$f":"IFERROR(AVERAGEIFS($AH$7:$AH$37,$AE$7:$AE$37,'List Data'!L5,$N$7:$N$37,\"Yes\"),\"\")","v":9.5},{"$f":"IFERROR(AVERAGEIFS($AH$7:$AH$37,$AE$7:$AE$37,'List Data'!L5,$N$7:$N$37,\"No\"),\"\")","v":""},null,null,null,null,null,null,null,null,null,null,null,null,null,null,null,null,null,null,null,null,null,null,null,null,null,null,{"$f":"'List Data'!B22","v":"011-1"},{"$f":"IFERROR(INDEX('Dummy Data'!$M$8:$M$37,SMALL(IF('Dummy Data'!$F$8:$F$37=$BY25,ROW('Dummy Data'!$F$8:$F$37)-7,\"\"),COLUMNS($BZ$4:BZ25))),\"\")","v":""},{"$f":"IFERROR(INDEX('Dummy Data'!$M$8:$M$37,SMALL(IF('Dummy Data'!$F$8:$F$37=$BY25,ROW('Dummy Data'!$F$8:$F$37)-7,\"\"),COLUMNS($BZ$4:CA25))),\"\")","v":""},{"$f":"IFERROR(INDEX('Dummy Data'!$M$8:$M$37,SMALL(IF('Dummy Data'!$F$8:$F$37=$BY25,ROW('Dummy Data'!$F$8:$F$37)-7,\"\"),COLUMNS($BZ$4:CB25))),\"\")","v":""},{"$f":"IFERROR(INDEX('Dummy Data'!$M$8:$M$37,SMALL(IF('Dummy Data'!$F$8:$F$37=$BY25,ROW('Dummy Data'!$F$8:$F$37)-7,\"\"),COLUMNS($BZ$4:CC25))),\"\")","v":""},{"$f":"IFERROR(VLOOKUP(BZ25,'Dummy Data'!$B$73:$C$83,2,FALSE),\"\")","v":""},{"$f":"IFERROR(VLOOKUP(CA25,'Dummy Data'!$B$73:$C$83,2,FALSE),\"\")","v":""},{"$f":"IFERROR(VLOOKUP(CB25,'Dummy Data'!$B$73:$C$83,2,FALSE),\"\")","v":""},{"$f":"IFERROR(VLOOKUP(CC25,'Dummy Data'!$B$73:$C$83,2,FALSE),\"\")","v":""},""]
[19,null,null,null,null,null,null,null,null,null,null,null,null,null,null,null,null,null,null,null,null,null,null,null,null,null,null,null,null,null,null,null,null,"",null,null,null,{"$f":"'List Data'!L6","v":"Dr5"},{"$f":"COUNTIFS($AE$8:$AE$37,'List Data'!L6,$N$8:$N$37,\"Yes\")","v":2},{"$f":"COUNTIFS($AE$8:$AE$37,'List Data'!L6,$N$8:$N$37,\"No\")","v":0},1,{"$f":"COUNTIFS($AE$7:$AE$37,'List Data'!L6,$AB$7:$AB$37,\"Continue\")","v":2},{"$f":"COUNTIFS($AE$7:$AE$37,'List Data'!L6,$AB$7:$AB$37,\"discontinue\")","v":0},{"$f":"COUNTIFS($AE$7:$AE$37,'List Data'!L6,$AB$7:$AB$37,\"change\")","v":0},{"$f":"COUNTIFS($AE$7:$AE$37,'List Data'!L6,$AB$7:$AB$37,\"narrow\")","v":0},{"$f":"COUNTIFS($AE$7:$AE$37,'List Data'!L6,$AB$7:$AB$37,\"shorten\")","v":0},0,{"$f":"IFERROR(AVERAGEIF($AE$7:$AE$37,'List Data'!L6,$AH$7:$AH$37),\"\")","v":6.5},{"$f":"IFERROR(AVERAGEIFS($AH$7:$AH$37,$AE$7:$AE$37,'List Data'!L6,$N$7:$N$37,\"Yes\"),\"\")","v":6.5},{"$f":"IFERROR(AVERAGEIFS($AH$7:$AH$37,$AE$7:$AE$37,'List Data'!L6,$N$7:$N$37,\"No\"),\"\")","v":""},null,null,null,null,null,null,null,null,null,null,null,null,null,null,null,null,null,null,null,null,null,null,null,null,null,null,{"$f":"'List Data'!B23","v":"011-2"},{"$f":"IFERROR(INDEX('Dummy Data'!$M$8:$M$37,SMALL(IF('Dummy Data'!$F$8:$F$37=$BY26,ROW('Dummy Data'!$F$8:$F$37)-7,\"\"),COLUMNS($BZ$4:BZ26))),\"\")","v":""},{"$f":"IFERROR(INDEX('Dummy Data'!$M$8:$M$37,SMALL(IF('Dummy Data'!$F$8:$F$37=$BY26,ROW('Dummy Data'!$F$8:$F$37)-7,\"\"),COLUMNS($BZ$4:CA26))),\"\")","v":""},{"$f":"IFERROR(INDEX('Dummy Data'!$M$8:$M$37,SMALL(IF('Dummy Data'!$F$8:$F$37=$BY26,ROW('Dummy Data'!$F$8:$F$37)-7,\"\"),COLUMNS($BZ$4:CB26))),\"\")","v":""},{"$f":"IFERROR(INDEX('Dummy Data'!$M$8:$M$37,SMALL(IF('Dummy Data'!$F$8:$F$37=$BY26,ROW('Dummy Data'!$F$8:$F$37)-7,\"\"),COLUMNS($BZ$4:CC26))),\"\")","v":""},{"$f":"IFERROR(VLOOKUP(BZ26,'Dummy Data'!$B$73:$C$83,2,FALSE),\"\")","v":""},{"$f":"IFERROR(VLOOKUP(CA26,'Dummy Data'!$B$73:$C$83,2,FALSE),\"\")","v":""},{"$f":"IFERROR(VLOOKUP(CB26,'Dummy Data'!$B$73:$C$83,2,FALSE),\"\")","v":""},{"$f":"IFERROR(VLOOKUP(CC26,'Dummy Data'!$B$73:$C$83,2,FALSE),\"\")","v":""},""]
[20,null,null,null,null,null,null,null,null,null,null,null,null,null,null,null,null,null,null,null,null,null,null,null,null,null,null,null,null,null,null,null,null,"",null,null,null,{"$f":"'List Data'!L7","v":"Dr6"},{"$f":"COUNTIFS($AE$8:$AE$37,'List Data'!L7,$N$8:$N$37,\"Yes\")","v":0},{"$f":"COUNTIFS($AE$8:$AE$37,'List Data'!L7,$N$8:$N$37,\"No\")","v":0},"",{"$f":"COUNTIFS($AE$7:$AE$37,'List Data'!L7,$AB$7:$AB$37,\"Continue\")","v":0},{"$f":"COUNTIFS($AE$7:$AE$37,'List Data'!L7,$AB$7:$AB$37,\"discontinue\")","v":0},{"$f":"COUNTIFS($AE$7:$AE$37,'List Data'!L7,$AB$7:$AB$37,\"change\")","v":0},{"$f":"COUNTIFS($AE$7:$AE$37,'List Data'!L7,$AB$7:$AB$37,\"narrow\")","v":1},{"$f":"COUNTIFS($AE$7:$AE$37,'List Data'!L7,$AB$7:$AB$37,\"shorten\")","v":0},1,{"$f":"IFERROR(AVERAGEIF($AE$7:$AE$37,'List Data'!L7,$AH$7:$AH$37),\"\")","v":10},{"$f":"IFERROR(AVERAGEIFS($AH$7:$AH$37,$AE$7:$AE$37,'List Data'!L7,$N$7:$N$37,\"Yes\"),\"\")","v":""},{"$f":"IFERROR(AVERAGEIFS($AH$7:$AH$37,$AE$7:$AE$37,'List Data'!L7,$N$7:$N$37,\"No\"),\"\")","v":""},null,null,null,null,null,null,null,null,null,null,null,null,null,null,null,null,null,null,null,null,null,null,null,null,null,null,{"$f":"'List Data'!B24","v":"012-1"},{"$f":"IFERROR(INDEX('Dummy Data'!$M$8:$M$37,SMALL(IF('Dummy Data'!$F$8:$F$37=$BY27,ROW('Dummy Data'!$F$8:$F$37)-7,\"\"),COLUMNS($BZ$4:BZ27))),\"\")","v":""},{"$f":"IFERROR(INDEX('Dummy Data'!$M$8:$M$37,SMALL(IF('Dummy Data'!$F$8:$F$37=$BY27,ROW('Dummy Data'!$F$8:$F$37)-7,\"\"),COLUMNS($BZ$4:CA27))),\"\")","v":""},{"$f":"IFERROR(INDEX('Dummy Data'!$M$8:$M$37,SMALL(IF('Dummy Data'!$F$8:$F$37=$BY27,ROW('Dummy Data'!$F$8:$F$37)-7,\"\"),COLUMNS($BZ$4:CB27))),\"\")","v":""},{"$f":"IFERROR(INDEX('Dummy Data'!$M$8:$M$37,SMALL(IF('Dummy Data'!$F$8:$F$37=$BY27,ROW('Dummy Data'!$F$8:$F$37)-7,\"\"),COLUMNS($BZ$4:CC27))),\"\")","v":""},{"$f":"IFERROR(VLOOKUP(BZ27,'Dummy Data'!$B$73:$C$83,2,FALSE),\"\")","v":""},{"$f":"IFERROR(VLOOKUP(CA27,'Dummy Data'!$B$73:$C$83,2,FALSE),\"\")","v":""},{"$f":"IFERROR(VLOOKUP(CB27,'Dummy Data'!$B$73:$C$83,2,FALSE),\"\")","v":""},{"$f":"IFERROR(VLOOKUP(CC27,'Dummy Data'!$B$73:$C$83,2,FALSE),\"\")","v":""},""]
[21,null,null,null,null,null,null,null,null,null,null,null,null,null,null,null,null,null,null,null,null,null,null,null,null,null,null,null,null,null,null,null,null,"",null,null,null,{"$f":"'List Data'!L8","v":"Dr7"},{"$f":"COUNTIFS($AE$8:$AE$37,'List Data'!L8,$N$8:$N$37,\"Yes\")","v":0},{"$f":"COUNTIFS($AE$8:$AE$37,'List Data'!L8,$N$8:$N$37,\"No\")","v":0},"",{"$f":"COUNTIFS($AE$7:$AE$37,'List Data'!L8,$AB$7:$AB$37,\"Continue\")","v":0},{"$f":"COUNTIFS($AE$7:$AE$37,'List Data'!L8,$AB$7:$AB$37,\"discontinue\")","v":0},{"$f":"COUNTIFS($AE$7:$AE$37,'List Data'!L8,$AB$7:$AB$37,\"change\")","v":0},{"$f":"COUNTIFS($AE$7:$AE$37,'List Data'!L8,$AB$7:$AB$37,\"narrow\")","v":0},{"$f":"COUNTIFS($AE$7:$AE$37,'List Data'!L8,$AB$7:$AB$37,\"shorten\")","v":0},0,{"$f":"IFERROR(AVERAGEIF($AE$7:$AE$37,'List Data'!L8,$AH$7:$AH$37),\"\")","v":""},{"$f":"IFERROR(AVERAGEIFS($AH$7:$AH$37,$AE$7:$AE$37,'List Data'!L8,$N$7:$N$37,\"Yes\"),\"\")","v":""},{"$f":"IFERROR(AVERAGEIFS($AH$7:$AH$37,$AE$7:$AE$37,'List Data'!L8,$N$7:$N$37,\"No\"),\"\")","v":""},null,null,null,null,null,null,null,null,null,null,null,null,null,null,null,null,null,null,null,null,null,null,null,null,null,null,{"$f":"'List Data'!B25","v":"012-2"},{"$f":"IFERROR(INDEX('Dummy Data'!$M$8:$M$37,SMALL(IF('Dummy Data'!$F$8:$F$37=$BY28,ROW('Dummy Data'!$F$8:$F$37)-7,\"\"),COLUMNS($BZ$4:BZ28))),\"\")","v":""},{"$f":"IFERROR(INDEX('Dummy Data'!$M$8:$M$37,SMALL(IF('Dummy Data'!$F$8:$F$37=$BY28,ROW('Dummy Data'!$F$8:$F$37)-7,\"\"),COLUMNS($BZ$4:CA28))),\"\")","v":""},{"$f":"IFERROR(INDEX('Dummy Data'!$M$8:$M$37,SMALL(IF('Dummy Data'!$F$8:$F$37=$BY28,ROW('Dummy Data'!$F$8:$F$37)-7,\"\"),COLUMNS($BZ$4:CB28))),\"\")","v":""},{"$f":"IFERROR(INDEX('Dummy Data'!$M$8:$M$37,SMALL(IF('Dummy Data'!$F$8:$F$37=$BY28,ROW('Dummy Data'!$F$8:$F$37)-7,\"\"),COLUMNS($BZ$4:CC28))),\"\")","v":""},{"$f":"IFERROR(VLOOKUP(BZ28,'Dummy Data'!$B$73:$C$83,2,FALSE),\"\")","v":""},{"$f":"IFERROR(VLOOKUP(CA28,'Dummy Data'!$B$73:$C$83,2,FALSE),\"\")","v":""},{"$f":"IFERROR(VLOOKUP(CB28,'Dummy Data'!$B$73:$C$83,2,FALSE),\"\")","v":""},{"$f":"IFERROR(VLOOKUP(CC28,'Dummy Data'!$B$73:$C$83,2,FALSE),\"\")","v":""},""]
[22,null,null,null,null,null,null,null,null,null,null,null,null,null,null,null,null,null,null,null,null,null,null,null,null,null,null,null,null,null,null,null,null,"",null,null,null,{"$f":"'List Data'!L9","v":"Dr8"},{"$f":"COUNTIFS($AE$8:$AE$37,'List Data'!L9,$N$8:$N$37,\"Yes\")","v":0},{"$f":"COUNTIFS($AE$8:$AE$37,'List Data'!L9,$N$8:$N$37,\"No\")","v":0},"",{"$f":"COUNTIFS($AE$7:$AE$37,'List Data'!L9,$AB$7:$AB$37,\"Continue\")","v":0},{"$f":"COUNTIFS($AE$7:$AE$37,'List Data'!L9,$AB$7:$AB$37,\"discontinue\")","v":0},{"$f":"COUNTIFS($AE$7:$AE$37,'List Data'!L9,$AB$7:$AB$37,\"change\")","v":0},{"$f":"COUNTIFS($AE$7:$AE$37,'List Data'!L9,$AB$7:$AB$37,\"narrow\")","v":0},{"$f":"COUNTIFS($AE$7:$AE$37,'List Data'!L9,$AB$7:$AB$37,\"shorten\")","v":0},0,{"$f":"IFERROR(AVERAGEIF($AE$7:$AE$37,'List Data'!L9,$AH$7:$AH$37),\"\")","v":""},{"$f":"IFERROR(AVERAGEIFS($AH$7:$AH$37,$AE$7:$AE$37,'List Data'!L9,$N$7:$N$37,\"Yes\"),\"\")","v":""},{"$f":"IFERROR(AVERAGEIFS($AH$7:$AH$37,$AE$7:$AE$37,'List Data'!L9,$N$7:$N$37,\"No\"),\"\")","v":""},null,null,null,null,null,null,null,null,null,null,null,null,null,null,null,null,null,null,null,null,null,null,null,null,null,null,{"$f":"'List Data'!B26","v":"013-1"},{"$f":"IFERROR(INDEX('Dummy Data'!$M$8:$M$37,SMALL(IF('Dummy Data'!$F$8:$F$37=$BY29,ROW('Dummy Data'!$F$8:$F$37)-7,\"\"),COLUMNS($BZ$4:BZ29))),\"\")","v":""},{"$f":"IFERROR(INDEX('Dummy Data'!$M$8:$M$37,SMALL(IF('Dummy Data'!$F$8:$F$37=$BY29,ROW('Dummy Data'!$F$8:$F$37)-7,\"\"),COLUMNS($BZ$4:CA29))),\"\")","v":""},{"$f":"IFERROR(INDEX('Dummy Data'!$M$8:$M$37,SMALL(IF('Dummy Data'!$F$8:$F$37=$BY29,ROW('Dummy Data'!$F$8:$F$37)-7,\"\"),COLUMNS($BZ$4:CB29))),\"\")","v":""},{"$f":"IFERROR(INDEX('Dummy Data'!$M$8:$M$37,SMALL(IF('Dummy Data'!$F$8:$F$37=$BY29,ROW('Dummy Data'!$F$8:$F$37)-7,\"\"),COLUMNS($BZ$4:CC29))),\"\")","v":""},{"$f":"IFERROR(VLOOKUP(BZ29,'Dummy Data'!$B$73:$C$83,2,FALSE),\"\")","v":""},{"$f":"IFERROR(VLOOKUP(CA29,'Dummy Data'!$B$73:$C$83,2,FALSE),\"\")","v":""},{"$f":"IFERROR(VLOOKUP(CB29,'Dummy Data'!$B$73:$C$83,2,FALSE),\"\")","v":""},{"$f":"IFERROR(VLOOKUP(CC29,'Dummy Data'!$B$73:$C$83,2,FALSE),\"\")","v":""},""]
[23,null,null,null,null,null,null,null,null,null,null,null,null,null,null,null,null,null,null,null,null,null,null,null,null,null,null,null,null,null,null,null,null,"",null,null,null,"Facility Total",{"$f":"SUM(AM22:AM28)","v":7},{"$f":"SUM(AN22:AN28)","v":2},null,{"$f":"SUM(AP22:AP28)","v":5},3,1,1,0,5,null,null,null,null,null,null,null,null,null,null,null,null,null,null,null,null,null,null,null,null,null,null,null,null,null,null,null,null,null,{"$f":"'List Data'!B27","v":"013-2"},{"$f":"IFERROR(INDEX('Dummy Data'!$M$8:$M$37,SMALL(IF('Dummy Data'!$F$8:$F$37=$BY30,ROW('Dummy Data'!$F$8:$F$37)-7,\"\"),COLUMNS($BZ$4:BZ30))),\"\")","v":""},{"$f":"IFERROR(INDEX('Dummy Data'!$M$8:$M$37,SMALL(IF('Dummy Data'!$F$8:$F$37=$BY30,ROW('Dummy Data'!$F$8:$F$37)-7,\"\"),COLUMNS($BZ$4:CA30))),\"\")","v":""},{"$f":"IFERROR(INDEX('Dummy Data'!$M$8:$M$37,SMALL(IF('Dummy Data'!$F$8:$F$37=$BY30,ROW('Dummy Data'!$F$8:$F$37)-7,\"\"),COLUMNS($BZ$4:CB30))),\"\")","v":""},{"$f":"IFERROR(INDEX('Dummy Data'!$M$8:$M$37,SMALL(IF('Dummy Data'!$F$8:$F$37=$BY30,ROW('Dummy Data'!$F$8:$F$37)-7,\"\"),COLUMNS($BZ$4:CC30))),\"\")","v":""},{"$f":"IFERROR(VLOOKUP(BZ30,'Dummy Data'!$B$73:$C$83,2,FALSE),\"\")","v":""},{"$f":"IFERROR(VLOOKUP(CA30,'Dummy Data'!$B$73:$C$83,2,FALSE),\"\")","v":""},{"$f":"IFERROR(VLOOKUP(CB30,'Dummy Data'!$B$73:$C$83,2,FALSE),\"\")","v":""},{"$f":"IFERROR(VLOOKUP(CC30,'Dummy Data'!$B$73:$C$83,2,FALSE),\"\")","v":""},""]
[24,null,null,null,null,null,null,null,null,null,null,null,null,null,null,null,null,null,null,null,null,null,null,null,null,null,null,null,null,null,null,null,null,"",null,null,null,"Facility Average",null,null,{"$f":"IFERROR(SUM(AM22:AM28)/SUM(AM22:AN28),\"\")","v":0.77777777777777779},{"$f":"AVERAGE(AP22:AP28)","v":0.7142857142857143},0.42857142857142855,0.14285714285714285,0.14285714285714285,0,0.7142857142857143,{"$f":"IFERROR(SUM($AH$8:$AH$37)/SUM(AO8:AO17),\"\")","v":9.0833333333333339},{"$f":"IFERROR(AVERAGEIF(N8:N37,\"=yes\",AH8:AH37),\"\")","v":11.571428571428571},{"$f":"IFERROR(AVERAGEIF(N8:N37,\"=NO\",AH8:AH37),\"\")","v":6},null,null,null,null,null,null,null,null,null,null,null,null,null,null,null,null,null,null,null,null,null,null,null,null,null,null,{"$f":"'List Data'!B28","v":"014-1"},{"$f":"IFERROR(INDEX('Dummy Data'!$M$8:$M$37,SMALL(IF('Dummy Data'!$F$8:$F$37=$BY31,ROW('Dummy Data'!$F$8:$F$37)-7,\"\"),COLUMNS($BZ$4:BZ31))),\"\")","v":""},{"$f":"IFERROR(INDEX('Dummy Data'!$M$8:$M$37,SMALL(IF('Dummy Data'!$F$8:$F$37=$BY31,ROW('Dummy Data'!$F$8:$F$37)-7,\"\"),COLUMNS($BZ$4:CA31))),\"\")","v":""},{"$f":"IFERROR(INDEX('Dummy Data'!$M$8:$M$37,SMALL(IF('Dummy Data'!$F$8:$F$37=$BY31,ROW('Dummy Data'!$F$8:$F$37)-7,\"\"),COLUMNS($BZ$4:CB31))),\"\")","v":""},{"$f":"IFERROR(INDEX('Dummy Data'!$M$8:$M$37,SMALL(IF('Dummy Data'!$F$8:$F$37=$BY31,ROW('Dummy Data'!$F$8:$F$37)-7,\"\"),COLUMNS($BZ$4:CC31))),\"\")","v":""},{"$f":"IFERROR(VLOOKUP(BZ31,'Dummy Data'!$B$73:$C$83,2,FALSE),\"\")","v":""},{"$f":"IFERROR(VLOOKUP(CA31,'Dummy Data'!$B$73:$C$83,2,FALSE),\"\")","v":""},{"$f":"IFERROR(VLOOKUP(CB31,'Dummy Data'!$B$73:$C$83,2,FALSE),\"\")","v":""},{"$f":"IFERROR(VLOOKUP(CC31,'Dummy Data'!$B$73:$C$83,2,FALSE),\"\")","v":""},""]
[25,null,null,null,null,null,null,null,null,null,null,null,null,null,null,null,null,null,null,null,null,null,null,null,null,null,null,null,null,null,null,null,null,"",null,null,null,"-(Rate (%) calculated by # of each infection per month divided by average resident census of month x 100  =rate (%)\n-(Rate per 1,000 Resident Days (%) calculated by # of each infections per month divided by total resident days in month with the product multiplied by 1,000 = rate(%))\n-Outbreaks are triggered when 2 or more infections are identified and the infections are clustered in one neighborhood/hallway/unit",null,null,null,null,null,null,null,null,null,null,null,null,null,null,null,null,null,null,null,null,null,null,null,null,null,null,null,null,null,null,null,null,null,null,null,null,null,null,{"$f":"'List Data'!B29","v":"014-2"},{"$f":"IFERROR(INDEX('Dummy Data'!$M$8:$M$37,SMALL(IF('Dummy Data'!$F$8:$F$37=$BY32,ROW('Dummy Data'!$F$8:$F$37)-7,\"\"),COLUMNS($BZ$4:BZ32))),\"\")","v":""},{"$f":"IFERROR(INDEX('Dummy Data'!$M$8:$M$37,SMALL(IF('Dummy Data'!$F$8:$F$37=$BY32,ROW('Dummy Data'!$F$8:$F$37)-7,\"\"),COLUMNS($BZ$4:CA32))),\"\")","v":""},{"$f":"IFERROR(INDEX('Dummy Data'!$M$8:$M$37,SMALL(IF('Dummy Data'!$F$8:$F$37=$BY32,ROW('Dummy Data'!$F$8:$F$37)-7,\"\"),COLUMNS($BZ$4:CB32))),\"\")","v":""},{"$f":"IFERROR(INDEX('Dummy Data'!$M$8:$M$37,SMALL(IF('Dummy Data'!$F$8:$F$37=$BY32,ROW('Dummy Data'!$F$8:$F$37)-7,\"\"),COLUMNS($BZ$4:CC32))),\"\")","v":""},{"$f":"IFERROR(VLOOKUP(BZ32,'Dummy Data'!$B$73:$C$83,2,FALSE),\"\")","v":""},{"$f":"IFERROR(VLOOKUP(CA32,'Dummy Data'!$B$73:$C$83,2,FALSE),\"\")","v":""},{"$f":"IFERROR(VLOOKUP(CB32,'Dummy Data'!$B$73:$C$83,2,FALSE),\"\")","v":""},{"$f":"IFERROR(VLOOKUP(CC32,'Dummy Data'!$B$73:$C$83,2,FALSE),\"\")","v":""},""]
[26,null,null,null,null,null,null,null,null,null,null,null,null,null,null,null,null,null,null,null,null,null,null,null,null,null,null,null,null,null,null,null,null,"",null,null,null,null,null,null,null,null,null,null,null,null,null,null,null,null,null,null,null,null,null,null,null,null,null,null,null,null,null,null,null,null,null,null,null,null,null,null,null,null,null,null,{"$f":"'List Data'!B30","v":"015-1"},{"$f":"IFERROR(INDEX('Dummy Data'!$M$8:$M$37,SMALL(IF('Dummy Data'!$F$8:$F$37=$BY33,ROW('Dummy Data'!$F$8:$F$37)-7,\"\"),COLUMNS($BZ$4:BZ33))),\"\")","v":""},{"$f":"IFERROR(INDEX('Dummy Data'!$M$8:$M$37,SMALL(IF('Dummy Data'!$F$8:$F$37=$BY33,ROW('Dummy Data'!$F$8:$F$37)-7,\"\"),COLUMNS($BZ$4:CA33))),\"\")","v":""},{"$f":"IFERROR(INDEX('Dummy Data'!$M$8:$M$37,SMALL(IF('Dummy Data'!$F$8:$F$37=$BY33,ROW('Dummy Data'!$F$8:$F$37)-7,\"\"),COLUMNS($BZ$4:CB33))),\"\")","v":""},{"$f":"IFERROR(INDEX('Dummy Data'!$M$8:$M$37,SMALL(IF('Dummy Data'!$F$8:$F$37=$BY33,ROW('Dummy Data'!$F$8:$F$37)-7,\"\"),COLUMNS($BZ$4:CC33))),\"\")","v":""},{"$f":"IFERROR(VLOOKUP(BZ33,'Dummy Data'!$B$73:$C$83,2,FALSE),\"\")","v":""},{"$f":"IFERROR(VLOOKUP(CA33,'Dummy Data'!$B$73:$C$83,2,FALSE),\"\")","v":""},{"$f":"IFERROR(VLOOKUP(CB33,'Dummy Data'!$B$73:$C$83,2,FALSE),\"\")","v":""},{"$f":"IFERROR(VLOOKUP(CC33,'Dummy Data'!$B$73:$C$83,2,FALSE),\"\")","v":""},""]
[27,null,null,null,null,null,null,null,null,null,null,null,null,null,null,null,null,null,null,null,null,null,null,null,null,null,null,null,null,null,null,null,null,"",null,null,null,"Pharmacy/  Prescription Review","% Prescriptions Reviewed","% Consultant Pharmacist Endorsed","% Consultant Pharmacist Not-Endorsed","% Med Director Endorsed",null,null,null,null,null,null,null,null,null,null,null,null,null,null,null,null,null,null,null,null,null,null,null,null,null,null,null,null,null,null,null,null,null,null,{"$f":"'List Data'!B31","v":"015-2"},{"$f":"IFERROR(INDEX('Dummy Data'!$M$8:$M$37,SMALL(IF('Dummy Data'!$F$8:$F$37=$BY34,ROW('Dummy Data'!$F$8:$F$37)-7,\"\"),COLUMNS($BZ$4:BZ34))),\"\")","v":""},{"$f":"IFERROR(INDEX('Dummy Data'!$M$8:$M$37,SMALL(IF('Dummy Data'!$F$8:$F$37=$BY34,ROW('Dummy Data'!$F$8:$F$37)-7,\"\"),COLUMNS($BZ$4:CA34))),\"\")","v":""},{"$f":"IFERROR(INDEX('Dummy Data'!$M$8:$M$37,SMALL(IF('Dummy Data'!$F$8:$F$37=$BY34,ROW('Dummy Data'!$F$8:$F$37)-7,\"\"),COLUMNS($BZ$4:CB34))),\"\")","v":""},{"$f":"IFERROR(INDEX('Dummy Data'!$M$8:$M$37,SMALL(IF('Dummy Data'!$F$8:$F$37=$BY34,ROW('Dummy Data'!$F$8:$F$37)-7,\"\"),COLUMNS($BZ$4:CC34))),\"\")","v":""},{"$f":"IFERROR(VLOOKUP(BZ34,'Dummy Data'!$B$73:$C$83,2,FALSE),\"\")","v":""},{"$f":"IFERROR(VLOOKUP(CA34,'Dummy Data'!$B$73:$C$83,2,FALSE),\"\")","v":""},{"$f":"IFERROR(VLOOKUP(CB34,'Dummy Data'!$B$73:$C$83,2,FALSE),\"\")","v":""},{"$f":"IFERROR(VLOOKUP(CC34,'Dummy Data'!$B$73:$C$83,2,FALSE),\"\")","v":""},""]
[28,null,null,null,null,null,null,null,null,null,null,null,null,null,null,null,null,null,null,null,null,null,null,null,null,null,null,null,null,null,null,null,null,"",null,null,null,null,{"$f":"IFERROR((COUNTIF($B$8:$B$37, \"Yes\")/((COUNTIF($B$8:$B$37,\"No\"))+(COUNTIF($B$8:$B$37, \"yes\")))),\"\")","v":0.90909090909090906},{"$f":"IFERROR((COUNTIF($C$8:$C$37, \"Yes\")/((COUNTIF($C$8:$C$37,\"No\"))+(COUNTIF($C$8:$C$37, \"yes\")))),\"\")","v":0.6},{"$f":"IFERROR((COUNTIF($C$8:$C$37, \"No\")/((COUNTIF($C$8:$C$37,\"No\"))+(COUNTIF($C$8:$C$37, \"yes\")))),\"\")","v":0.4},{"$f":"IFERROR((COUNTIF($D$8:$D$37, \"Yes\")/((COUNTIF($D$8:$D$37,\"No\"))+(COUNTIF($D$8:$D$37, \"yes\")))),\"\")","v":0.6},null,null,null,null,null,null,null,null,null,null,null,null,null,null,null,null,null,null,null,null,null,null,null,null,null,null,null,null,null,null,null,null,null,null,{"$f":"'List Data'!B32","v":"016-1"},{"$f":"IFERROR(INDEX('Dummy Data'!$M$8:$M$37,SMALL(IF('Dummy Data'!$F$8:$F$37=$BY35,ROW('Dummy Data'!$F$8:$F$37)-7,\"\"),COLUMNS($BZ$4:BZ35))),\"\")","v":""},{"$f":"IFERROR(INDEX('Dummy Data'!$M$8:$M$37,SMALL(IF('Dummy Data'!$F$8:$F$37=$BY35,ROW('Dummy Data'!$F$8:$F$37)-7,\"\"),COLUMNS($BZ$4:CA35))),\"\")","v":""},{"$f":"IFERROR(INDEX('Dummy Data'!$M$8:$M$37,SMALL(IF('Dummy Data'!$F$8:$F$37=$BY35,ROW('Dummy Data'!$F$8:$F$37)-7,\"\"),COLUMNS($BZ$4:CB35))),\"\")","v":""},{"$f":"IFERROR(INDEX('Dummy Data'!$M$8:$M$37,SMALL(IF('Dummy Data'!$F$8:$F$37=$BY35,ROW('Dummy Data'!$F$8:$F$37)-7,\"\"),COLUMNS($BZ$4:CC35))),\"\")","v":""},{"$f":"IFERROR(VLOOKUP(BZ35,'Dummy Data'!$B$73:$C$83,2,FALSE),\"\")","v":""},{"$f":"IFERROR(VLOOKUP(CA35,'Dummy Data'!$B$73:$C$83,2,FALSE),\"\")","v":""},{"$f":"IFERROR(VLOOKUP(CB35,'Dummy Data'!$B$73:$C$83,2,FALSE),\"\")","v":""},{"$f":"IFERROR(VLOOKUP(CC35,'Dummy Data'!$B$73:$C$83,2,FALSE),\"\")","v":""},""]
[29,null,null,null,null,null,null,null,null,null,null,null,null,null,null,null,null,null,null,null,null,null,null,null,null,null,null,null,null,null,null,null,null,"",null,null,null,"Staff","CIC completed Before","CIC Not completed Before","% CIC completed Before"," ",null,null,null,null,null,null,null,null,null,null,null,null,null,null,null,null,null,null,null,null,null,null,null,null,null,null,null,null,null,null,null,null,null,null,{"$f":"'List Data'!B33","v":"016-2"},{"$f":"IFERROR(INDEX('Dummy Data'!$M$8:$M$37,SMALL(IF('Dummy Data'!$F$8:$F$37=$BY36,ROW('Dummy Data'!$F$8:$F$37)-7,\"\"),COLUMNS($BZ$4:BZ36))),\"\")","v":"UTI"},{"$f":"IFERROR(INDEX('Dummy Data'!$M$8:$M$37,SMALL(IF('Dummy Data'!$F$8:$F$37=$BY36,ROW('Dummy Data'!$F$8:$F$37)-7,\"\"),COLUMNS($BZ$4:CA36))),\"\")","v":""},{"$f":"IFERROR(INDEX('Dummy Data'!$M$8:$M$37,SMALL(IF('Dummy Data'!$F$8:$F$37=$BY36,ROW('Dummy Data'!$F$8:$F$37)-7,\"\"),COLUMNS($BZ$4:CB36))),\"\")","v":""},{"$f":"IFERROR(INDEX('Dummy Data'!$M$8:$M$37,SMALL(IF('Dummy Data'!$F$8:$F$37=$BY36,ROW('Dummy Data'!$F$8:$F$37)-7,\"\"),COLUMNS($BZ$4:CC36))),\"\")","v":""},{"$f":"IFERROR(VLOOKUP(BZ36,'Dummy Data'!$B$73:$C$83,2,FALSE),\"\")","v":"!"},{"$f":"IFERROR(VLOOKUP(CA36,'Dummy Data'!$B$73:$C$83,2,FALSE),\"\")","v":""},{"$f":"IFERROR(VLOOKUP(CB36,'Dummy Data'!$B$73:$C$83,2,FALSE),\"\")","v":""},{"$f":"IFERROR(VLOOKUP(CC36,'Dummy Data'!$B$73:$C$83,2,FALSE),\"\")","v":""},"!"]
[30,null,null,null,null,null,null,null,null,null,null,null,null,null,null,null,null,null,null,null,null,null,null,null,null,null,null,null,null,null,null,null,null,"",null,null,null,{"$f":"'List Data'!K2","v":"Staff1"},{"$f":"COUNTIFS($J$8:$J$37,\"yes\",$K$8:$K$37,'List Data'!K2,$R$8:$R$37,\"Yes\")","v":2},{"$f":"COUNTIFS($J$8:$J$37,\"No\",$K$8:$K$37,'List Data'!K2,$R$8:$R$37,\"Yes\")","v":0},{"$f":"IFERROR(AM37/(AN37+AM37),\"\")","v":1},null,null,null,null,null,null,null,null,null,null,null,null,null,null,null,null,null,null,null,null,null,null,null,null,null,null,null,null,null,null,null,null,null,null,null,{"$f":"'List Data'!B34","v":"017-1"},{"$f":"IFERROR(INDEX('Dummy Data'!$M$8:$M$37,SMALL(IF('Dummy Data'!$F$8:$F$37=$BY37,ROW('Dummy Data'!$F$8:$F$37)-7,\"\"),COLUMNS($BZ$4:BZ37))),\"\")","v":""},{"$f":"IFERROR(INDEX('Dummy Data'!$M$8:$M$37,SMALL(IF('Dummy Data'!$F$8:$F$37=$BY37,ROW('Dummy Data'!$F$8:$F$37)-7,\"\"),COLUMNS($BZ$4:CA37))),\"\")","v":""},{"$f":"IFERROR(INDEX('Dummy Data'!$M$8:$M$37,SMALL(IF('Dummy Data'!$F$8:$F$37=$BY37,ROW('Dummy Data'!$F$8:$F$37)-7,\"\"),COLUMNS($BZ$4:CB37))),\"\")","v":""},{"$f":"IFERROR(INDEX('Dummy Data'!$M$8:$M$37,SMALL(IF('Dummy Data'!$F$8:$F$37=$BY37,ROW('Dummy Data'!$F$8:$F$37)-7,\"\"),COLUMNS($BZ$4:CC37))),\"\")","v":""},{"$f":"IFERROR(VLOOKUP(BZ37,'Dummy Data'!$B$73:$C$83,2,FALSE),\"\")","v":""},{"$f":"IFERROR(VLOOKUP(CA37,'Dummy Data'!$B$73:$C$83,2,FALSE),\"\")","v":""},{"$f":"IFERROR(VLOOKUP(CB37,'Dummy Data'!$B$73:$C$83,2,FALSE),\"\")","v":""},{"$f":"IFERROR(VLOOKUP(CC37,'Dummy Data'!$B$73:$C$83,2,FALSE),\"\")","v":""},""]
[null,null,null,null,null,null,null,null,null,null,null,null,null,null,null,null,null,null,null,null,null,null,null,null,null,null,null,null,null,null,null,null,null,null,null,null,null,{"$f":"'List Data'!K3","v":"Staff2"},{"$f":"COUNTIFS($J$8:$J$37,\"yes\",$K$8:$K$37,'List Data'!K3,$R$8:$R$37,\"Yes\")","v":2},{"$f":"COUNTIFS($J$8:$J$37,\"No\",$K$8:$K$37,'List Data'!K3,$R$8:$R$37,\"Yes\")","v":0},{"$f":"IFERROR(AM38/(AN38+AM38),\"\")","v":1},null,null,null,null,null,null,null,null,null,null,null,null,null,null,null,null,null,null,null,null,null,null,null,null,null,null,null,null,null,null,null,null,null,null,null,{"$f":"'List Data'!B35","v":"017-2"},{"$f":"IFERROR(INDEX('Dummy Data'!$M$8:$M$37,SMALL(IF('Dummy Data'!$F$8:$F$37=$BY38,ROW('Dummy Data'!$F$8:$F$37)-7,\"\"),COLUMNS($BZ$4:BZ38))),\"\")","v":""},{"$f":"IFERROR(INDEX('Dummy Data'!$M$8:$M$37,SMALL(IF('Dummy Data'!$F$8:$F$37=$BY38,ROW('Dummy Data'!$F$8:$F$37)-7,\"\"),COLUMNS($BZ$4:CA38))),\"\")","v":""},{"$f":"IFERROR(INDEX('Dummy Data'!$M$8:$M$37,SMALL(IF('Dummy Data'!$F$8:$F$37=$BY38,ROW('Dummy Data'!$F$8:$F$37)-7,\"\"),COLUMNS($BZ$4:CB38))),\"\")","v":""},{"$f":"IFERROR(INDEX('Dummy Data'!$M$8:$M$37,SMALL(IF('Dummy Data'!$F$8:$F$37=$BY38,ROW('Dummy Data'!$F$8:$F$37)-7,\"\"),COLUMNS($BZ$4:CC38))),\"\")","v":""},{"$f":"IFERROR(VLOOKUP(BZ38,'Dummy Data'!$B$73:$C$83,2,FALSE),\"\")","v":""},{"$f":"IFERROR(VLOOKUP(CA38,'Dummy Data'!$B$73:$C$83,2,FALSE),\"\")","v":""},{"$f":"IFERROR(VLOOKUP(CB38,'Dummy Data'!$B$73:$C$83,2,FALSE),\"\")","v":""},{"$f":"IFERROR(VLOOKUP(CC38,'Dummy Data'!$B$73:$C$83,2,FALSE),\"\")","v":""},""]
[null,null,null,null,null,null,null,null,null,null,null,null,null,null,null,null,null,null,null,null,null,null,null,null,null,null,null,null,null,null,null,null,null,null,null,null,null,{"$f":"'List Data'!K4","v":"Staff3"},{"$f":"COUNTIFS($J$8:$J$37,\"yes\",$K$8:$K$37,'List Data'!K4,$R$8:$R$37,\"Yes\")","v":2},{"$f":"COUNTIFS($J$8:$J$37,\"No\",$K$8:$K$37,'List Data'!K4,$R$8:$R$37,\"Yes\")","v":0},1,null,null,null,null,null,null,null,null,null,null,null,null,null,null,null,null,null,null,null,null,null,null,null,null,null,null,null,null,null,null,null,null,null,null,null,{"$f":"'List Data'!B36","v":"018-1"},{"$f":"IFERROR(INDEX('Dummy Data'!$M$8:$M$37,SMALL(IF('Dummy Data'!$F$8:$F$37=$BY39,ROW('Dummy Data'!$F$8:$F$37)-7,\"\"),COLUMNS($BZ$4:BZ39))),\"\")","v":""},{"$f":"IFERROR(INDEX('Dummy Data'!$M$8:$M$37,SMALL(IF('Dummy Data'!$F$8:$F$37=$BY39,ROW('Dummy Data'!$F$8:$F$37)-7,\"\"),COLUMNS($BZ$4:CA39))),\"\")","v":""},{"$f":"IFERROR(INDEX('Dummy Data'!$M$8:$M$37,SMALL(IF('Dummy Data'!$F$8:$F$37=$BY39,ROW('Dummy Data'!$F$8:$F$37)-7,\"\"),COLUMNS($BZ$4:CB39))),\"\")","v":""},{"$f":"IFERROR(INDEX('Dummy Data'!$M$8:$M$37,SMALL(IF('Dummy Data'!$F$8:$F$37=$BY39,ROW('Dummy Data'!$F$8:$F$37)-7,\"\"),COLUMNS($BZ$4:CC39))),\"\")","v":""},{"$f":"IFERROR(VLOOKUP(BZ39,'Dummy Data'!$B$73:$C$83,2,FALSE),\"\")","v":""},{"$f":"IFERROR(VLOOKUP(CA39,'Dummy Data'!$B$73:$C$83,2,FALSE),\"\")","v":""},{"$f":"IFERROR(VLOOKUP(CB39,'Dummy Data'!$B$73:$C$83,2,FALSE),\"\")","v":""},{"$f":"IFERROR(VLOOKUP(CC39,'Dummy Data'!$B$73:$C$83,2,FALSE),\"\")","v":""},""]
[null,null,null,null,null,null,null,null,null,null,null,null,null,null,null,null,null,null,null,null,null,null,null,null,null,null,null,null,null,null,null,null,null,null,null,null,null,{"$f":"'List Data'!K5","v":"Staff4"},{"$f":"COUNTIFS($J$8:$J$37,\"yes\",$K$8:$K$37,'List Data'!K5,$R$8:$R$37,\"Yes\")","v":0},{"$f":"COUNTIFS($J$8:$J$37,\"No\",$K$8:$K$37,'List Data'!K5,$R$8:$R$37,\"Yes\")","v":1},0,null,null,null,null,null,null,null,null,null,null,null,null,null,null,null,null,null,null,null,null,null,null,null,null,null,null,null,null,null,null,null,null,null,null,null,{"$f":"'List Data'!B37","v":"018-2"},{"$f":"IFERROR(INDEX('Dummy Data'!$M$8:$M$37,SMALL(IF('Dummy Data'!$F$8:$F$37=$BY40,ROW('Dummy Data'!$F$8:$F$37)-7,\"\"),COLUMNS($BZ$4:BZ40))),\"\")","v":""},{"$f":"IFERROR(INDEX('Dummy Data'!$M$8:$M$37,SMALL(IF('Dummy Data'!$F$8:$F$37=$BY40,ROW('Dummy Data'!$F$8:$F$37)-7,\"\"),COLUMNS($BZ$4:CA40))),\"\")","v":""},{"$f":"IFERROR(INDEX('Dummy Data'!$M$8:$M$37,SMALL(IF('Dummy Data'!$F$8:$F$37=$BY40,ROW('Dummy Data'!$F$8:$F$37)-7,\"\"),COLUMNS($BZ$4:CB40))),\"\")","v":""},{"$f":"IFERROR(INDEX('Dummy Data'!$M$8:$M$37,SMALL(IF('Dummy Data'!$F$8:$F$37=$BY40,ROW('Dummy Data'!$F$8:$F$37)-7,\"\"),COLUMNS($BZ$4:CC40))),\"\")","v":""},{"$f":"IFERROR(VLOOKUP(BZ40,'Dummy Data'!$B$73:$C$83,2,FALSE),\"\")","v":""},{"$f":"IFERROR(VLOOKUP(CA40,'Dummy Data'!$B$73:$C$83,2,FALSE),\"\")","v":""},{"$f":"IFERROR(VLOOKUP(CB40,'Dummy Data'!$B$73:$C$83,2,FALSE),\"\")","v":""},{"$f":"IFERROR(VLOOKUP(CC40,'Dummy Data'!$B$73:$C$83,2,FALSE),\"\")","v":""},""]
[null,null,null,null,null,null,null,null,null,null,null,null,null,null,null,null,null,null,null,null,null,null,null,null,null,null,null,null,null,null,null,null,null,null,null,null,null,{"$f":"'List Data'!K6","v":"Staff5"},{"$f":"COUNTIFS($J$8:$J$37,\"yes\",$K$8:$K$37,'List Data'!K6,$R$8:$R$37,\"Yes\")","v":0},{"$f":"COUNTIFS($J$8:$J$37,\"No\",$K$8:$K$37,'List Data'!K6,$R$8:$R$37,\"Yes\")","v":1},0,null,null,null,null,null,null,null,null,null,null,null,null,null,null,null,null,null,null,null,null,null,null,null,null,null,null,null,null,null,null,null,null,null,null,null,{"$f":"'List Data'!B38","v":"019-1"},{"$f":"IFERROR(INDEX('Dummy Data'!$M$8:$M$37,SMALL(IF('Dummy Data'!$F$8:$F$37=$BY41,ROW('Dummy Data'!$F$8:$F$37)-7,\"\"),COLUMNS($BZ$4:BZ41))),\"\")","v":""},{"$f":"IFERROR(INDEX('Dummy Data'!$M$8:$M$37,SMALL(IF('Dummy Data'!$F$8:$F$37=$BY41,ROW('Dummy Data'!$F$8:$F$37)-7,\"\"),COLUMNS($BZ$4:CA41))),\"\")","v":""},{"$f":"IFERROR(INDEX('Dummy Data'!$M$8:$M$37,SMALL(IF('Dummy Data'!$F$8:$F$37=$BY41,ROW('Dummy Data'!$F$8:$F$37)-7,\"\"),COLUMNS($BZ$4:CB41))),\"\")","v":""},{"$f":"IFERROR(INDEX('Dummy Data'!$M$8:$M$37,SMALL(IF('Dummy Data'!$F$8:$F$37=$BY41,ROW('Dummy Data'!$F$8:$F$37)-7,\"\"),COLUMNS($BZ$4:CC41))),\"\")","v":""},{"$f":"IFERROR(VLOOKUP(BZ41,'Dummy Data'!$B$73:$C$83,2,FALSE),\"\")","v":""},{"$f":"IFERROR(VLOOKUP(CA41,'Dummy Data'!$B$73:$C$83,2,FALSE),\"\")","v":""},{"$f":"IFERROR(VLOOKUP(CB41,'Dummy Data'!$B$73:$C$83,2,FALSE),\"\")","v":""},{"$f":"IFERROR(VLOOKUP(CC41,'Dummy Data'!$B$73:$C$83,2,FALSE),\"\")","v":""},""]
[null,null,null,null,null,null,null,null,null,null,null,null,null,null,null,null,null,null,null,null,null,null,null,null,null,null,null,null,null,null,null,null,null,null,null,null,null,{"$f":"'List Data'!K7","v":"Staff6"},{"$f":"COUNTIFS($J$8:$J$37,\"yes\",$K$8:$K$37,'List Data'!K7,$R$8:$R$37,\"Yes\")","v":0},{"$f":"COUNTIFS($J$8:$J$37,\"No\",$K$8:$K$37,'List Data'!K7,$R$8:$R$37,\"Yes\")","v":1},0,null,null,null,null,null,null,null,null,null,null,null,null,null,null,null,null,null,null,null,null,null,null,null,null,null,null,null,null,null,null,null,null,null,null,null,{"$f":"'List Data'!B39","v":"019-2"},{"$f":"IFERROR(INDEX('Dummy Data'!$M$8:$M$37,SMALL(IF('Dummy Data'!$F$8:$F$37=$BY42,ROW('Dummy Data'!$F$8:$F$37)-7,\"\"),COLUMNS($BZ$4:BZ42))),\"\")","v":""},{"$f":"IFERROR(INDEX('Dummy Data'!$M$8:$M$37,SMALL(IF('Dummy Data'!$F$8:$F$37=$BY42,ROW('Dummy Data'!$F$8:$F$37)-7,\"\"),COLUMNS($BZ$4:CA42))),\"\")","v":""},{"$f":"IFERROR(INDEX('Dummy Data'!$M$8:$M$37,SMALL(IF('Dummy Data'!$F$8:$F$37=$BY42,ROW('Dummy Data'!$F$8:$F$37)-7,\"\"),COLUMNS($BZ$4:CB42))),\"\")","v":""},{"$f":"IFERROR(INDEX('Dummy Data'!$M$8:$M$37,SMALL(IF('Dummy Data'!$F$8:$F$37=$BY42,ROW('Dummy Data'!$F$8:$F$37)-7,\"\"),COLUMNS($BZ$4:CC42))),\"\")","v":""},{"$f":"IFERROR(VLOOKUP(BZ42,'Dummy Data'!$B$73:$C$83,2,FALSE),\"\")","v":""},{"$f":"IFERROR(VLOOKUP(CA42,'Dummy Data'!$B$73:$C$83,2,FALSE),\"\")","v":""},{"$f":"IFERROR(VLOOKUP(CB42,'Dummy Data'!$B$73:$C$83,2,FALSE),\"\")","v":""},{"$f":"IFERROR(VLOOKUP(CC42,'Dummy Data'!$B$73:$C$83,2,FALSE),\"\")","v":""},""]
[null,null,null,null,null,null,null,null,null,null,null,null,null,null,null,null,null,null,null,null,null,null,null,null,null,null,null,null,null,null,null,null,null,null,null,null,null,{"$f":"'List Data'!K8","v":"Staff7"},{"$f":"COUNTIFS($J$8:$J$37,\"yes\",$K$8:$K$37,'List Data'!K8,$R$8:$R$37,\"Yes\")","v":0},{"$f":"COUNTIFS($J$8:$J$37,\"No\",$K$8:$K$37,'List Data'!K8,$R$8:$R$37,\"Yes\")","v":0},"",null,null,null,null,null,null,null,null,null,null,null,null,null,null,null,null,null,null,null,null,null,null,null,null,null,null,null,null,null,null,null,null,null,null,null,{"$f":"'List Data'!B40","v":"020-1"},{"$f":"IFERROR(INDEX('Dummy Data'!$M$8:$M$37,SMALL(IF('Dummy Data'!$F$8:$F$37=$BY43,ROW('Dummy Data'!$F$8:$F$37)-7,\"\"),COLUMNS($BZ$4:BZ43))),\"\")","v":""},{"$f":"IFERROR(INDEX('Dummy Data'!$M$8:$M$37,SMALL(IF('Dummy Data'!$F$8:$F$37=$BY43,ROW('Dummy Data'!$F$8:$F$37)-7,\"\"),COLUMNS($BZ$4:CA43))),\"\")","v":""},{"$f":"IFERROR(INDEX('Dummy Data'!$M$8:$M$37,SMALL(IF('Dummy Data'!$F$8:$F$37=$BY43,ROW('Dummy Data'!$F$8:$F$37)-7,\"\"),COLUMNS($BZ$4:CB43))),\"\")","v":""},{"$f":"IFERROR(INDEX('Dummy Data'!$M$8:$M$37,SMALL(IF('Dummy Data'!$F$8:$F$37=$BY43,ROW('Dummy Data'!$F$8:$F$37)-7,\"\"),COLUMNS($BZ$4:CC43))),\"\")","v":""},{"$f":"IFERROR(VLOOKUP(BZ43,'Dummy Data'!$B$73:$C$83,2,FALSE),\"\")","v":""},{"$f":"IFERROR(VLOOKUP(CA43,'Dummy Data'!$B$73:$C$83,2,FALSE),\"\")","v":""},{"$f":"IFERROR(VLOOKUP(CB43,'Dummy Data'!$B$73:$C$83,2,FALSE),\"\")","v":""},{"$f":"IFERROR(VLOOKUP(CC43,'Dummy Data'!$B$73:$C$83,2,FALSE),\"\")","v":""},""]
[null,null,null,null,null,null,null,null,null,null,null,null,null,null,null,null,null,null,null,null,null,null,null,null,null,null,null,null,null,null,null,null,null,null,null,null,null,{"$f":"'List Data'!K9","v":"Staff8"},{"$f":"COUNTIFS($J$8:$J$37,\"yes\",$K$8:$K$37,'List Data'!K9,$R$8:$R$37,\"Yes\")","v":0},{"$f":"COUNTIFS($J$8:$J$37,\"No\",$K$8:$K$37,'List Data'!K9,$R$8:$R$37,\"Yes\")","v":0},"",null,null,null,null,null,null,null,null,null,null,null,null,null,null,null,null,null,null,null,null,null,null,null,null,null,null,null,null,null,null,null,null,null,null,null,{"$f":"'List Data'!B41","v":"020-2"},{"$f":"IFERROR(INDEX('Dummy Data'!$M$8:$M$37,SMALL(IF('Dummy Data'!$F$8:$F$37=$BY44,ROW('Dummy Data'!$F$8:$F$37)-7,\"\"),COLUMNS($BZ$4:BZ44))),\"\")","v":""},{"$f":"IFERROR(INDEX('Dummy Data'!$M$8:$M$37,SMALL(IF('Dummy Data'!$F$8:$F$37=$BY44,ROW('Dummy Data'!$F$8:$F$37)-7,\"\"),COLUMNS($BZ$4:CA44))),\"\")","v":""},{"$f":"IFERROR(INDEX('Dummy Data'!$M$8:$M$37,SMALL(IF('Dummy Data'!$F$8:$F$37=$BY44,ROW('Dummy Data'!$F$8:$F$37)-7,\"\"),COLUMNS($BZ$4:CB44))),\"\")","v":""},{"$f":"IFERROR(INDEX('Dummy Data'!$M$8:$M$37,SMALL(IF('Dummy Data'!$F$8:$F$37=$BY44,ROW('Dummy Data'!$F$8:$F$37)-7,\"\"),COLUMNS($BZ$4:CC44))),\"\")","v":""},{"$f":"IFERROR(VLOOKUP(BZ44,'Dummy Data'!$B$73:$C$83,2,FALSE),\"\")","v":""},{"$f":"IFERROR(VLOOKUP(CA44,'Dummy Data'!$B$73:$C$83,2,FALSE),\"\")","v":""},{"$f":"IFERROR(VLOOKUP(CB44,'Dummy Data'!$B$73:$C$83,2,FALSE),\"\")","v":""},{"$f":"IFERROR(VLOOKUP(CC44,'Dummy Data'!$B$73:$C$83,2,FALSE),\"\")","v":""},""]
[null,null,null,null,null,null,null,null,null,null,null,null,null,null,null,null,null,null,null,null,null,null,null,null,null,null,null,null,null,null,null,null,null,null,null,null,null,{"$f":"'List Data'!K10","v":"Staff9"},{"$f":"COUNTIFS($J$8:$J$37,\"yes\",$K$8:$K$37,'List Data'!K10,$R$8:$R$37,\"Yes\")","v":0},{"$f":"COUNTIFS($J$8:$J$37,\"No\",$K$8:$K$37,'List Data'!K10,$R$8:$R$37,\"Yes\")","v":0},"",null,null,null,null,null,null,null,null,null,null,null,null,null,null,null,null,null,null,null,null,null,null,null,null,null,null,null,null,null,null,null,null,null,null,null,{"$f":"'List Data'!B42","v":"021-1"},{"$f":"IFERROR(INDEX('Dummy Data'!$M$8:$M$37,SMALL(IF('Dummy Data'!$F$8:$F$37=$BY45,ROW('Dummy Data'!$F$8:$F$37)-7,\"\"),COLUMNS($BZ$4:BZ45))),\"\")","v":""},{"$f":"IFERROR(INDEX('Dummy Data'!$M$8:$M$37,SMALL(IF('Dummy Data'!$F$8:$F$37=$BY45,ROW('Dummy Data'!$F$8:$F$37)-7,\"\"),COLUMNS($BZ$4:CA45))),\"\")","v":""},{"$f":"IFERROR(INDEX('Dummy Data'!$M$8:$M$37,SMALL(IF('Dummy Data'!$F$8:$F$37=$BY45,ROW('Dummy Data'!$F$8:$F$37)-7,\"\"),COLUMNS($BZ$4:CB45))),\"\")","v":""},{"$f":"IFERROR(INDEX('Dummy Data'!$M$8:$M$37,SMALL(IF('Dummy Data'!$F$8:$F$37=$BY45,ROW('Dummy Data'!$F$8:$F$37)-7,\"\"),COLUMNS($BZ$4:CC45))),\"\")","v":""},{"$f":"IFERROR(VLOOKUP(BZ45,'Dummy Data'!$B$73:$C$83,2,FALSE),\"\")","v":""},{"$f":"IFERROR(VLOOKUP(CA45,'Dummy Data'!$B$73:$C$83,2,FALSE),\"\")","v":""},{"$f":"IFERROR(VLOOKUP(CB45,'Dummy Data'!$B$73:$C$83,2,FALSE),\"\")","v":""},{"$f":"IFERROR(VLOOKUP(CC45,'Dummy Data'!$B$73:$C$83,2,FALSE),\"\")","v":""},""]
[null,null,null,null,null,null,null,null,null,null,null,null,null,null,null,null,null,null,null,null,null,null,null,null,null,null,null,null,null,null,null,null,null,null,null,null,null,{"$f":"'List Data'!K11","v":"Staff10"},{"$f":"COUNTIFS($J$8:$J$37,\"yes\",$K$8:$K$37,'List Data'!K11,$R$8:$R$37,\"Yes\")","v":0},{"$f":"COUNTIFS($J$8:$J$37,\"No\",$K$8:$K$37,'List Data'!K11,$R$8:$R$37,\"Yes\")","v":0},"",null,null,null,null,null,null,null,null,null,null,null,null,null,null,null,null,null,null,null,null,null,null,null,null,null,null,null,null,null,null,null,null,null,null,null,{"$f":"'List Data'!B43","v":"021-2"},{"$f":"IFERROR(INDEX('Dummy Data'!$M$8:$M$37,SMALL(IF('Dummy Data'!$F$8:$F$37=$BY46,ROW('Dummy Data'!$F$8:$F$37)-7,\"\"),COLUMNS($BZ$4:BZ46))),\"\")","v":""},{"$f":"IFERROR(INDEX('Dummy Data'!$M$8:$M$37,SMALL(IF('Dummy Data'!$F$8:$F$37=$BY46,ROW('Dummy Data'!$F$8:$F$37)-7,\"\"),COLUMNS($BZ$4:CA46))),\"\")","v":""},{"$f":"IFERROR(INDEX('Dummy Data'!$M$8:$M$37,SMALL(IF('Dummy Data'!$F$8:$F$37=$BY46,ROW('Dummy Data'!$F$8:$F$37)-7,\"\"),COLUMNS($BZ$4:CB46))),\"\")","v":""},{"$f":"IFERROR(INDEX('Dummy Data'!$M$8:$M$37,SMALL(IF('Dummy Data'!$F$8:$F$37=$BY46,ROW('Dummy Data'!$F$8:$F$37)-7,\"\"),COLUMNS($BZ$4:CC46))),\"\")","v":""},{"$f":"IFERROR(VLOOKUP(BZ46,'Dummy Data'!$B$73:$C$83,2,FALSE),\"\")","v":""},{"$f":"IFERROR(VLOOKUP(CA46,'Dummy Data'!$B$73:$C$83,2,FALSE),\"\")","v":""},{"$f":"IFERROR(VLOOKUP(CB46,'Dummy Data'!$B$73:$C$83,2,FALSE),\"\")","v":""},{"$f":"IFERROR(VLOOKUP(CC46,'Dummy Data'!$B$73:$C$83,2,FALSE),\"\")","v":""},""]
[null,null,null,null,null,null,null,null,null,null,null,null,null,null,null,null,null,null,null,null,null,null,null,null,null,null,null,null,null,null,null,null,null,null,null,null,null,{"$f":"'List Data'!K12","v":"Staff11"},{"$f":"COUNTIFS($J$8:$J$37,\"yes\",$K$8:$K$37,'List Data'!K12,$R$8:$R$37,\"Yes\")","v":0},{"$f":"COUNTIFS($J$8:$J$37,\"No\",$K$8:$K$37,'List Data'!K12,$R$8:$R$37,\"Yes\")","v":0},"",null,null,null,null,null,null,null,null,null,null,null,null,null,null,null,null,null,null,null,null,null,null,null,null,null,null,null,null,null,null,null,null,null,null,null,{"$f":"'List Data'!B44","v":"022-1"},{"$f":"IFERROR(INDEX('Dummy Data'!$M$8:$M$37,SMALL(IF('Dummy Data'!$F$8:$F$37=$BY47,ROW('Dummy Data'!$F$8:$F$37)-7,\"\"),COLUMNS($BZ$4:BZ47))),\"\")","v":""},{"$f":"IFERROR(INDEX('Dummy Data'!$M$8:$M$37,SMALL(IF('Dummy Data'!$F$8:$F$37=$BY47,ROW('Dummy Data'!$F$8:$F$37)-7,\"\"),COLUMNS($BZ$4:CA47))),\"\")","v":""},{"$f":"IFERROR(INDEX('Dummy Data'!$M$8:$M$37,SMALL(IF('Dummy Data'!$F$8:$F$37=$BY47,ROW('Dummy Data'!$F$8:$F$37)-7,\"\"),COLUMNS($BZ$4:CB47))),\"\")","v":""},{"$f":"IFERROR(INDEX('Dummy Data'!$M$8:$M$37,SMALL(IF('Dummy Data'!$F$8:$F$37=$BY47,ROW('Dummy Data'!$F$8:$F$37)-7,\"\"),COLUMNS($BZ$4:CC47))),\"\")","v":""},{"$f":"IFERROR(VLOOKUP(BZ47,'Dummy Data'!$B$73:$C$83,2,FALSE),\"\")","v":""},{"$f":"IFERROR(VLOOKUP(CA47,'Dummy Data'!$B$73:$C$83,2,FALSE),\"\")","v":""},{"$f":"IFERROR(VLOOKUP(CB47,'Dummy Data'!$B$73:$C$83,2,FALSE),\"\")","v":""},{"$f":"IFERROR(VLOOKUP(CC47,'Dummy Data'!$B$73:$C$83,2,FALSE),\"\")","v":""},""]
[null,null,null,null,null,null,null,null,null,null,null,null,null,null,null,null,null,null,null,null,null,null,null,null,null,null,null,null,null,null,null,null,null,null,null,null,null,{"$f":"'List Data'!K13","v":"Staff12"},{"$f":"COUNTIFS($J$8:$J$37,\"yes\",$K$8:$K$37,'List Data'!K13,$R$8:$R$37,\"Yes\")","v":0},{"$f":"COUNTIFS($J$8:$J$37,\"No\",$K$8:$K$37,'List Data'!K13,$R$8:$R$37,\"Yes\")","v":0},"",null,null,null,null,null,null,null,null,null,null,null,null,null,null,null,null,null,null,null,null,null,null,null,null,null,null,null,null,null,null,null,null,null,null,null,{"$f":"'List Data'!B45","v":"022-2"},{"$f":"IFERROR(INDEX('Dummy Data'!$M$8:$M$37,SMALL(IF('Dummy Data'!$F$8:$F$37=$BY48,ROW('Dummy Data'!$F$8:$F$37)-7,\"\"),COLUMNS($BZ$4:BZ48))),\"\")","v":""},{"$f":"IFERROR(INDEX('Dummy Data'!$M$8:$M$37,SMALL(IF('Dummy Data'!$F$8:$F$37=$BY48,ROW('Dummy Data'!$F$8:$F$37)-7,\"\"),COLUMNS($BZ$4:CA48))),\"\")","v":""},{"$f":"IFERROR(INDEX('Dummy Data'!$M$8:$M$37,SMALL(IF('Dummy Data'!$F$8:$F$37=$BY48,ROW('Dummy Data'!$F$8:$F$37)-7,\"\"),COLUMNS($BZ$4:CB48))),\"\")","v":""},{"$f":"IFERROR(INDEX('Dummy Data'!$M$8:$M$37,SMALL(IF('Dummy Data'!$F$8:$F$37=$BY48,ROW('Dummy Data'!$F$8:$F$37)-7,\"\"),COLUMNS($BZ$4:CC48))),\"\")","v":""},{"$f":"IFERROR(VLOOKUP(BZ48,'Dummy Data'!$B$73:$C$83,2,FALSE),\"\")","v":""},{"$f":"IFERROR(VLOOKUP(CA48,'Dummy Data'!$B$73:$C$83,2,FALSE),\"\")","v":""},{"$f":"IFERROR(VLOOKUP(CB48,'Dummy Data'!$B$73:$C$83,2,FALSE),\"\")","v":""},{"$f":"IFERROR(VLOOKUP(CC48,'Dummy Data'!$B$73:$C$83,2,FALSE),\"\")","v":""},""]
[null,null,null,null,null,null,null,null,null,null,null,null,null,null,null,null,null,null,null,null,null,null,null,null,null,null,null,null,null,null,null,null,null,null,null,null,null,{"$f":"'List Data'!K14","v":"Staff13"},{"$f":"COUNTIFS($J$8:$J$37,\"yes\",$K$8:$K$37,'List Data'!K14,$R$8:$R$37,\"Yes\")","v":0},{"$f":"COUNTIFS($J$8:$J$37,\"No\",$K$8:$K$37,'List Data'!K14,$R$8:$R$37,\"Yes\")","v":0},"",null,null,null,null,null,null,null,null,null,null,null,null,null,null,null,null,null,null,null,null,null,null,null,null,null,null,null,null,null,null,null,null,null,null,null,{"$f":"'List Data'!B46","v":"201-1"},{"$f":"IFERROR(INDEX('Dummy Data'!$M$8:$M$37,SMALL(IF('Dummy Data'!$F$8:$F$37=$BY49,ROW('Dummy Data'!$F$8:$F$37)-7,\"\"),COLUMNS($BZ$4:BZ49))),\"\")","v":""},{"$f":"IFERROR(INDEX('Dummy Data'!$M$8:$M$37,SMALL(IF('Dummy Data'!$F$8:$F$37=$BY49,ROW('Dummy Data'!$F$8:$F$37)-7,\"\"),COLUMNS($BZ$4:CA49))),\"\")","v":""},{"$f":"IFERROR(INDEX('Dummy Data'!$M$8:$M$37,SMALL(IF('Dummy Data'!$F$8:$F$37=$BY49,ROW('Dummy Data'!$F$8:$F$37)-7,\"\"),COLUMNS($BZ$4:CB49))),\"\")","v":""},{"$f":"IFERROR(INDEX('Dummy Data'!$M$8:$M$37,SMALL(IF('Dummy Data'!$F$8:$F$37=$BY49,ROW('Dummy Data'!$F$8:$F$37)-7,\"\"),COLUMNS($BZ$4:CC49))),\"\")","v":""},{"$f":"IFERROR(VLOOKUP(BZ49,'Dummy Data'!$B$73:$C$83,2,FALSE),\"\")","v":""},{"$f":"IFERROR(VLOOKUP(CA49,'Dummy Data'!$B$73:$C$83,2,FALSE),\"\")","v":""},{"$f":"IFERROR(VLOOKUP(CB49,'Dummy Data'!$B$73:$C$83,2,FALSE),\"\")","v":""},{"$f":"IFERROR(VLOOKUP(CC49,'Dummy Data'!$B$73:$C$83,2,FALSE),\"\")","v":""},""]
[null,null,null,null,null,null,null,null,null,null,null,null,null,null,null,null,null,null,null,null,null,null,null,null,null,null,null,null,null,null,null,null,null,null,null,null,null,{"$f":"'List Data'!K15","v":"Staff14"},{"$f":"COUNTIFS($J$8:$J$37,\"yes\",$K$8:$K$37,'List Data'!K15,$R$8:$R$37,\"Yes\")","v":0},{"$f":"COUNTIFS($J$8:$J$37,\"No\",$K$8:$K$37,'List Data'!K15,$R$8:$R$37,\"Yes\")","v":0},"",null,null,null,null,null,null,null,null,null,null,null,null,null,null,null,null,null,null,null,null,null,null,null,null,null,null,null,null,null,null,null,null,null,null,null,{"$f":"'List Data'!B47","v":"201-2"},{"$f":"IFERROR(INDEX('Dummy Data'!$M$8:$M$37,SMALL(IF('Dummy Data'!$F$8:$F$37=$BY50,ROW('Dummy Data'!$F$8:$F$37)-7,\"\"),COLUMNS($BZ$4:BZ50))),\"\")","v":""},{"$f":"IFERROR(INDEX('Dummy Data'!$M$8:$M$37,SMALL(IF('Dummy Data'!$F$8:$F$37=$BY50,ROW('Dummy Data'!$F$8:$F$37)-7,\"\"),COLUMNS($BZ$4:CA50))),\"\")","v":""},{"$f":"IFERROR(INDEX('Dummy Data'!$M$8:$M$37,SMALL(IF('Dummy Data'!$F$8:$F$37=$BY50,ROW('Dummy Data'!$F$8:$F$37)-7,\"\"),COLUMNS($BZ$4:CB50))),\"\")","v":""},{"$f":"IFERROR(INDEX('Dummy Data'!$M$8:$M$37,SMALL(IF('Dummy Data'!$F$8:$F$37=$BY50,ROW('Dummy Data'!$F$8:$F$37)-7,\"\"),COLUMNS($BZ$4:CC50))),\"\")","v":""},{"$f":"IFERROR(VLOOKUP(BZ50,'Dummy Data'!$B$73:$C$83,2,FALSE),\"\")","v":""},{"$f":"IFERROR(VLOOKUP(CA50,'Dummy Data'!$B$73:$C$83,2,FALSE),\"\")","v":""},{"$f":"IFERROR(VLOOKUP(CB50,'Dummy Data'!$B$73:$C$83,2,FALSE),\"\")","v":""},{"$f":"IFERROR(VLOOKUP(CC50,'Dummy Data'!$B$73:$C$83,2,FALSE),\"\")","v":""},""]
[null,null,null,null,null,null,null,null,null,null,null,null,null,null,null,null,null,null,null,null,null,null,null,null,null,null,null,null,null,null,null,null,null,null,null,null,null,{"$f":"'List Data'!K16","v":"Staff15"},{"$f":"COUNTIFS($J$8:$J$37,\"yes\",$K$8:$K$37,'List Data'!K16,$R$8:$R$37,\"Yes\")","v":0},{"$f":"COUNTIFS($J$8:$J$37,\"No\",$K$8:$K$37,'List Data'!K16,$R$8:$R$37,\"Yes\")","v":0},"",null,null,null,null,null,null,null,null,null,null,null,null,null,null,null,null,null,null,null,null,null,null,null,null,null,null,null,null,null,null,null,null,null,null,null,{"$f":"'List Data'!B48","v":"202-1"},{"$f":"IFERROR(INDEX('Dummy Data'!$M$8:$M$37,SMALL(IF('Dummy Data'!$F$8:$F$37=$BY51,ROW('Dummy Data'!$F$8:$F$37)-7,\"\"),COLUMNS($BZ$4:BZ51))),\"\")","v":""},{"$f":"IFERROR(INDEX('Dummy Data'!$M$8:$M$37,SMALL(IF('Dummy Data'!$F$8:$F$37=$BY51,ROW('Dummy Data'!$F$8:$F$37)-7,\"\"),COLUMNS($BZ$4:CA51))),\"\")","v":""},{"$f":"IFERROR(INDEX('Dummy Data'!$M$8:$M$37,SMALL(IF('Dummy Data'!$F$8:$F$37=$BY51,ROW('Dummy Data'!$F$8:$F$37)-7,\"\"),COLUMNS($BZ$4:CB51))),\"\")","v":""},{"$f":"IFERROR(INDEX('Dummy Data'!$M$8:$M$37,SMALL(IF('Dummy Data'!$F$8:$F$37=$BY51,ROW('Dummy Data'!$F$8:$F$37)-7,\"\"),COLUMNS($BZ$4:CC51))),\"\")","v":""},{"$f":"IFERROR(VLOOKUP(BZ51,'Dummy Data'!$B$73:$C$83,2,FALSE),\"\")","v":""},{"$f":"IFERROR(VLOOKUP(CA51,'Dummy Data'!$B$73:$C$83,2,FALSE),\"\")","v":""},{"$f":"IFERROR(VLOOKUP(CB51,'Dummy Data'!$B$73:$C$83,2,FALSE),\"\")","v":""},{"$f":"IFERROR(VLOOKUP(CC51,'Dummy Data'!$B$73:$C$83,2,FALSE),\"\")","v":""},""]
[null,null,null,null,null,null,null,null,null,null,null,null,null,null,null,null,null,null,null,null,null,null,null,null,null,null,null,null,null,null,null,null,null,null,null,null,null,{"$f":"'List Data'!K17","v":"Staff16"},{"$f":"COUNTIFS($J$8:$J$37,\"yes\",$K$8:$K$37,'List Data'!K17,$R$8:$R$37,\"Yes\")","v":0},{"$f":"COUNTIFS($J$8:$J$37,\"No\",$K$8:$K$37,'List Data'!K17,$R$8:$R$37,\"Yes\")","v":0},"",null,null,null,null,null,null,null,null,null,null,null,null,null,null,null,null,null,null,null,null,null,null,null,null,null,null,null,null,null,null,null,null,null,null,null,{"$f":"'List Data'!B49","v":"202-2"},{"$f":"IFERROR(INDEX('Dummy Data'!$M$8:$M$37,SMALL(IF('Dummy Data'!$F$8:$F$37=$BY52,ROW('Dummy Data'!$F$8:$F$37)-7,\"\"),COLUMNS($BZ$4:BZ52))),\"\")","v":""},{"$f":"IFERROR(INDEX('Dummy Data'!$M$8:$M$37,SMALL(IF('Dummy Data'!$F$8:$F$37=$BY52,ROW('Dummy Data'!$F$8:$F$37)-7,\"\"),COLUMNS($BZ$4:CA52))),\"\")","v":""},{"$f":"IFERROR(INDEX('Dummy Data'!$M$8:$M$37,SMALL(IF('Dummy Data'!$F$8:$F$37=$BY52,ROW('Dummy Data'!$F$8:$F$37)-7,\"\"),COLUMNS($BZ$4:CB52))),\"\")","v":""},{"$f":"IFERROR(INDEX('Dummy Data'!$M$8:$M$37,SMALL(IF('Dummy Data'!$F$8:$F$37=$BY52,ROW('Dummy Data'!$F$8:$F$37)-7,\"\"),COLUMNS($BZ$4:CC52))),\"\")","v":""},{"$f":"IFERROR(VLOOKUP(BZ52,'Dummy Data'!$B$73:$C$83,2,FALSE),\"\")","v":""},{"$f":"IFERROR(VLOOKUP(CA52,'Dummy Data'!$B$73:$C$83,2,FALSE),\"\")","v":""},{"$f":"IFERROR(VLOOKUP(CB52,'Dummy Data'!$B$73:$C$83,2,FALSE),\"\")","v":""},{"$f":"IFERROR(VLOOKUP(CC52,'Dummy Data'!$B$73:$C$83,2,FALSE),\"\")","v":""},""]
[null,null,null,null,null,null,null,null,null,null,null,null,null,null,null,null,null,null,null,null,null,null,null,null,null,null,null,null,null,null,null,null,null,null,null,null,null,{"$f":"'List Data'!K18","v":"Staff17"},{"$f":"COUNTIFS($J$8:$J$37,\"yes\",$K$8:$K$37,'List Data'!K18,$R$8:$R$37,\"Yes\")","v":0},{"$f":"COUNTIFS($J$8:$J$37,\"No\",$K$8:$K$37,'List Data'!K18,$R$8:$R$37,\"Yes\")","v":0},"",null,null,null,null,null,null,null,null,null,null,null,null,null,null,null,null,null,null,null,null,null,null,null,null,null,null,null,null,null,null,null,null,null,null,null,{"$f":"'List Data'!B50","v":"203-1"},{"$f":"IFERROR(INDEX('Dummy Data'!$M$8:$M$37,SMALL(IF('Dummy Data'!$F$8:$F$37=$BY53,ROW('Dummy Data'!$F$8:$F$37)-7,\"\"),COLUMNS($BZ$4:BZ53))),\"\")","v":""},{"$f":"IFERROR(INDEX('Dummy Data'!$M$8:$M$37,SMALL(IF('Dummy Data'!$F$8:$F$37=$BY53,ROW('Dummy Data'!$F$8:$F$37)-7,\"\"),COLUMNS($BZ$4:CA53))),\"\")","v":""},{"$f":"IFERROR(INDEX('Dummy Data'!$M$8:$M$37,SMALL(IF('Dummy Data'!$F$8:$F$37=$BY53,ROW('Dummy Data'!$F$8:$F$37)-7,\"\"),COLUMNS($BZ$4:CB53))),\"\")","v":""},{"$f":"IFERROR(INDEX('Dummy Data'!$M$8:$M$37,SMALL(IF('Dummy Data'!$F$8:$F$37=$BY53,ROW('Dummy Data'!$F$8:$F$37)-7,\"\"),COLUMNS($BZ$4:CC53))),\"\")","v":""},{"$f":"IFERROR(VLOOKUP(BZ53,'Dummy Data'!$B$73:$C$83,2,FALSE),\"\")","v":""},{"$f":"IFERROR(VLOOKUP(CA53,'Dummy Data'!$B$73:$C$83,2,FALSE),\"\")","v":""},{"$f":"IFERROR(VLOOKUP(CB53,'Dummy Data'!$B$73:$C$83,2,FALSE),\"\")","v":""},{"$f":"IFERROR(VLOOKUP(CC53,'Dummy Data'!$B$73:$C$83,2,FALSE),\"\")","v":""},""]
[null,null,null,null,null,null,null,null,null,null,null,null,null,null,null,null,null,null,null,null,null,null,null,null,null,null,null,null,null,null,null,null,null,null,null,null,null,{"$f":"'List Data'!K19","v":"Staff18"},{"$f":"COUNTIFS($J$8:$J$37,\"yes\",$K$8:$K$37,'List Data'!K19,$R$8:$R$37,\"Yes\")","v":0},{"$f":"COUNTIFS($J$8:$J$37,\"No\",$K$8:$K$37,'List Data'!K19,$R$8:$R$37,\"Yes\")","v":0},"",null,null,null,null,null,null,null,null,null,null,null,null,null,null,null,null,null,null,null,null,null,null,null,null,null,null,null,null,null,null,null,null,null,null,null,{"$f":"'List Data'!B51","v":"203-2"},{"$f":"IFERROR(INDEX('Dummy Data'!$M$8:$M$37,SMALL(IF('Dummy Data'!$F$8:$F$37=$BY54,ROW('Dummy Data'!$F$8:$F$37)-7,\"\"),COLUMNS($BZ$4:BZ54))),\"\")","v":""},{"$f":"IFERROR(INDEX('Dummy Data'!$M$8:$M$37,SMALL(IF('Dummy Data'!$F$8:$F$37=$BY54,ROW('Dummy Data'!$F$8:$F$37)-7,\"\"),COLUMNS($BZ$4:CA54))),\"\")","v":""},{"$f":"IFERROR(INDEX('Dummy Data'!$M$8:$M$37,SMALL(IF('Dummy Data'!$F$8:$F$37=$BY54,ROW('Dummy Data'!$F$8:$F$37)-7,\"\"),COLUMNS($BZ$4:CB54))),\"\")","v":""},{"$f":"IFERROR(INDEX('Dummy Data'!$M$8:$M$37,SMALL(IF('Dummy Data'!$F$8:$F$37=$BY54,ROW('Dummy Data'!$F$8:$F$37)-7,\"\"),COLUMNS($BZ$4:CC54))),\"\")","v":""},{"$f":"IFERROR(VLOOKUP(BZ54,'Dummy Data'!$B$73:$C$83,2,FALSE),\"\")","v":""},{"$f":"IFERROR(VLOOKUP(CA54,'Dummy Data'!$B$73:$C$83,2,FALSE),\"\")","v":""},{"$f":"IFERROR(VLOOKUP(CB54,'Dummy Data'!$B$73:$C$83,2,FALSE),\"\")","v":""},{"$f":"IFERROR(VLOOKUP(CC54,'Dummy Data'!$B$73:$C$83,2,FALSE),\"\")","v":""},""]
[null,null,null,null,null,null,null,null,null,null,null,null,null,null,null,null,null,null,null,null,null,null,null,null,null,null,null,null,null,null,null,null,null,null,null,null,null,{"$f":"'List Data'!K20","v":"Staff19"},{"$f":"COUNTIFS($J$8:$J$37,\"yes\",$K$8:$K$37,'List Data'!K20,$R$8:$R$37,\"Yes\")","v":0},{"$f":"COUNTIFS($J$8:$J$37,\"No\",$K$8:$K$37,'List Data'!K20,$R$8:$R$37,\"Yes\")","v":0},"",null,null,null,null,null,null,null,null,null,null,null,null,null,null,null,null,null,null,null,null,null,null,null,null,null,null,null,null,null,null,null,null,null,null,null,{"$f":"'List Data'!B52","v":"204-1"},{"$f":"IFERROR(INDEX('Dummy Data'!$M$8:$M$37,SMALL(IF('Dummy Data'!$F$8:$F$37=$BY55,ROW('Dummy Data'!$F$8:$F$37)-7,\"\"),COLUMNS($BZ$4:BZ55))),\"\")","v":""},{"$f":"IFERROR(INDEX('Dummy Data'!$M$8:$M$37,SMALL(IF('Dummy Data'!$F$8:$F$37=$BY55,ROW('Dummy Data'!$F$8:$F$37)-7,\"\"),COLUMNS($BZ$4:CA55))),\"\")","v":""},{"$f":"IFERROR(INDEX('Dummy Data'!$M$8:$M$37,SMALL(IF('Dummy Data'!$F$8:$F$37=$BY55,ROW('Dummy Data'!$F$8:$F$37)-7,\"\"),COLUMNS($BZ$4:CB55))),\"\")","v":""},{"$f":"IFERROR(INDEX('Dummy Data'!$M$8:$M$37,SMALL(IF('Dummy Data'!$F$8:$F$37=$BY55,ROW('Dummy Data'!$F$8:$F$37)-7,\"\"),COLUMNS($BZ$4:CC55))),\"\")","v":""},{"$f":"IFERROR(VLOOKUP(BZ55,'Dummy Data'!$B$73:$C$83,2,FALSE),\"\")","v":""},{"$f":"IFERROR(VLOOKUP(CA55,'Dummy Data'!$B$73:$C$83,2,FALSE),\"\")","v":""},{"$f":"IFERROR(VLOOKUP(CB55,'Dummy Data'!$B$73:$C$83,2,FALSE),\"\")","v":""},{"$f":"IFERROR(VLOOKUP(CC55,'Dummy Data'!$B$73:$C$83,2,FALSE),\"\")","v":""},""]
[null,null,null,null,null,null,null,null,null,null,null,null,null,null,null,null,null,null,null,null,null,null,null,null,null,null,null,null,null,null,null,null,null,null,null,null,null,{"$f":"'List Data'!K21","v":"Staff20"},{"$f":"COUNTIFS($J$8:$J$37,\"yes\",$K$8:$K$37,'List Data'!K21,$R$8:$R$37,\"Yes\")","v":0},{"$f":"COUNTIFS($J$8:$J$37,\"No\",$K$8:$K$37,'List Data'!K21,$R$8:$R$37,\"Yes\")","v":0},"",null,null,null,null,null,null,null,null,null,null,null,null,null,null,null,null,null,null,null,null,null,null,null,null,null,null,null,null,null,null,null,null,null,null,null,{"$f":"'List Data'!B53","v":"204-2"},{"$f":"IFERROR(INDEX('Dummy Data'!$M$8:$M$37,SMALL(IF('Dummy Data'!$F$8:$F$37=$BY56,ROW('Dummy Data'!$F$8:$F$37)-7,\"\"),COLUMNS($BZ$4:BZ56))),\"\")","v":""},{"$f":"IFERROR(INDEX('Dummy Data'!$M$8:$M$37,SMALL(IF('Dummy Data'!$F$8:$F$37=$BY56,ROW('Dummy Data'!$F$8:$F$37)-7,\"\"),COLUMNS($BZ$4:CA56))),\"\")","v":""},{"$f":"IFERROR(INDEX('Dummy Data'!$M$8:$M$37,SMALL(IF('Dummy Data'!$F$8:$F$37=$BY56,ROW('Dummy Data'!$F$8:$F$37)-7,\"\"),COLUMNS($BZ$4:CB56))),\"\")","v":""},{"$f":"IFERROR(INDEX('Dummy Data'!$M$8:$M$37,SMALL(IF('Dummy Data'!$F$8:$F$37=$BY56,ROW('Dummy Data'!$F$8:$F$37)-7,\"\"),COLUMNS($BZ$4:CC56))),\"\")","v":""},{"$f":"IFERROR(VLOOKUP(BZ56,'Dummy Data'!$B$73:$C$83,2,FALSE),\"\")","v":""},{"$f":"IFERROR(VLOOKUP(CA56,'Dummy Data'!$B$73:$C$83,2,FALSE),\"\")","v":""},{"$f":"IFERROR(VLOOKUP(CB56,'Dummy Data'!$B$73:$C$83,2,FALSE),\"\")","v":""},{"$f":"IFERROR(VLOOKUP(CC56,'Dummy Data'!$B$73:$C$83,2,FALSE),\"\")","v":""},""]
[null,null,null,null,null,null,null,null,null,null,null,null,null,null,null,null,null,null,null,null,null,null,null,null,null,null,null,null,null,null,null,null,null,null,null,null,null,{"$f":"'List Data'!K22","v":"Staff21"},{"$f":"COUNTIFS($J$8:$J$37,\"yes\",$K$8:$K$37,'List Data'!K22,$R$8:$R$37,\"Yes\")","v":0},{"$f":"COUNTIFS($J$8:$J$37,\"No\",$K$8:$K$37,'List Data'!K22,$R$8:$R$37,\"Yes\")","v":0},"",null,null,null,null,null,null,null,null,null,null,null,null,null,null,null,null,null,null,null,null,null,null,null,null,null,null,null,null,null,null,null,null,null,null,null,{"$f":"'List Data'!B54","v":"205-1"},{"$f":"IFERROR(INDEX('Dummy Data'!$M$8:$M$37,SMALL(IF('Dummy Data'!$F$8:$F$37=$BY57,ROW('Dummy Data'!$F$8:$F$37)-7,\"\"),COLUMNS($BZ$4:BZ57))),\"\")","v":""},{"$f":"IFERROR(INDEX('Dummy Data'!$M$8:$M$37,SMALL(IF('Dummy Data'!$F$8:$F$37=$BY57,ROW('Dummy Data'!$F$8:$F$37)-7,\"\"),COLUMNS($BZ$4:CA57))),\"\")","v":""},{"$f":"IFERROR(INDEX('Dummy Data'!$M$8:$M$37,SMALL(IF('Dummy Data'!$F$8:$F$37=$BY57,ROW('Dummy Data'!$F$8:$F$37)-7,\"\"),COLUMNS($BZ$4:CB57))),\"\")","v":""},{"$f":"IFERROR(INDEX('Dummy Data'!$M$8:$M$37,SMALL(IF('Dummy Data'!$F$8:$F$37=$BY57,ROW('Dummy Data'!$F$8:$F$37)-7,\"\"),COLUMNS($BZ$4:CC57))),\"\")","v":""},{"$f":"IFERROR(VLOOKUP(BZ57,'Dummy Data'!$B$73:$C$83,2,FALSE),\"\")","v":""},{"$f":"IFERROR(VLOOKUP(CA57,'Dummy Data'!$B$73:$C$83,2,FALSE),\"\")","v":""},{"$f":"IFERROR(VLOOKUP(CB57,'Dummy Data'!$B$73:$C$83,2,FALSE),\"\")","v":""},{"$f":"IFERROR(VLOOKUP(CC57,'Dummy Data'!$B$73:$C$83,2,FALSE),\"\")","v":""},""]
[null,null,null,null,null,null,null,null,null,null,null,null,null,null,null,null,null,null,null,null,null,null,null,null,null,null,null,null,null,null,null,null,null,null,null,null,null,{"$f":"'List Data'!K23","v":"Staff22"},{"$f":"COUNTIFS($J$8:$J$37,\"yes\",$K$8:$K$37,'List Data'!K23,$R$8:$R$37,\"Yes\")","v":0},{"$f":"COUNTIFS($J$8:$J$37,\"No\",$K$8:$K$37,'List Data'!K23,$R$8:$R$37,\"Yes\")","v":0},"",null,null,null,null,null,null,null,null,null,null,null,null,null,null,null,null,null,null,null,null,null,null,null,null,null,null,null,null,null,null,null,null,null,null,null,{"$f":"'List Data'!B55","v":"205-2"},{"$f":"IFERROR(INDEX('Dummy Data'!$M$8:$M$37,SMALL(IF('Dummy Data'!$F$8:$F$37=$BY58,ROW('Dummy Data'!$F$8:$F$37)-7,\"\"),COLUMNS($BZ$4:BZ58))),\"\")","v":""},{"$f":"IFERROR(INDEX('Dummy Data'!$M$8:$M$37,SMALL(IF('Dummy Data'!$F$8:$F$37=$BY58,ROW('Dummy Data'!$F$8:$F$37)-7,\"\"),COLUMNS($BZ$4:CA58))),\"\")","v":""},{"$f":"IFERROR(INDEX('Dummy Data'!$M$8:$M$37,SMALL(IF('Dummy Data'!$F$8:$F$37=$BY58,ROW('Dummy Data'!$F$8:$F$37)-7,\"\"),COLUMNS($BZ$4:CB58))),\"\")","v":""},{"$f":"IFERROR(INDEX('Dummy Data'!$M$8:$M$37,SMALL(IF('Dummy Data'!$F$8:$F$37=$BY58,ROW('Dummy Data'!$F$8:$F$37)-7,\"\"),COLUMNS($BZ$4:CC58))),\"\")","v":""},{"$f":"IFERROR(VLOOKUP(BZ58,'Dummy Data'!$B$73:$C$83,2,FALSE),\"\")","v":""},{"$f":"IFERROR(VLOOKUP(CA58,'Dummy Data'!$B$73:$C$83,2,FALSE),\"\")","v":""},{"$f":"IFERROR(VLOOKUP(CB58,'Dummy Data'!$B$73:$C$83,2,FALSE),\"\")","v":""},{"$f":"IFERROR(VLOOKUP(CC58,'Dummy Data'!$B$73:$C$83,2,FALSE),\"\")","v":""},""]
[null,null,null,null,null,null,null,null,null,null,null,null,null,null,null,null,null,null,null,null,null,null,null,null,null,null,null,null,null,null,null,null,null,null,null,null,null,{"$f":"'List Data'!K24","v":"Staff23"},{"$f":"COUNTIFS($J$8:$J$37,\"yes\",$K$8:$K$37,'List Data'!K24,$R$8:$R$37,\"Yes\")","v":0},{"$f":"COUNTIFS($J$8:$J$37,\"No\",$K$8:$K$37,'List Data'!K24,$R$8:$R$37,\"Yes\")","v":0},"",null,null,null,null,null,null,null,null,null,null,null,null,null,null,null,null,null,null,null,null,null,null,null,null,null,null,null,null,null,null,null,null,null,null,null,{"$f":"'List Data'!B56","v":"206-1"},{"$f":"IFERROR(INDEX('Dummy Data'!$M$8:$M$37,SMALL(IF('Dummy Data'!$F$8:$F$37=$BY59,ROW('Dummy Data'!$F$8:$F$37)-7,\"\"),COLUMNS($BZ$4:BZ59))),\"\")","v":""},{"$f":"IFERROR(INDEX('Dummy Data'!$M$8:$M$37,SMALL(IF('Dummy Data'!$F$8:$F$37=$BY59,ROW('Dummy Data'!$F$8:$F$37)-7,\"\"),COLUMNS($BZ$4:CA59))),\"\")","v":""},{"$f":"IFERROR(INDEX('Dummy Data'!$M$8:$M$37,SMALL(IF('Dummy Data'!$F$8:$F$37=$BY59,ROW('Dummy Data'!$F$8:$F$37)-7,\"\"),COLUMNS($BZ$4:CB59))),\"\")","v":""},{"$f":"IFERROR(INDEX('Dummy Data'!$M$8:$M$37,SMALL(IF('Dummy Data'!$F$8:$F$37=$BY59,ROW('Dummy Data'!$F$8:$F$37)-7,\"\"),COLUMNS($BZ$4:CC59))),\"\")","v":""},{"$f":"IFERROR(VLOOKUP(BZ59,'Dummy Data'!$B$73:$C$83,2,FALSE),\"\")","v":""},{"$f":"IFERROR(VLOOKUP(CA59,'Dummy Data'!$B$73:$C$83,2,FALSE),\"\")","v":""},{"$f":"IFERROR(VLOOKUP(CB59,'Dummy Data'!$B$73:$C$83,2,FALSE),\"\")","v":""},{"$f":"IFERROR(VLOOKUP(CC59,'Dummy Data'!$B$73:$C$83,2,FALSE),\"\")","v":""},""]
[null,null,null,null,null,null,null,null,null,null,null,null,null,null,null,null,null,null,null,null,null,null,null,null,null,null,null,null,null,null,null,null,null,null,null,null,null,{"$f":"'List Data'!K25","v":"Staff24"},{"$f":"COUNTIFS($J$8:$J$37,\"yes\",$K$8:$K$37,'List Data'!K25,$R$8:$R$37,\"Yes\")","v":0},{"$f":"COUNTIFS($J$8:$J$37,\"No\",$K$8:$K$37,'List Data'!K25,$R$8:$R$37,\"Yes\")","v":0},"",null,null,null,null,null,null,null,null,null,null,null,null,null,null,null,null,null,null,null,null,null,null,null,null,null,null,null,null,null,null,null,null,null,null,null,{"$f":"'List Data'!B57","v":"206-2"},{"$f":"IFERROR(INDEX('Dummy Data'!$M$8:$M$37,SMALL(IF('Dummy Data'!$F$8:$F$37=$BY60,ROW('Dummy Data'!$F$8:$F$37)-7,\"\"),COLUMNS($BZ$4:BZ60))),\"\")","v":""},{"$f":"IFERROR(INDEX('Dummy Data'!$M$8:$M$37,SMALL(IF('Dummy Data'!$F$8:$F$37=$BY60,ROW('Dummy Data'!$F$8:$F$37)-7,\"\"),COLUMNS($BZ$4:CA60))),\"\")","v":""},{"$f":"IFERROR(INDEX('Dummy Data'!$M$8:$M$37,SMALL(IF('Dummy Data'!$F$8:$F$37=$BY60,ROW('Dummy Data'!$F$8:$F$37)-7,\"\"),COLUMNS($BZ$4:CB60))),\"\")","v":""},{"$f":"IFERROR(INDEX('Dummy Data'!$M$8:$M$37,SMALL(IF('Dummy Data'!$F$8:$F$37=$BY60,ROW('Dummy Data'!$F$8:$F$37)-7,\"\"),COLUMNS($BZ$4:CC60))),\"\")","v":""},{"$f":"IFERROR(VLOOKUP(BZ60,'Dummy Data'!$B$73:$C$83,2,FALSE),\"\")","v":""},{"$f":"IFERROR(VLOOKUP(CA60,'Dummy Data'!$B$73:$C$83,2,FALSE),\"\")","v":""},{"$f":"IFERROR(VLOOKUP(CB60,'Dummy Data'!$B$73:$C$83,2,FALSE),\"\")","v":""},{"$f":"IFERROR(VLOOKUP(CC60,'Dummy Data'!$B$73:$C$83,2,FALSE),\"\")","v":""},""]
[null,null,null,null,null,null,null,null,null,null,null,null,null,null,null,null,null,null,null,null,null,null,null,null,null,null,null,null,null,null,null,null,null,null,null,null,null,{"$f":"'List Data'!K26","v":"Staff25"},{"$f":"COUNTIFS($J$8:$J$37,\"yes\",$K$8:$K$37,'List Data'!K26,$R$8:$R$37,\"Yes\")","v":0},{"$f":"COUNTIFS($J$8:$J$37,\"No\",$K$8:$K$37,'List Data'!K26,$R$8:$R$37,\"Yes\")","v":0},"",null,null,null,null,null,null,null,null,null,null,null,null,null,null,null,null,null,null,null,null,null,null,null,null,null,null,null,null,null,null,null,null,null,null,null,{"$f":"'List Data'!B58","v":"207-1"},{"$f":"IFERROR(INDEX('Dummy Data'!$M$8:$M$37,SMALL(IF('Dummy Data'!$F$8:$F$37=$BY61,ROW('Dummy Data'!$F$8:$F$37)-7,\"\"),COLUMNS($BZ$4:BZ61))),\"\")","v":""},{"$f":"IFERROR(INDEX('Dummy Data'!$M$8:$M$37,SMALL(IF('Dummy Data'!$F$8:$F$37=$BY61,ROW('Dummy Data'!$F$8:$F$37)-7,\"\"),COLUMNS($BZ$4:CA61))),\"\")","v":""},{"$f":"IFERROR(INDEX('Dummy Data'!$M$8:$M$37,SMALL(IF('Dummy Data'!$F$8:$F$37=$BY61,ROW('Dummy Data'!$F$8:$F$37)-7,\"\"),COLUMNS($BZ$4:CB61))),\"\")","v":""},{"$f":"IFERROR(INDEX('Dummy Data'!$M$8:$M$37,SMALL(IF('Dummy Data'!$F$8:$F$37=$BY61,ROW('Dummy Data'!$F$8:$F$37)-7,\"\"),COLUMNS($BZ$4:CC61))),\"\")","v":""},{"$f":"IFERROR(VLOOKUP(BZ61,'Dummy Data'!$B$73:$C$83,2,FALSE),\"\")","v":""},{"$f":"IFERROR(VLOOKUP(CA61,'Dummy Data'!$B$73:$C$83,2,FALSE),\"\")","v":""},{"$f":"IFERROR(VLOOKUP(CB61,'Dummy Data'!$B$73:$C$83,2,FALSE),\"\")","v":""},{"$f":"IFERROR(VLOOKUP(CC61,'Dummy Data'!$B$73:$C$83,2,FALSE),\"\")","v":""},""]
[null,null,null,null,null,null,null,null,null,null,null,null,null,null,null,null,null,null,null,null,null,null,null,null,null,null,null,null,null,null,null,null,null,null,null,null,null,{"$f":"'List Data'!K27","v":"Staff26"},{"$f":"COUNTIFS($J$8:$J$37,\"yes\",$K$8:$K$37,'List Data'!K27,$R$8:$R$37,\"Yes\")","v":0},{"$f":"COUNTIFS($J$8:$J$37,\"No\",$K$8:$K$37,'List Data'!K27,$R$8:$R$37,\"Yes\")","v":0},"",null,null,null,null,null,null,null,null,null,null,null,null,null,null,null,null,null,null,null,null,null,null,null,null,null,null,null,null,null,null,null,null,null,null,null,{"$f":"'List Data'!B59","v":"207-2"},{"$f":"IFERROR(INDEX('Dummy Data'!$M$8:$M$37,SMALL(IF('Dummy Data'!$F$8:$F$37=$BY62,ROW('Dummy Data'!$F$8:$F$37)-7,\"\"),COLUMNS($BZ$4:BZ62))),\"\")","v":""},{"$f":"IFERROR(INDEX('Dummy Data'!$M$8:$M$37,SMALL(IF('Dummy Data'!$F$8:$F$37=$BY62,ROW('Dummy Data'!$F$8:$F$37)-7,\"\"),COLUMNS($BZ$4:CA62))),\"\")","v":""},{"$f":"IFERROR(INDEX('Dummy Data'!$M$8:$M$37,SMALL(IF('Dummy Data'!$F$8:$F$37=$BY62,ROW('Dummy Data'!$F$8:$F$37)-7,\"\"),COLUMNS($BZ$4:CB62))),\"\")","v":""},{"$f":"IFERROR(INDEX('Dummy Data'!$M$8:$M$37,SMALL(IF('Dummy Data'!$F$8:$F$37=$BY62,ROW('Dummy Data'!$F$8:$F$37)-7,\"\"),COLUMNS($BZ$4:CC62))),\"\")","v":""},{"$f":"IFERROR(VLOOKUP(BZ62,'Dummy Data'!$B$73:$C$83,2,FALSE),\"\")","v":""},{"$f":"IFERROR(VLOOKUP(CA62,'Dummy Data'!$B$73:$C$83,2,FALSE),\"\")","v":""},{"$f":"IFERROR(VLOOKUP(CB62,'Dummy Data'!$B$73:$C$83,2,FALSE),\"\")","v":""},{"$f":"IFERROR(VLOOKUP(CC62,'Dummy Data'!$B$73:$C$83,2,FALSE),\"\")","v":""},""]
[null,null,null,null,null,null,null,null,null,null,null,null,null,null,null,null,null,null,null,null,null,null,null,null,null,null,null,null,null,null,null,null,null,null,null,null,null,{"$f":"'List Data'!K28","v":"Staff27"},{"$f":"COUNTIFS($J$8:$J$37,\"yes\",$K$8:$K$37,'List Data'!K28,$R$8:$R$37,\"Yes\")","v":0},{"$f":"COUNTIFS($J$8:$J$37,\"No\",$K$8:$K$37,'List Data'!K28,$R$8:$R$37,\"Yes\")","v":0},"",null,null,null,null,null,null,null,null,null,null,null,null,null,null,null,null,null,null,null,null,null,null,null,null,null,null,null,null,null,null,null,null,null,null,null,{"$f":"'List Data'!B60","v":"208-1"},{"$f":"IFERROR(INDEX('Dummy Data'!$M$8:$M$37,SMALL(IF('Dummy Data'!$F$8:$F$37=$BY63,ROW('Dummy Data'!$F$8:$F$37)-7,\"\"),COLUMNS($BZ$4:BZ63))),\"\")","v":""},{"$f":"IFERROR(INDEX('Dummy Data'!$M$8:$M$37,SMALL(IF('Dummy Data'!$F$8:$F$37=$BY63,ROW('Dummy Data'!$F$8:$F$37)-7,\"\"),COLUMNS($BZ$4:CA63))),\"\")","v":""},{"$f":"IFERROR(INDEX('Dummy Data'!$M$8:$M$37,SMALL(IF('Dummy Data'!$F$8:$F$37=$BY63,ROW('Dummy Data'!$F$8:$F$37)-7,\"\"),COLUMNS($BZ$4:CB63))),\"\")","v":""},{"$f":"IFERROR(INDEX('Dummy Data'!$M$8:$M$37,SMALL(IF('Dummy Data'!$F$8:$F$37=$BY63,ROW('Dummy Data'!$F$8:$F$37)-7,\"\"),COLUMNS($BZ$4:CC63))),\"\")","v":""},{"$f":"IFERROR(VLOOKUP(BZ63,'Dummy Data'!$B$73:$C$83,2,FALSE),\"\")","v":""},{"$f":"IFERROR(VLOOKUP(CA63,'Dummy Data'!$B$73:$C$83,2,FALSE),\"\")","v":""},{"$f":"IFERROR(VLOOKUP(CB63,'Dummy Data'!$B$73:$C$83,2,FALSE),\"\")","v":""},{"$f":"IFERROR(VLOOKUP(CC63,'Dummy Data'!$B$73:$C$83,2,FALSE),\"\")","v":""},""]
[null,null,null,null,null,null,null,null,null,null,null,null,null,null,null,null,null,null,null,null,null,null,null,null,null,null,null,null,null,null,null,null,null,null,null,null,null,{"$f":"'List Data'!K29","v":"Staff28"},{"$f":"COUNTIFS($J$8:$J$37,\"yes\",$K$8:$K$37,'List Data'!K29,$R$8:$R$37,\"Yes\")","v":0},{"$f":"COUNTIFS($J$8:$J$37,\"No\",$K$8:$K$37,'List Data'!K29,$R$8:$R$37,\"Yes\")","v":0},"",null,null,null,null,null,null,null,null,null,null,null,null,null,null,null,null,null,null,null,null,null,null,null,null,null,null,null,null,null,null,null,null,null,null,null,{"$f":"'List Data'!B61","v":"208-2"},{"$f":"IFERROR(INDEX('Dummy Data'!$M$8:$M$37,SMALL(IF('Dummy Data'!$F$8:$F$37=$BY64,ROW('Dummy Data'!$F$8:$F$37)-7,\"\"),COLUMNS($BZ$4:BZ64))),\"\")","v":""},{"$f":"IFERROR(INDEX('Dummy Data'!$M$8:$M$37,SMALL(IF('Dummy Data'!$F$8:$F$37=$BY64,ROW('Dummy Data'!$F$8:$F$37)-7,\"\"),COLUMNS($BZ$4:CA64))),\"\")","v":""},{"$f":"IFERROR(INDEX('Dummy Data'!$M$8:$M$37,SMALL(IF('Dummy Data'!$F$8:$F$37=$BY64,ROW('Dummy Data'!$F$8:$F$37)-7,\"\"),COLUMNS($BZ$4:CB64))),\"\")","v":""},{"$f":"IFERROR(INDEX('Dummy Data'!$M$8:$M$37,SMALL(IF('Dummy Data'!$F$8:$F$37=$BY64,ROW('Dummy Data'!$F$8:$F$37)-7,\"\"),COLUMNS($BZ$4:CC64))),\"\")","v":""},{"$f":"IFERROR(VLOOKUP(BZ64,'Dummy Data'!$B$73:$C$83,2,FALSE),\"\")","v":""},{"$f":"IFERROR(VLOOKUP(CA64,'Dummy Data'!$B$73:$C$83,2,FALSE),\"\")","v":""},{"$f":"IFERROR(VLOOKUP(CB64,'Dummy Data'!$B$73:$C$83,2,FALSE),\"\")","v":""},{"$f":"IFERROR(VLOOKUP(CC64,'Dummy Data'!$B$73:$C$83,2,FALSE),\"\")","v":""},""]
[null,null,null,null,null,null,null,null,null,null,null,null,null,null,null,null,null,null,null,null,null,null,null,null,null,null,null,null,null,null,null,null,null,null,null,null,null,{"$f":"'List Data'!K30","v":"Staff29"},{"$f":"COUNTIFS($J$8:$J$37,\"yes\",$K$8:$K$37,'List Data'!K30,$R$8:$R$37,\"Yes\")","v":0},{"$f":"COUNTIFS($J$8:$J$37,\"No\",$K$8:$K$37,'List Data'!K30,$R$8:$R$37,\"Yes\")","v":0},"",null,null,null,null,null,null,null,null,null,null,null,null,null,null,null,null,null,null,null,null,null,null,null,null,null,null,null,null,null,null,null,null,null,null,null,{"$f":"'List Data'!B62","v":"209-1"},{"$f":"IFERROR(INDEX('Dummy Data'!$M$8:$M$37,SMALL(IF('Dummy Data'!$F$8:$F$37=$BY65,ROW('Dummy Data'!$F$8:$F$37)-7,\"\"),COLUMNS($BZ$4:BZ65))),\"\")","v":""},{"$f":"IFERROR(INDEX('Dummy Data'!$M$8:$M$37,SMALL(IF('Dummy Data'!$F$8:$F$37=$BY65,ROW('Dummy Data'!$F$8:$F$37)-7,\"\"),COLUMNS($BZ$4:CA65))),\"\")","v":""},{"$f":"IFERROR(INDEX('Dummy Data'!$M$8:$M$37,SMALL(IF('Dummy Data'!$F$8:$F$37=$BY65,ROW('Dummy Data'!$F$8:$F$37)-7,\"\"),COLUMNS($BZ$4:CB65))),\"\")","v":""},{"$f":"IFERROR(INDEX('Dummy Data'!$M$8:$M$37,SMALL(IF('Dummy Data'!$F$8:$F$37=$BY65,ROW('Dummy Data'!$F$8:$F$37)-7,\"\"),COLUMNS($BZ$4:CC65))),\"\")","v":""},{"$f":"IFERROR(VLOOKUP(BZ65,'Dummy Data'!$B$73:$C$83,2,FALSE),\"\")","v":""},{"$f":"IFERROR(VLOOKUP(CA65,'Dummy Data'!$B$73:$C$83,2,FALSE),\"\")","v":""},{"$f":"IFERROR(VLOOKUP(CB65,'Dummy Data'!$B$73:$C$83,2,FALSE),\"\")","v":""},{"$f":"IFERROR(VLOOKUP(CC65,'Dummy Data'!$B$73:$C$83,2,FALSE),\"\")","v":""},""]
[null,null,null,null,null,null,null,null,null,null,null,null,null,null,null,null,null,null,null,null,null,null,null,null,null,null,null,null,null,null,null,null,null,null,null,null,null,{"$f":"'List Data'!K31","v":"Staff30"},{"$f":"COUNTIFS($J$8:$J$37,\"yes\",$K$8:$K$37,'List Data'!K31,$R$8:$R$37,\"Yes\")","v":0},{"$f":"COUNTIFS($J$8:$J$37,\"No\",$K$8:$K$37,'List Data'!K31,$R$8:$R$37,\"Yes\")","v":0},"",null,null,null,null,null,null,null,null,null,null,null,null,null,null,null,null,null,null,null,null,null,null,null,null,null,null,null,null,null,null,null,null,null,null,null,{"$f":"'List Data'!B63","v":"209-2"},{"$f":"IFERROR(INDEX('Dummy Data'!$M$8:$M$37,SMALL(IF('Dummy Data'!$F$8:$F$37=$BY66,ROW('Dummy Data'!$F$8:$F$37)-7,\"\"),COLUMNS($BZ$4:BZ66))),\"\")","v":""},{"$f":"IFERROR(INDEX('Dummy Data'!$M$8:$M$37,SMALL(IF('Dummy Data'!$F$8:$F$37=$BY66,ROW('Dummy Data'!$F$8:$F$37)-7,\"\"),COLUMNS($BZ$4:CA66))),\"\")","v":""},{"$f":"IFERROR(INDEX('Dummy Data'!$M$8:$M$37,SMALL(IF('Dummy Data'!$F$8:$F$37=$BY66,ROW('Dummy Data'!$F$8:$F$37)-7,\"\"),COLUMNS($BZ$4:CB66))),\"\")","v":""},{"$f":"IFERROR(INDEX('Dummy Data'!$M$8:$M$37,SMALL(IF('Dummy Data'!$F$8:$F$37=$BY66,ROW('Dummy Data'!$F$8:$F$37)-7,\"\"),COLUMNS($BZ$4:CC66))),\"\")","v":""},{"$f":"IFERROR(VLOOKUP(BZ66,'Dummy Data'!$B$73:$C$83,2,FALSE),\"\")","v":""},{"$f":"IFERROR(VLOOKUP(CA66,'Dummy Data'!$B$73:$C$83,2,FALSE),\"\")","v":""},{"$f":"IFERROR(VLOOKUP(CB66,'Dummy Data'!$B$73:$C$83,2,FALSE),\"\")","v":""},{"$f":"IFERROR(VLOOKUP(CC66,'Dummy Data'!$B$73:$C$83,2,FALSE),\"\")","v":""},""]
[null,null,null,null,null,null,null,null,null,null,null,null,null,null,null,null,null,null,null,null,null,null,null,null,null,null,null,null,null,null,null,null,null,null,null,null,null,{"$f":"'List Data'!K32","v":"Staff31"},{"$f":"COUNTIFS($J$8:$J$37,\"yes\",$K$8:$K$37,'List Data'!K32,$R$8:$R$37,\"Yes\")","v":0},{"$f":"COUNTIFS($J$8:$J$37,\"No\",$K$8:$K$37,'List Data'!K32,$R$8:$R$37,\"Yes\")","v":0},"",null,null,null,null,null,null,null,null,null,null,null,null,null,null,null,null,null,null,null,null,null,null,null,null,null,null,null,null,null,null,null,null,null,null,null,{"$f":"'List Data'!B64","v":"210-1"},{"$f":"IFERROR(INDEX('Dummy Data'!$M$8:$M$37,SMALL(IF('Dummy Data'!$F$8:$F$37=$BY67,ROW('Dummy Data'!$F$8:$F$37)-7,\"\"),COLUMNS($BZ$4:BZ67))),\"\")","v":""},{"$f":"IFERROR(INDEX('Dummy Data'!$M$8:$M$37,SMALL(IF('Dummy Data'!$F$8:$F$37=$BY67,ROW('Dummy Data'!$F$8:$F$37)-7,\"\"),COLUMNS($BZ$4:CA67))),\"\")","v":""},{"$f":"IFERROR(INDEX('Dummy Data'!$M$8:$M$37,SMALL(IF('Dummy Data'!$F$8:$F$37=$BY67,ROW('Dummy Data'!$F$8:$F$37)-7,\"\"),COLUMNS($BZ$4:CB67))),\"\")","v":""},{"$f":"IFERROR(INDEX('Dummy Data'!$M$8:$M$37,SMALL(IF('Dummy Data'!$F$8:$F$37=$BY67,ROW('Dummy Data'!$F$8:$F$37)-7,\"\"),COLUMNS($BZ$4:CC67))),\"\")","v":""},{"$f":"IFERROR(VLOOKUP(BZ67,'Dummy Data'!$B$73:$C$83,2,FALSE),\"\")","v":""},{"$f":"IFERROR(VLOOKUP(CA67,'Dummy Data'!$B$73:$C$83,2,FALSE),\"\")","v":""},{"$f":"IFERROR(VLOOKUP(CB67,'Dummy Data'!$B$73:$C$83,2,FALSE),\"\")","v":""},{"$f":"IFERROR(VLOOKUP(CC67,'Dummy Data'!$B$73:$C$83,2,FALSE),\"\")","v":""},""]
[null,null,null,null,null,null,null,null,null,null,null,null,null,null,null,null,null,null,null,null,null,null,null,null,null,null,null,null,null,null,null,null,null,null,null,null,null,{"$f":"'List Data'!K33","v":"Staff32"},{"$f":"COUNTIFS($J$8:$J$37,\"yes\",$K$8:$K$37,'List Data'!K33,$R$8:$R$37,\"Yes\")","v":0},{"$f":"COUNTIFS($J$8:$J$37,\"No\",$K$8:$K$37,'List Data'!K33,$R$8:$R$37,\"Yes\")","v":0},"",null,null,null,null,null,null,null,null,null,null,null,null,null,null,null,null,null,null,null,null,null,null,null,null,null,null,null,null,null,null,null,null,null,null,null,{"$f":"'List Data'!B65","v":"210-2"},{"$f":"IFERROR(INDEX('Dummy Data'!$M$8:$M$37,SMALL(IF('Dummy Data'!$F$8:$F$37=$BY68,ROW('Dummy Data'!$F$8:$F$37)-7,\"\"),COLUMNS($BZ$4:BZ68))),\"\")","v":""},{"$f":"IFERROR(INDEX('Dummy Data'!$M$8:$M$37,SMALL(IF('Dummy Data'!$F$8:$F$37=$BY68,ROW('Dummy Data'!$F$8:$F$37)-7,\"\"),COLUMNS($BZ$4:CA68))),\"\")","v":""},{"$f":"IFERROR(INDEX('Dummy Data'!$M$8:$M$37,SMALL(IF('Dummy Data'!$F$8:$F$37=$BY68,ROW('Dummy Data'!$F$8:$F$37)-7,\"\"),COLUMNS($BZ$4:CB68))),\"\")","v":""},{"$f":"IFERROR(INDEX('Dummy Data'!$M$8:$M$37,SMALL(IF('Dummy Data'!$F$8:$F$37=$BY68,ROW('Dummy Data'!$F$8:$F$37)-7,\"\"),COLUMNS($BZ$4:CC68))),\"\")","v":""},{"$f":"IFERROR(VLOOKUP(BZ68,'Dummy Data'!$B$73:$C$83,2,FALSE),\"\")","v":""},{"$f":"IFERROR(VLOOKUP(CA68,'Dummy Data'!$B$73:$C$83,2,FALSE),\"\")","v":""},{"$f":"IFERROR(VLOOKUP(CB68,'Dummy Data'!$B$73:$C$83,2,FALSE),\"\")","v":""},{"$f":"IFERROR(VLOOKUP(CC68,'Dummy Data'!$B$73:$C$83,2,FALSE),\"\")","v":""},""]
[null,null,null,null,null,null,null,null,null,null,null,null,null,null,null,null,null,null,null,null,null,null,null,null,null,null,null,null,null,null,null,null,null,null,null,null,null,{"$f":"'List Data'!K34","v":"Staff33"},{"$f":"COUNTIFS($J$8:$J$37,\"yes\",$K$8:$K$37,'List Data'!K34,$R$8:$R$37,\"Yes\")","v":0},{"$f":"COUNTIFS($J$8:$J$37,\"No\",$K$8:$K$37,'List Data'!K34,$R$8:$R$37,\"Yes\")","v":0},"",null,null,null,null,null,null,null,null,null,null,null,null,null,null,null,null,null,null,null,null,null,null,null,null,null,null,null,null,null,null,null,null,null,null,null,{"$f":"'List Data'!B66","v":"211-1"},{"$f":"IFERROR(INDEX('Dummy Data'!$M$8:$M$37,SMALL(IF('Dummy Data'!$F$8:$F$37=$BY69,ROW('Dummy Data'!$F$8:$F$37)-7,\"\"),COLUMNS($BZ$4:BZ69))),\"\")","v":""},{"$f":"IFERROR(INDEX('Dummy Data'!$M$8:$M$37,SMALL(IF('Dummy Data'!$F$8:$F$37=$BY69,ROW('Dummy Data'!$F$8:$F$37)-7,\"\"),COLUMNS($BZ$4:CA69))),\"\")","v":""},{"$f":"IFERROR(INDEX('Dummy Data'!$M$8:$M$37,SMALL(IF('Dummy Data'!$F$8:$F$37=$BY69,ROW('Dummy Data'!$F$8:$F$37)-7,\"\"),COLUMNS($BZ$4:CB69))),\"\")","v":""},{"$f":"IFERROR(INDEX('Dummy Data'!$M$8:$M$37,SMALL(IF('Dummy Data'!$F$8:$F$37=$BY69,ROW('Dummy Data'!$F$8:$F$37)-7,\"\"),COLUMNS($BZ$4:CC69))),\"\")","v":""},{"$f":"IFERROR(VLOOKUP(BZ69,'Dummy Data'!$B$73:$C$83,2,FALSE),\"\")","v":""},{"$f":"IFERROR(VLOOKUP(CA69,'Dummy Data'!$B$73:$C$83,2,FALSE),\"\")","v":""},{"$f":"IFERROR(VLOOKUP(CB69,'Dummy Data'!$B$73:$C$83,2,FALSE),\"\")","v":""},{"$f":"IFERROR(VLOOKUP(CC69,'Dummy Data'!$B$73:$C$83,2,FALSE),\"\")","v":""},""]
[null,null,null,null,null,null,null,null,null,null,null,null,null,null,null,null,null,null,null,null,null,null,null,null,null,null,null,null,null,null,null,null,null,null,null,null,null,{"$f":"'List Data'!K35","v":"Staff34"},{"$f":"COUNTIFS($J$8:$J$37,\"yes\",$K$8:$K$37,'List Data'!K35,$R$8:$R$37,\"Yes\")","v":0},{"$f":"COUNTIFS($J$8:$J$37,\"No\",$K$8:$K$37,'List Data'!K35,$R$8:$R$37,\"Yes\")","v":0},"",null,null,null,null,null,null,null,null,null,null,null,null,null,null,null,null,null,null,null,null,null,null,null,null,null,null,null,null,null,null,null,null,null,null,null,{"$f":"'List Data'!B67","v":"211-2"},{"$f":"IFERROR(INDEX('Dummy Data'!$M$8:$M$37,SMALL(IF('Dummy Data'!$F$8:$F$37=$BY70,ROW('Dummy Data'!$F$8:$F$37)-7,\"\"),COLUMNS($BZ$4:BZ70))),\"\")","v":""},{"$f":"IFERROR(INDEX('Dummy Data'!$M$8:$M$37,SMALL(IF('Dummy Data'!$F$8:$F$37=$BY70,ROW('Dummy Data'!$F$8:$F$37)-7,\"\"),COLUMNS($BZ$4:CA70))),\"\")","v":""},{"$f":"IFERROR(INDEX('Dummy Data'!$M$8:$M$37,SMALL(IF('Dummy Data'!$F$8:$F$37=$BY70,ROW('Dummy Data'!$F$8:$F$37)-7,\"\"),COLUMNS($BZ$4:CB70))),\"\")","v":""},{"$f":"IFERROR(INDEX('Dummy Data'!$M$8:$M$37,SMALL(IF('Dummy Data'!$F$8:$F$37=$BY70,ROW('Dummy Data'!$F$8:$F$37)-7,\"\"),COLUMNS($BZ$4:CC70))),\"\")","v":""},{"$f":"IFERROR(VLOOKUP(BZ70,'Dummy Data'!$B$73:$C$83,2,FALSE),\"\")","v":""},{"$f":"IFERROR(VLOOKUP(CA70,'Dummy Data'!$B$73:$C$83,2,FALSE),\"\")","v":""},{"$f":"IFERROR(VLOOKUP(CB70,'Dummy Data'!$B$73:$C$83,2,FALSE),\"\")","v":""},{"$f":"IFERROR(VLOOKUP(CC70,'Dummy Data'!$B$73:$C$83,2,FALSE),\"\")","v":""},{"$f":"IF(CD70=\"\",\"\",IF(CE70=\"\",CD70,IF(CF70=\"\",CD70&\",\"&CE70,IF(CG70=\"\",CD70&\",\"&CE70&\",\"&CF70,CD70&\",\"&CE70&\",\"&CF70&\",\"&CG70))))","v":""}]
["Trend Mapping",null,null,null,null,null,null,null,null,null,null,null,null,"Trend Mapping",null,null,null,null,null,null,null,null,null,null,null,null,null,null,null,null,null,null,null,null,null,null,null,{"$f":"'List Data'!K36","v":"Staff35"},{"$f":"COUNTIFS($J$8:$J$37,\"yes\",$K$8:$K$37,'List Data'!K36,$R$8:$R$37,\"Yes\")","v":0},{"$f":"COUNTIFS($J$8:$J$37,\"No\",$K$8:$K$37,'List Data'!K36,$R$8:$R$37,\"Yes\")","v":0},"",null,null,null,null,null,null,null,null,null,null,null,null,null,null,null,null,null,null,null,null,null,null,null,null,null,null,null,null,null,null,null,null,null,null,null,{"$f":"'List Data'!B68","v":"212-1"},{"$f":"IFERROR(INDEX('Dummy Data'!$M$8:$M$37,SMALL(IF('Dummy Data'!$F$8:$F$37=$BY71,ROW('Dummy Data'!$F$8:$F$37)-7,\"\"),COLUMNS($BZ$4:BZ71))),\"\")","v":""},{"$f":"IFERROR(INDEX('Dummy Data'!$M$8:$M$37,SMALL(IF('Dummy Data'!$F$8:$F$37=$BY71,ROW('Dummy Data'!$F$8:$F$37)-7,\"\"),COLUMNS($BZ$4:CA71))),\"\")","v":""},{"$f":"IFERROR(INDEX('Dummy Data'!$M$8:$M$37,SMALL(IF('Dummy Data'!$F$8:$F$37=$BY71,ROW('Dummy Data'!$F$8:$F$37)-7,\"\"),COLUMNS($BZ$4:CB71))),\"\")","v":""},{"$f":"IFERROR(INDEX('Dummy Data'!$M$8:$M$37,SMALL(IF('Dummy Data'!$F$8:$F$37=$BY71,ROW('Dummy Data'!$F$8:$F$37)-7,\"\"),COLUMNS($BZ$4:CC71))),\"\")","v":""},{"$f":"IFERROR(VLOOKUP(BZ71,'Dummy Data'!$B$73:$C$83,2,FALSE),\"\")","v":""},{"$f":"IFERROR(VLOOKUP(CA71,'Dummy Data'!$B$73:$C$83,2,FALSE),\"\")","v":""},{"$f":"IFERROR(VLOOKUP(CB71,'Dummy Data'!$B$73:$C$83,2,FALSE),\"\")","v":""},{"$f":"IFERROR(VLOOKUP(CC71,'Dummy Data'!$B$73:$C$83,2,FALSE),\"\")","v":""},""]
[null,"Key",null,null,null,null,null,"First Floor (C Hall)",null,null,null,null,null,null,null,null,null,null,null,"First Floor (C Hall)",null,null,null,null,null,null,null,null,null,null,null,null,null,null,"Key",null,null,{"$f":"'List Data'!K37","v":"Staff36"},{"$f":"COUNTIFS($J$8:$J$37,\"yes\",$K$8:$K$37,'List Data'!K37,$R$8:$R$37,\"Yes\")","v":0},{"$f":"COUNTIFS($J$8:$J$37,\"No\",$K$8:$K$37,'List Data'!K37,$R$8:$R$37,\"Yes\")","v":0},"",null,null,null,null,null,null,null,null,null,null,null,null,null,null,null,null,null,null,null,null,null,null,null,null,null,null,null,null,null,null,null,null,null,null,null,{"$f":"'List Data'!B69","v":"212-2"},{"$f":"IFERROR(INDEX('Dummy Data'!$M$8:$M$37,SMALL(IF('Dummy Data'!$F$8:$F$37=$BY72,ROW('Dummy Data'!$F$8:$F$37)-7,\"\"),COLUMNS($BZ$4:BZ72))),\"\")","v":""},{"$f":"IFERROR(INDEX('Dummy Data'!$M$8:$M$37,SMALL(IF('Dummy Data'!$F$8:$F$37=$BY72,ROW('Dummy Data'!$F$8:$F$37)-7,\"\"),COLUMNS($BZ$4:CA72))),\"\")","v":""},{"$f":"IFERROR(INDEX('Dummy Data'!$M$8:$M$37,SMALL(IF('Dummy Data'!$F$8:$F$37=$BY72,ROW('Dummy Data'!$F$8:$F$37)-7,\"\"),COLUMNS($BZ$4:CB72))),\"\")","v":""},{"$f":"IFERROR(INDEX('Dummy Data'!$M$8:$M$37,SMALL(IF('Dummy Data'!$F$8:$F$37=$BY72,ROW('Dummy Data'!$F$8:$F$37)-7,\"\"),COLUMNS($BZ$4:CC72))),\"\")","v":""},{"$f":"IFERROR(VLOOKUP(BZ72,'Dummy Data'!$B$73:$C$83,2,FALSE),\"\")","v":""},{"$f":"IFERROR(VLOOKUP(CA72,'Dummy Data'!$B$73:$C$83,2,FALSE),\"\")","v":""},{"$f":"IFERROR(VLOOKUP(CB72,'Dummy Data'!$B$73:$C$83,2,FALSE),\"\")","v":""},{"$f":"IFERROR(VLOOKUP(CC72,'Dummy Data'!$B$73:$C$83,2,FALSE),\"\")","v":""},""]
[null,"UTI","!",null,"002-1","002-2","004-1","004-2","006-1","006-2","008-1","008-2",null,null,"010-1","010-2","012-1","012-2","014-1","014-2","016-1","016-2","018-1","018-2","020-1","020-2","022-1","022-2",null,null,null,null,null,null,"UTI","!",null,{"$f":"'List Data'!K38","v":"Staff37"},{"$f":"COUNTIFS($J$8:$J$37,\"yes\",$K$8:$K$37,'List Data'!K38,$R$8:$R$37,\"Yes\")","v":0},{"$f":"COUNTIFS($J$8:$J$37,\"No\",$K$8:$K$37,'List Data'!K38,$R$8:$R$37,\"Yes\")","v":0},"",null,null,null,null,null,null,null,null,null,null,null,null,null,null,null,null,null,null,null,null,null,null,null,null,null,null,null,null,null,null,null,null,null,null,null,{"$f":"'List Data'!B70","v":"213-1"},{"$f":"IFERROR(INDEX('Dummy Data'!$M$8:$M$37,SMALL(IF('Dummy Data'!$F$8:$F$37=$BY73,ROW('Dummy Data'!$F$8:$F$37)-7,\"\"),COLUMNS($BZ$4:BZ73))),\"\")","v":""},{"$f":"IFERROR(INDEX('Dummy Data'!$M$8:$M$37,SMALL(IF('Dummy Data'!$F$8:$F$37=$BY73,ROW('Dummy Data'!$F$8:$F$37)-7,\"\"),COLUMNS($BZ$4:CA73))),\"\")","v":""},{"$f":"IFERROR(INDEX('Dummy Data'!$M$8:$M$37,SMALL(IF('Dummy Data'!$F$8:$F$37=$BY73,ROW('Dummy Data'!$F$8:$F$37)-7,\"\"),COLUMNS($BZ$4:CB73))),\"\")","v":""},{"$f":"IFERROR(INDEX('Dummy Data'!$M$8:$M$37,SMALL(IF('Dummy Data'!$F$8:$F$37=$BY73,ROW('Dummy Data'!$F$8:$F$37)-7,\"\"),COLUMNS($BZ$4:CC73))),\"\")","v":""},{"$f":"IFERROR(VLOOKUP(BZ73,'Dummy Data'!$B$73:$C$83,2,FALSE),\"\")","v":""},{"$f":"IFERROR(VLOOKUP(CA73,'Dummy Data'!$B$73:$C$83,2,FALSE),\"\")","v":""},{"$f":"IFERROR(VLOOKUP(CB73,'Dummy Data'!$B$73:$C$83,2,FALSE),\"\")","v":""},{"$f":"IFERROR(VLOOKUP(CC73,'Dummy Data'!$B$73:$C$83,2,FALSE),\"\")","v":""},""]
[null,"CAUTI","@",null,{"$f":"VLOOKUP(E73,'Dummy Data'!$BY$5:$CH$200,10,TRUE)","v":""},{"$f":"VLOOKUP(F73,'Dummy Data'!$BY$5:$CH$200,10,TRUE)","v":""},{"$f":"VLOOKUP(G73,'Dummy Data'!$BY$5:$CH$200,10,TRUE)","v":"!,!"},{"$f":"VLOOKUP(H73,'Dummy Data'!$BY$5:$CH$200,10,TRUE)","v":""},{"$f":"VLOOKUP(I73,'Dummy Data'!$BY$5:$CH$200,10,TRUE)","v":""},{"$f":"VLOOKUP(J73,'Dummy Data'!$BY$5:$CH$200,10,TRUE)","v":""},{"$f":"VLOOKUP(K73,'Dummy Data'!$BY$5:$CH$200,10,TRUE)","v":""},{"$f":"VLOOKUP(L73,'Dummy Data'!$BY$5:$CH$200,10,TRUE)","v":","},null,null,{"$f":"VLOOKUP(O73,'Dummy Data'!$BY$5:$CH$200,10,TRUE)","v":""},{"$f":"VLOOKUP(P73,'Dummy Data'!$BY$5:$CH$200,10,TRUE)","v":""},{"$f":"VLOOKUP(Q73,'Dummy Data'!$BY$5:$CH$200,10,TRUE)","v":""},{"$f":"VLOOKUP(R73,'Dummy Data'!$BY$5:$CH$200,10,TRUE)","v":""},{"$f":"VLOOKUP(S73,'Dummy Data'!$BY$5:$CH$200,10,TRUE)","v":""},{"$f":"VLOOKUP(T73,'Dummy Data'!$BY$5:$CH$200,10,TRUE)","v":""},{"$f":"VLOOKUP(U73,'Dummy Data'!$BY$5:$CH$200,10,TRUE)","v":""},{"$f":"VLOOKUP(V73,'Dummy Data'!$BY$5:$CH$200,10,TRUE)","v":"!"},{"$f":"VLOOKUP(W73,'Dummy Data'!$BY$5:$CH$200,10,TRUE)","v":""},{"$f":"VLOOKUP(X73,'Dummy Data'!$BY$5:$CH$200,10,TRUE)","v":""},{"$f":"VLOOKUP(Y73,'Dummy Data'!$BY$5:$CH$200,10,TRUE)","v":""},{"$f":"VLOOKUP(Z73,'Dummy Data'!$BY$5:$CH$200,10,TRUE)","v":""},{"$f":"VLOOKUP(AA73,'Dummy Data'!$BY$5:$CH$200,10,TRUE)","v":""},{"$f":"VLOOKUP(AB73,'Dummy Data'!$BY$5:$CH$200,10,TRUE)","v":""},null,null,null,null,null,null,"UTI/CATH","@",null,{"$f":"'List Data'!K39","v":"Staff38"},{"$f":"COUNTIFS($J$8:$J$37,\"yes\",$K$8:$K$37,'List Data'!K39,$R$8:$R$37,\"Yes\")","v":0},{"$f":"COUNTIFS($J$8:$J$37,\"No\",$K$8:$K$37,'List Data'!K39,$R$8:$R$37,\"Yes\")","v":0},"",null,null,null,null,null,null,null,null,null,null,null,null,null,null,null,null,null,null,null,null,null,null,null,null,null,null,null,null,null,null,null,null,null,null,null,{"$f":"'List Data'!B71","v":"213-2"},{"$f":"IFERROR(INDEX('Dummy Data'!$M$8:$M$37,SMALL(IF('Dummy Data'!$F$8:$F$37=$BY74,ROW('Dummy Data'!$F$8:$F$37)-7,\"\"),COLUMNS($BZ$4:BZ74))),\"\")","v":""},{"$f":"IFERROR(INDEX('Dummy Data'!$M$8:$M$37,SMALL(IF('Dummy Data'!$F$8:$F$37=$BY74,ROW('Dummy Data'!$F$8:$F$37)-7,\"\"),COLUMNS($BZ$4:CA74))),\"\")","v":""},{"$f":"IFERROR(INDEX('Dummy Data'!$M$8:$M$37,SMALL(IF('Dummy Data'!$F$8:$F$37=$BY74,ROW('Dummy Data'!$F$8:$F$37)-7,\"\"),COLUMNS($BZ$4:CB74))),\"\")","v":""},{"$f":"IFERROR(INDEX('Dummy Data'!$M$8:$M$37,SMALL(IF('Dummy Data'!$F$8:$F$37=$BY74,ROW('Dummy Data'!$F$8:$F$37)-7,\"\"),COLUMNS($BZ$4:CC74))),\"\")","v":""},{"$f":"IFERROR(VLOOKUP(BZ74,'Dummy Data'!$B$73:$C$83,2,FALSE),\"\")","v":""},{"$f":"IFERROR(VLOOKUP(CA74,'Dummy Data'!$B$73:$C$83,2,FALSE),\"\")","v":""},{"$f":"IFERROR(VLOOKUP(CB74,'Dummy Data'!$B$73:$C$83,2,FALSE),\"\")","v":""},{"$f":"IFERROR(VLOOKUP(CC74,'Dummy Data'!$B$73:$C$83,2,FALSE),\"\")","v":""},""]
[null,"Skin","#",null,null,null,null,null,null,null,null,null,null,null,null,null,null,null,null,null,null,null,null,null,null,null,null,null,null,null,null,null,null,null,"Skin","#",null,{"$f":"'List Data'!K40","v":"Staff39"},{"$f":"COUNTIFS($J$8:$J$37,\"yes\",$K$8:$K$37,'List Data'!K40,$R$8:$R$37,\"Yes\")","v":0},{"$f":"COUNTIFS($J$8:$J$37,\"No\",$K$8:$K$37,'List Data'!K40,$R$8:$R$37,\"Yes\")","v":0},"",null,null,null,null,null,null,null,null,null,null,null,null,null,null,null,null,null,null,null,null,null,null,null,null,null,null,null,null,null,null,null,null,null,null,null,{"$f":"'List Data'!B72","v":"214-1"},{"$f":"IFERROR(INDEX('Dummy Data'!$M$8:$M$37,SMALL(IF('Dummy Data'!$F$8:$F$37=$BY75,ROW('Dummy Data'!$F$8:$F$37)-7,\"\"),COLUMNS($BZ$4:BZ75))),\"\")","v":""},{"$f":"IFERROR(INDEX('Dummy Data'!$M$8:$M$37,SMALL(IF('Dummy Data'!$F$8:$F$37=$BY75,ROW('Dummy Data'!$F$8:$F$37)-7,\"\"),COLUMNS($BZ$4:CA75))),\"\")","v":""},{"$f":"IFERROR(INDEX('Dummy Data'!$M$8:$M$37,SMALL(IF('Dummy Data'!$F$8:$F$37=$BY75,ROW('Dummy Data'!$F$8:$F$37)-7,\"\"),COLUMNS($BZ$4:CB75))),\"\")","v":""},{"$f":"IFERROR(INDEX('Dummy Data'!$M$8:$M$37,SMALL(IF('Dummy Data'!$F$8:$F$37=$BY75,ROW('Dummy Data'!$F$8:$F$37)-7,\"\"),COLUMNS($BZ$4:CC75))),\"\")","v":""},{"$f":"IFERROR(VLOOKUP(BZ75,'Dummy Data'!$B$73:$C$83,2,FALSE),\"\")","v":""},{"$f":"IFERROR(VLOOKUP(CA75,'Dummy Data'!$B$73:$C$83,2,FALSE),\"\")","v":""},{"$f":"IFERROR(VLOOKUP(CB75,'Dummy Data'!$B$73:$C$83,2,FALSE),\"\")","v":""},{"$f":"IFERROR(VLOOKUP(CC75,'Dummy Data'!$B$73:$C$83,2,FALSE),\"\")","v":""},""]
[null,"Resp","$",null,"001-1","001-2","003-1","003-2","005-1","005-2","007-1","007-2",null,null,"009-1","009-2","011-1","011-2","013-1","013-2","015-1","015-2","017-1","017-2","019-1","019-2","021-1","021-2",null,null,null,null,null,null,"Resp.","$",null,{"$f":"'List Data'!K41","v":"Staff40"},{"$f":"COUNTIFS($J$8:$J$37,\"yes\",$K$8:$K$37,'List Data'!K41,$R$8:$R$37,\"Yes\")","v":0},{"$f":"COUNTIFS($J$8:$J$37,\"No\",$K$8:$K$37,'List Data'!K41,$R$8:$R$37,\"Yes\")","v":0},"",null,null,null,null,null,null,null,null,null,null,null,null,null,null,null,null,null,null,null,null,null,null,null,null,null,null,null,null,null,null,null,null,null,null,null,{"$f":"'List Data'!B73","v":"214-2"},{"$f":"IFERROR(INDEX('Dummy Data'!$M$8:$M$37,SMALL(IF('Dummy Data'!$F$8:$F$37=$BY76,ROW('Dummy Data'!$F$8:$F$37)-7,\"\"),COLUMNS($BZ$4:BZ76))),\"\")","v":""},{"$f":"IFERROR(INDEX('Dummy Data'!$M$8:$M$37,SMALL(IF('Dummy Data'!$F$8:$F$37=$BY76,ROW('Dummy Data'!$F$8:$F$37)-7,\"\"),COLUMNS($BZ$4:CA76))),\"\")","v":""},{"$f":"IFERROR(INDEX('Dummy Data'!$M$8:$M$37,SMALL(IF('Dummy Data'!$F$8:$F$37=$BY76,ROW('Dummy Data'!$F$8:$F$37)-7,\"\"),COLUMNS($BZ$4:CB76))),\"\")","v":""},{"$f":"IFERROR(INDEX('Dummy Data'!$M$8:$M$37,SMALL(IF('Dummy Data'!$F$8:$F$37=$BY76,ROW('Dummy Data'!$F$8:$F$37)-7,\"\"),COLUMNS($BZ$4:CC76))),\"\")","v":""},{"$f":"IFERROR(VLOOKUP(BZ76,'Dummy Data'!$B$73:$C$83,2,FALSE),\"\")","v":""},{"$f":"IFERROR(VLOOKUP(CA76,'Dummy Data'!$B$73:$C$83,2,FALSE),\"\")","v":""},{"$f":"IFERROR(VLOOKUP(CB76,'Dummy Data'!$B$73:$C$83,2,FALSE),\"\")","v":""},{"$f":"IFERROR(VLOOKUP(CC76,'Dummy Data'!$B$73:$C$83,2,FALSE),\"\")","v":""},""]
[null,"Eye","%",null,{"$f":"VLOOKUP(E76,'Dummy Data'!$BY$5:$CH$200,10,TRUE)","v":""},{"$f":"VLOOKUP(F76,'Dummy Data'!$BY$5:$CH$200,10,TRUE)","v":""},{"$f":"VLOOKUP(G76,'Dummy Data'!$BY$5:$CH$200,10,TRUE)","v":""},{"$f":"VLOOKUP(H76,'Dummy Data'!$BY$5:$CH$200,10,TRUE)","v":"&"},{"$f":"VLOOKUP(I76,'Dummy Data'!$BY$5:$CH$200,10,TRUE)","v":""},{"$f":"VLOOKUP(J76,'Dummy Data'!$BY$5:$CH$200,10,TRUE)","v":""},{"$f":"VLOOKUP(K76,'Dummy Data'!$BY$5:$CH$200,10,TRUE)","v":""},{"$f":"VLOOKUP(L76,'Dummy Data'!$BY$5:$CH$200,10,TRUE)","v":""},null,null,{"$f":"VLOOKUP(O76,'Dummy Data'!$BY$5:$CH$200,10,TRUE)","v":""},{"$f":"VLOOKUP(P76,'Dummy Data'!$BY$5:$CH$200,10,TRUE)","v":""},{"$f":"VLOOKUP(Q76,'Dummy Data'!$BY$5:$CH$200,10,TRUE)","v":""},{"$f":"VLOOKUP(R76,'Dummy Data'!$BY$5:$CH$200,10,TRUE)","v":""},{"$f":"VLOOKUP(S76,'Dummy Data'!$BY$5:$CH$200,10,TRUE)","v":""},{"$f":"VLOOKUP(T76,'Dummy Data'!$BY$5:$CH$200,10,TRUE)","v":""},{"$f":"VLOOKUP(U76,'Dummy Data'!$BY$5:$CH$200,10,TRUE)","v":""},{"$f":"VLOOKUP(V76,'Dummy Data'!$BY$5:$CH$200,10,TRUE)","v":""},{"$f":"VLOOKUP(W76,'Dummy Data'!$BY$5:$CH$200,10,TRUE)","v":""},{"$f":"VLOOKUP(X76,'Dummy Data'!$BY$5:$CH$200,10,TRUE)","v":""},{"$f":"VLOOKUP(Y76,'Dummy Data'!$BY$5:$CH$200,10,TRUE)","v":""},{"$f":"VLOOKUP(Z76,'Dummy Data'!$BY$5:$CH$200,10,TRUE)","v":""},{"$f":"VLOOKUP(AA76,'Dummy Data'!$BY$5:$CH$200,10,TRUE)","v":""},{"$f":"VLOOKUP(AB76,'Dummy Data'!$BY$5:$CH$200,10,TRUE)","v":""},null,null,null,null,null,null,"Eye","%",null,"Facility",{"$f":"SUM(AM37:AM66)","v":6},{"$f":"SUM(AN37:AN66)","v":3},{"$f":"IFERROR(AM77/(AN77+AM77),\"\")","v":0.66666666666666663},null,null,null,null,null,null,null,null,null,null,null,null,null,null,null,null,null,null,null,null,null,null,null,null,null,null,null,null,null,null,null,null,null,null,null,{"$f":"'List Data'!B74","v":"215-1"},{"$f":"IFERROR(INDEX('Dummy Data'!$M$8:$M$37,SMALL(IF('Dummy Data'!$F$8:$F$37=$BY77,ROW('Dummy Data'!$F$8:$F$37)-7,\"\"),COLUMNS($BZ$4:BZ77))),\"\")","v":""},{"$f":"IFERROR(INDEX('Dummy Data'!$M$8:$M$37,SMALL(IF('Dummy Data'!$F$8:$F$37=$BY77,ROW('Dummy Data'!$F$8:$F$37)-7,\"\"),COLUMNS($BZ$4:CA77))),\"\")","v":""},{"$f":"IFERROR(INDEX('Dummy Data'!$M$8:$M$37,SMALL(IF('Dummy Data'!$F$8:$F$37=$BY77,ROW('Dummy Data'!$F$8:$F$37)-7,\"\"),COLUMNS($BZ$4:CB77))),\"\")","v":""},{"$f":"IFERROR(INDEX('Dummy Data'!$M$8:$M$37,SMALL(IF('Dummy Data'!$F$8:$F$37=$BY77,ROW('Dummy Data'!$F$8:$F$37)-7,\"\"),COLUMNS($BZ$4:CC77))),\"\")","v":""},{"$f":"IFERROR(VLOOKUP(BZ77,'Dummy Data'!$B$73:$C$83,2,FALSE),\"\")","v":""},{"$f":"IFERROR(VLOOKUP(CA77,'Dummy Data'!$B$73:$C$83,2,FALSE),\"\")","v":""},{"$f":"IFERROR(VLOOKUP(CB77,'Dummy Data'!$B$73:$C$83,2,FALSE),\"\")","v":""},{"$f":"IFERROR(VLOOKUP(CC77,'Dummy Data'!$B$73:$C$83,2,FALSE),\"\")","v":""},""]
[null,"Ear","^",null,null,null,null,null,null,null,null,null,null,null,null,null,null,null,null,null,null,null,null,null,null,null,null,null,null,null,null,null,null,null,"Ear","^",null,null,null,null,null,null,null,null,null,null,null,null,null,null,null,null,null,null,null,null,null,null,null,null,null,null,null,null,null,null,null,null,null,null,null,null,null,null,null,null,{"$f":"'List Data'!B75","v":"215-2"},{"$f":"IFERROR(INDEX('Dummy Data'!$M$8:$M$37,SMALL(IF('Dummy Data'!$F$8:$F$37=$BY78,ROW('Dummy Data'!$F$8:$F$37)-7,\"\"),COLUMNS($BZ$4:BZ78))),\"\")","v":""},{"$f":"IFERROR(INDEX('Dummy Data'!$M$8:$M$37,SMALL(IF('Dummy Data'!$F$8:$F$37=$BY78,ROW('Dummy Data'!$F$8:$F$37)-7,\"\"),COLUMNS($BZ$4:CA78))),\"\")","v":""},{"$f":"IFERROR(INDEX('Dummy Data'!$M$8:$M$37,SMALL(IF('Dummy Data'!$F$8:$F$37=$BY78,ROW('Dummy Data'!$F$8:$F$37)-7,\"\"),COLUMNS($BZ$4:CB78))),\"\")","v":""},{"$f":"IFERROR(INDEX('Dummy Data'!$M$8:$M$37,SMALL(IF('Dummy Data'!$F$8:$F$37=$BY78,ROW('Dummy Data'!$F$8:$F$37)-7,\"\"),COLUMNS($BZ$4:CC78))),\"\")","v":""},{"$f":"IFERROR(VLOOKUP(BZ78,'Dummy Data'!$B$73:$C$83,2,FALSE),\"\")","v":""},{"$f":"IFERROR(VLOOKUP(CA78,'Dummy Data'!$B$73:$C$83,2,FALSE),\"\")","v":""},{"$f":"IFERROR(VLOOKUP(CB78,'Dummy Data'!$B$73:$C$83,2,FALSE),\"\")","v":""},{"$f":"IFERROR(VLOOKUP(CC78,'Dummy Data'!$B$73:$C$83,2,FALSE),\"\")","v":""},""]
[null,"GI","&",null,null,null,null,"Second Floor (A Hall & B Hall)",null,null,null,null,null,null,null,null,null,null,null,"Second Floor (A Hall & B Hall)",null,null,null,null,null,null,null,null,null,null,null,null,null,null,"GI","&",null,null,null,null,null,null,null,null,null,null,null,null,null,null,null,null,null,null,null,null,null,null,null,null,null,null,null,null,null,null,null,null,null,null,null,null,null,null,null,null,{"$f":"'List Data'!B76","v":"216-1"},{"$f":"IFERROR(INDEX('Dummy Data'!$M$8:$M$37,SMALL(IF('Dummy Data'!$F$8:$F$37=$BY79,ROW('Dummy Data'!$F$8:$F$37)-7,\"\"),COLUMNS($BZ$4:BZ79))),\"\")","v":""},{"$f":"IFERROR(INDEX('Dummy Data'!$M$8:$M$37,SMALL(IF('Dummy Data'!$F$8:$F$37=$BY79,ROW('Dummy Data'!$F$8:$F$37)-7,\"\"),COLUMNS($BZ$4:CA79))),\"\")","v":""},{"$f":"IFERROR(INDEX('Dummy Data'!$M$8:$M$37,SMALL(IF('Dummy Data'!$F$8:$F$37=$BY79,ROW('Dummy Data'!$F$8:$F$37)-7,\"\"),COLUMNS($BZ$4:CB79))),\"\")","v":""},{"$f":"IFERROR(INDEX('Dummy Data'!$M$8:$M$37,SMALL(IF('Dummy Data'!$F$8:$F$37=$BY79,ROW('Dummy Data'!$F$8:$F$37)-7,\"\"),COLUMNS($BZ$4:CC79))),\"\")","v":""},{"$f":"IFERROR(VLOOKUP(BZ79,'Dummy Data'!$B$73:$C$83,2,FALSE),\"\")","v":""},{"$f":"IFERROR(VLOOKUP(CA79,'Dummy Data'!$B$73:$C$83,2,FALSE),\"\")","v":""},{"$f":"IFERROR(VLOOKUP(CB79,'Dummy Data'!$B$73:$C$83,2,FALSE),\"\")","v":""},{"$f":"IFERROR(VLOOKUP(CC79,'Dummy Data'!$B$73:$C$83,2,FALSE),\"\")","v":""},""]
[null,"Blood","*",null,"224-1","224-2","226-1","226-2","228-1","228-2","230-1","230-2",null,null,"232-1","232-2","234-1","234-2","236-1","236-2","238-1","238-2","240-1","240-2","242-1","242-2","242-1","242-2","245-1","245-2","246-1","246-2","247-1","247-2","Blood","*",null,null,null,null,null,null,null,null,null,null,null,null,null,null,null,null,null,null,null,null,null,null,null,null,null,null,null,null,null,null,null,null,null,null,null,null,null,null,null,null,{"$f":"'List Data'!B77","v":"216-2"},{"$f":"IFERROR(INDEX('Dummy Data'!$M$8:$M$37,SMALL(IF('Dummy Data'!$F$8:$F$37=$BY80,ROW('Dummy Data'!$F$8:$F$37)-7,\"\"),COLUMNS($BZ$4:BZ80))),\"\")","v":""},{"$f":"IFERROR(INDEX('Dummy Data'!$M$8:$M$37,SMALL(IF('Dummy Data'!$F$8:$F$37=$BY80,ROW('Dummy Data'!$F$8:$F$37)-7,\"\"),COLUMNS($BZ$4:CA80))),\"\")","v":""},{"$f":"IFERROR(INDEX('Dummy Data'!$M$8:$M$37,SMALL(IF('Dummy Data'!$F$8:$F$37=$BY80,ROW('Dummy Data'!$F$8:$F$37)-7,\"\"),COLUMNS($BZ$4:CB80))),\"\")","v":""},{"$f":"IFERROR(INDEX('Dummy Data'!$M$8:$M$37,SMALL(IF('Dummy Data'!$F$8:$F$37=$BY80,ROW('Dummy Data'!$F$8:$F$37)-7,\"\"),COLUMNS($BZ$4:CC80))),\"\")","v":""},{"$f":"IFERROR(VLOOKUP(BZ80,'Dummy Data'!$B$73:$C$83,2,FALSE),\"\")","v":""},{"$f":"IFERROR(VLOOKUP(CA80,'Dummy Data'!$B$73:$C$83,2,FALSE),\"\")","v":""},{"$f":"IFERROR(VLOOKUP(CB80,'Dummy Data'!$B$73:$C$83,2,FALSE),\"\")","v":""},{"$f":"IFERROR(VLOOKUP(CC80,'Dummy Data'!$B$73:$C$83,2,FALSE),\"\")","v":""},""]
[null,"Genital","`",null,{"$f":"VLOOKUP(E80,'Dummy Data'!$BY$5:$CH$200,10,TRUE)","v":""},{"$f":"VLOOKUP(F80,'Dummy Data'!$BY$5:$CH$200,10,TRUE)","v":""},{"$f":"VLOOKUP(G80,'Dummy Data'!$BY$5:$CH$200,10,TRUE)","v":""},{"$f":"VLOOKUP(H80,'Dummy Data'!$BY$5:$CH$200,10,TRUE)","v":""},{"$f":"VLOOKUP(I80,'Dummy Data'!$BY$5:$CH$200,10,TRUE)","v":""},{"$f":"VLOOKUP(J80,'Dummy Data'!$BY$5:$CH$200,10,TRUE)","v":""},{"$f":"VLOOKUP(K80,'Dummy Data'!$BY$5:$CH$200,10,TRUE)","v":""},{"$f":"VLOOKUP(L80,'Dummy Data'!$BY$5:$CH$200,10,TRUE)","v":""},null,null,{"$f":"VLOOKUP(O80,'Dummy Data'!$BY$5:$CH$200,10,TRUE)","v":""},{"$f":"VLOOKUP(P80,'Dummy Data'!$BY$5:$CH$200,10,TRUE)","v":""},{"$f":"VLOOKUP(Q80,'Dummy Data'!$BY$5:$CH$200,10,TRUE)","v":""},{"$f":"VLOOKUP(R80,'Dummy Data'!$BY$5:$CH$200,10,TRUE)","v":""},{"$f":"VLOOKUP(S80,'Dummy Data'!$BY$5:$CH$200,10,TRUE)","v":""},{"$f":"VLOOKUP(T80,'Dummy Data'!$BY$5:$CH$200,10,TRUE)","v":""},{"$f":"VLOOKUP(U80,'Dummy Data'!$BY$5:$CH$200,10,TRUE)","v":""},{"$f":"VLOOKUP(V80,'Dummy Data'!$BY$5:$CH$200,10,TRUE)","v":""},{"$f":"VLOOKUP(W80,'Dummy Data'!$BY$5:$CH$200,10,TRUE)","v":""},{"$f":"VLOOKUP(X80,'Dummy Data'!$BY$5:$CH$200,10,TRUE)","v":""},{"$f":"VLOOKUP(Y80,'Dummy Data'!$BY$5:$CH$200,10,TRUE)","v":""},{"$f":"VLOOKUP(Z80,'Dummy Data'!$BY$5:$CH$200,10,TRUE)","v":""},{"$f":"VLOOKUP(AA80,'Dummy Data'!$BY$5:$CH$200,10,TRUE)","v":""},{"$f":"VLOOKUP(AB80,'Dummy Data'!$BY$5:$CH$200,10,TRUE)","v":""},{"$f":"VLOOKUP(AC80,'Dummy Data'!$BY$5:$CH$200,10,TRUE)","v":""},{"$f":"VLOOKUP(AD80,'Dummy Data'!$BY$5:$CH$200,10,TRUE)","v":""},{"$f":"VLOOKUP(AE80,'Dummy Data'!$BY$5:$CH$200,10,TRUE)","v":""},{"$f":"VLOOKUP(AF80,'Dummy Data'!$BY$5:$CH$200,10,TRUE)","v":""},{"$f":"VLOOKUP(AG80,'Dummy Data'!$BY$5:$CH$200,10,TRUE)","v":""},{"$f":"VLOOKUP(AH80,'Dummy Data'!$BY$5:$CH$200,10,TRUE)","v":""},"Genital","`",null,null,null,null,null,null,null,null,null,null,null,null,null,null,null,null,null,null,null,null,null,null,null,null,null,null,null,null,null,null,null,null,null,null,null,null,null,null,null,null,{"$f":"'List Data'!B78","v":"217-1"},{"$f":"IFERROR(INDEX('Dummy Data'!$M$8:$M$37,SMALL(IF('Dummy Data'!$F$8:$F$37=$BY81,ROW('Dummy Data'!$F$8:$F$37)-7,\"\"),COLUMNS($BZ$4:BZ81))),\"\")","v":""},{"$f":"IFERROR(INDEX('Dummy Data'!$M$8:$M$37,SMALL(IF('Dummy Data'!$F$8:$F$37=$BY81,ROW('Dummy Data'!$F$8:$F$37)-7,\"\"),COLUMNS($BZ$4:CA81))),\"\")","v":""},{"$f":"IFERROR(INDEX('Dummy Data'!$M$8:$M$37,SMALL(IF('Dummy Data'!$F$8:$F$37=$BY81,ROW('Dummy Data'!$F$8:$F$37)-7,\"\"),COLUMNS($BZ$4:CB81))),\"\")","v":""},{"$f":"IFERROR(INDEX('Dummy Data'!$M$8:$M$37,SMALL(IF('Dummy Data'!$F$8:$F$37=$BY81,ROW('Dummy Data'!$F$8:$F$37)-7,\"\"),COLUMNS($BZ$4:CC81))),\"\")","v":""},{"$f":"IFERROR(VLOOKUP(BZ81,'Dummy Data'!$B$73:$C$83,2,FALSE),\"\")","v":""},{"$f":"IFERROR(VLOOKUP(CA81,'Dummy Data'!$B$73:$C$83,2,FALSE),\"\")","v":""},{"$f":"IFERROR(VLOOKUP(CB81,'Dummy Data'!$B$73:$C$83,2,FALSE),\"\")","v":""},{"$f":"IFERROR(VLOOKUP(CC81,'Dummy Data'!$B$73:$C$83,2,FALSE),\"\")","v":""},""]
[null,"Other","~",null,null,null,null,null,null,null,null,null,null,null,null,null,null,null,null,null,null,null,null,null,null,null,null,null,null,null,null,null,null,null,"Other","~",null,null,null,null,null,null,null,null,null,null,null,null,null,null,null,null,null,null,null,null,null,null,null,null,null,null,null,null,null,null,null,null,null,null,null,null,null,null,null,null,{"$f":"'List Data'!B79","v":"217-2"},{"$f":"IFERROR(INDEX('Dummy Data'!$M$8:$M$37,SMALL(IF('Dummy Data'!$F$8:$F$37=$BY82,ROW('Dummy Data'!$F$8:$F$37)-7,\"\"),COLUMNS($BZ$4:BZ82))),\"\")","v":""},{"$f":"IFERROR(INDEX('Dummy Data'!$M$8:$M$37,SMALL(IF('Dummy Data'!$F$8:$F$37=$BY82,ROW('Dummy Data'!$F$8:$F$37)-7,\"\"),COLUMNS($BZ$4:CA82))),\"\")","v":""},{"$f":"IFERROR(INDEX('Dummy Data'!$M$8:$M$37,SMALL(IF('Dummy Data'!$F$8:$F$37=$BY82,ROW('Dummy Data'!$F$8:$F$37)-7,\"\"),COLUMNS($BZ$4:CB82))),\"\")","v":""},{"$f":"IFERROR(INDEX('Dummy Data'!$M$8:$M$37,SMALL(IF('Dummy Data'!$F$8:$F$37=$BY82,ROW('Dummy Data'!$F$8:$F$37)-7,\"\"),COLUMNS($BZ$4:CC82))),\"\")","v":""},{"$f":"IFERROR(VLOOKUP(BZ82,'Dummy Data'!$B$73:$C$83,2,FALSE),\"\")","v":""},{"$f":"IFERROR(VLOOKUP(CA82,'Dummy Data'!$B$73:$C$83,2,FALSE),\"\")","v":""},{"$f":"IFERROR(VLOOKUP(CB82,'Dummy Data'!$B$73:$C$83,2,FALSE),\"\")","v":""},{"$f":"IFERROR(VLOOKUP(CC82,'Dummy Data'!$B$73:$C$83,2,FALSE),\"\")","v":""},""]
[null,"Multi-Rx",",",null,"223-1","223-2","225-1","225-2","227-1","227-2","229-1","229-2",null,null,"231-1","231-2","233-1","233-2","235-1","235-2","237-1","237-2","239-1","239-2","241-1","241-2","243-1","243-2",null,null,null,null,null,null,"Multi-Infection",",",null,null,null,null,null,null,null,null,null,null,null,null,null,null,null,null,null,null,null,null,null,null,null,null,null,null,null,null,null,null,null,null,null,null,null,null,null,null,null,null,{"$f":"'List Data'!B80","v":"218-1"},{"$f":"IFERROR(INDEX('Dummy Data'!$M$8:$M$37,SMALL(IF('Dummy Data'!$F$8:$F$37=$BY83,ROW('Dummy Data'!$F$8:$F$37)-7,\"\"),COLUMNS($BZ$4:BZ83))),\"\")","v":""},{"$f":"IFERROR(INDEX('Dummy Data'!$M$8:$M$37,SMALL(IF('Dummy Data'!$F$8:$F$37=$BY83,ROW('Dummy Data'!$F$8:$F$37)-7,\"\"),COLUMNS($BZ$4:CA83))),\"\")","v":""},{"$f":"IFERROR(INDEX('Dummy Data'!$M$8:$M$37,SMALL(IF('Dummy Data'!$F$8:$F$37=$BY83,ROW('Dummy Data'!$F$8:$F$37)-7,\"\"),COLUMNS($BZ$4:CB83))),\"\")","v":""},{"$f":"IFERROR(INDEX('Dummy Data'!$M$8:$M$37,SMALL(IF('Dummy Data'!$F$8:$F$37=$BY83,ROW('Dummy Data'!$F$8:$F$37)-7,\"\"),COLUMNS($BZ$4:CC83))),\"\")","v":""},{"$f":"IFERROR(VLOOKUP(BZ83,'Dummy Data'!$B$73:$C$83,2,FALSE),\"\")","v":""},{"$f":"IFERROR(VLOOKUP(CA83,'Dummy Data'!$B$73:$C$83,2,FALSE),\"\")","v":""},{"$f":"IFERROR(VLOOKUP(CB83,'Dummy Data'!$B$73:$C$83,2,FALSE),\"\")","v":""},{"$f":"IFERROR(VLOOKUP(CC83,'Dummy Data'!$B$73:$C$83,2,FALSE),\"\")","v":""},""]
[null,null,null,null,{"$f":"VLOOKUP(E83,'Dummy Data'!$BY$5:$CH$200,10,TRUE)","v":""},{"$f":"VLOOKUP(F83,'Dummy Data'!$BY$5:$CH$200,10,TRUE)","v":""},{"$f":"VLOOKUP(G83,'Dummy Data'!$BY$5:$CH$200,10,TRUE)","v":""},{"$f":"VLOOKUP(H83,'Dummy Data'!$BY$5:$CH$200,10,TRUE)","v":""},{"$f":"VLOOKUP(I83,'Dummy Data'!$BY$5:$CH$200,10,TRUE)","v":""},{"$f":"VLOOKUP(J83,'Dummy Data'!$BY$5:$CH$200,10,TRUE)","v":""},{"$f":"VLOOKUP(K83,'Dummy Data'!$BY$5:$CH$200,10,TRUE)","v":""},{"$f":"VLOOKUP(L83,'Dummy Data'!$BY$5:$CH$200,10,TRUE)","v":""},null,null,{"$f":"VLOOKUP(O83,'Dummy Data'!$BY$5:$CH$200,10,TRUE)","v":""},{"$f":"VLOOKUP(P83,'Dummy Data'!$BY$5:$CH$200,10,TRUE)","v":""},{"$f":"VLOOKUP(Q83,'Dummy Data'!$BY$5:$CH$200,10,TRUE)","v":""},{"$f":"VLOOKUP(R83,'Dummy Data'!$BY$5:$CH$200,10,TRUE)","v":""},{"$f":"VLOOKUP(S83,'Dummy Data'!$BY$5:$CH$200,10,TRUE)","v":""},{"$f":"VLOOKUP(T83,'Dummy Data'!$BY$5:$CH$200,10,TRUE)","v":""},{"$f":"VLOOKUP(U83,'Dummy Data'!$BY$5:$CH$200,10,TRUE)","v":""},{"$f":"VLOOKUP(V83,'Dummy Data'!$BY$5:$CH$200,10,TRUE)","v":""},{"$f":"VLOOKUP(W83,'Dummy Data'!$BY$5:$CH$200,10,TRUE)","v":""},{"$f":"VLOOKUP(X83,'Dummy Data'!$BY$5:$CH$200,10,TRUE)","v":""},{"$f":"VLOOKUP(Y83,'Dummy Data'!$BY$5:$CH$200,10,TRUE)","v":""},{"$f":"VLOOKUP(Z83,'Dummy Data'!$BY$5:$CH$200,10,TRUE)","v":""},{"$f":"VLOOKUP(AA83,'Dummy Data'!$BY$5:$CH$200,10,TRUE)","v":""},{"$f":"VLOOKUP(AB83,'Dummy Data'!$BY$5:$CH$200,10,TRUE)","v":""},null,null,null,null,null,null,null,null,null,null,null,null,null,null,null,null,null,null,null,null,null,null,null,null,null,null,null,null,null,null,null,null,null,null,null,null,null,null,null,null,null,null,null,null,null,null,null,null,{"$f":"'List Data'!B81","v":"218-2"},{"$f":"IFERROR(INDEX('Dummy Data'!$M$8:$M$37,SMALL(IF('Dummy Data'!$F$8:$F$37=$BY84,ROW('Dummy Data'!$F$8:$F$37)-7,\"\"),COLUMNS($BZ$4:BZ84))),\"\")","v":""},{"$f":"IFERROR(INDEX('Dummy Data'!$M$8:$M$37,SMALL(IF('Dummy Data'!$F$8:$F$37=$BY84,ROW('Dummy Data'!$F$8:$F$37)-7,\"\"),COLUMNS($BZ$4:CA84))),\"\")","v":""},{"$f":"IFERROR(INDEX('Dummy Data'!$M$8:$M$37,SMALL(IF('Dummy Data'!$F$8:$F$37=$BY84,ROW('Dummy Data'!$F$8:$F$37)-7,\"\"),COLUMNS($BZ$4:CB84))),\"\")","v":""},{"$f":"IFERROR(INDEX('Dummy Data'!$M$8:$M$37,SMALL(IF('Dummy Data'!$F$8:$F$37=$BY84,ROW('Dummy Data'!$F$8:$F$37)-7,\"\"),COLUMNS($BZ$4:CC84))),\"\")","v":""},{"$f":"IFERROR(VLOOKUP(BZ84,'Dummy Data'!$B$73:$C$83,2,FALSE),\"\")","v":""},{"$f":"IFERROR(VLOOKUP(CA84,'Dummy Data'!$B$73:$C$83,2,FALSE),\"\")","v":""},{"$f":"IFERROR(VLOOKUP(CB84,'Dummy Data'!$B$73:$C$83,2,FALSE),\"\")","v":""},{"$f":"IFERROR(VLOOKUP(CC84,'Dummy Data'!$B$73:$C$83,2,FALSE),\"\")","v":""},""]
[null,null,null,null,null,null,null,null,null,null,null,null,null,null,null,null,null,null,null,null,null,null,null,null,null,null,null,null,null,null,null,null,null,null,null,null,null,null,null,null,null,null,null,null,null,null,null,null,null,null,null,null,null,null,null,null,null,null,null,null,null,null,null,null,null,null,null,null,null,null,null,null,null,null,null,null,{"$f":"'List Data'!B82","v":"219-1"},{"$f":"IFERROR(INDEX('Dummy Data'!$M$8:$M$37,SMALL(IF('Dummy Data'!$F$8:$F$37=$BY85,ROW('Dummy Data'!$F$8:$F$37)-7,\"\"),COLUMNS($BZ$4:BZ85))),\"\")","v":""},{"$f":"IFERROR(INDEX('Dummy Data'!$M$8:$M$37,SMALL(IF('Dummy Data'!$F$8:$F$37=$BY85,ROW('Dummy Data'!$F$8:$F$37)-7,\"\"),COLUMNS($BZ$4:CA85))),\"\")","v":""},{"$f":"IFERROR(INDEX('Dummy Data'!$M$8:$M$37,SMALL(IF('Dummy Data'!$F$8:$F$37=$BY85,ROW('Dummy Data'!$F$8:$F$37)-7,\"\"),COLUMNS($BZ$4:CB85))),\"\")","v":""},{"$f":"IFERROR(INDEX('Dummy Data'!$M$8:$M$37,SMALL(IF('Dummy Data'!$F$8:$F$37=$BY85,ROW('Dummy Data'!$F$8:$F$37)-7,\"\"),COLUMNS($BZ$4:CC85))),\"\")","v":""},{"$f":"IFERROR(VLOOKUP(BZ85,'Dummy Data'!$B$73:$C$83,2,FALSE),\"\")","v":""},{"$f":"IFERROR(VLOOKUP(CA85,'Dummy Data'!$B$73:$C$83,2,FALSE),\"\")","v":""},{"$f":"IFERROR(VLOOKUP(CB85,'Dummy Data'!$B$73:$C$83,2,FALSE),\"\")","v":""},{"$f":"IFERROR(VLOOKUP(CC85,'Dummy Data'!$B$73:$C$83,2,FALSE),\"\")","v":""},""]
[null,null,null,null,null,null,null,null,null,null,null,null,null,null,null,null,null,null,null,null,null,null,null,null,null,null,null,null,null,null,null,null,null,null,null,null,null,null,null,null,null,null,null,null,null,null,null,null,null,null,null,null,null,null,null,null,null,null,null,null,null,null,null,null,null,null,null,null,null,null,null,null,null,null,null,null,{"$f":"'List Data'!B83","v":"219-2"},{"$f":"IFERROR(INDEX('Dummy Data'!$M$8:$M$37,SMALL(IF('Dummy Data'!$F$8:$F$37=$BY86,ROW('Dummy Data'!$F$8:$F$37)-7,\"\"),COLUMNS($BZ$4:BZ86))),\"\")","v":""},{"$f":"IFERROR(INDEX('Dummy Data'!$M$8:$M$37,SMALL(IF('Dummy Data'!$F$8:$F$37=$BY86,ROW('Dummy Data'!$F$8:$F$37)-7,\"\"),COLUMNS($BZ$4:CA86))),\"\")","v":""},{"$f":"IFERROR(INDEX('Dummy Data'!$M$8:$M$37,SMALL(IF('Dummy Data'!$F$8:$F$37=$BY86,ROW('Dummy Data'!$F$8:$F$37)-7,\"\"),COLUMNS($BZ$4:CB86))),\"\")","v":""},{"$f":"IFERROR(INDEX('Dummy Data'!$M$8:$M$37,SMALL(IF('Dummy Data'!$F$8:$F$37=$BY86,ROW('Dummy Data'!$F$8:$F$37)-7,\"\"),COLUMNS($BZ$4:CC86))),\"\")","v":""},{"$f":"IFERROR(VLOOKUP(BZ86,'Dummy Data'!$B$73:$C$83,2,FALSE),\"\")","v":""},{"$f":"IFERROR(VLOOKUP(CA86,'Dummy Data'!$B$73:$C$83,2,FALSE),\"\")","v":""},{"$f":"IFERROR(VLOOKUP(CB86,'Dummy Data'!$B$73:$C$83,2,FALSE),\"\")","v":""},{"$f":"IFERROR(VLOOKUP(CC86,'Dummy Data'!$B$73:$C$83,2,FALSE),\"\")","v":""},""]
[null,null,null,null,"202-1","202-2","204-1","204-2","206-1","206-2","208-1","208-2",null,null,"210-1","210-2","212-1","212-2","214-1","214-2","216-1","216-2","218-1","218-2","220-1","220-2","222-1","222-2","248-1","248-2","249-1","249-2","250-1","250-2",null,null,null,null,null,null,null,null,null,null,null,null,null,null,null,null,null,null,null,null,null,null,null,null,null,null,null,null,null,null,null,null,null,null,null,null,null,null,null,null,null,null,{"$f":"'List Data'!B84","v":"220-1"},{"$f":"IFERROR(INDEX('Dummy Data'!$M$8:$M$37,SMALL(IF('Dummy Data'!$F$8:$F$37=$BY87,ROW('Dummy Data'!$F$8:$F$37)-7,\"\"),COLUMNS($BZ$4:BZ87))),\"\")","v":""},{"$f":"IFERROR(INDEX('Dummy Data'!$M$8:$M$37,SMALL(IF('Dummy Data'!$F$8:$F$37=$BY87,ROW('Dummy Data'!$F$8:$F$37)-7,\"\"),COLUMNS($BZ$4:CA87))),\"\")","v":""},{"$f":"IFERROR(INDEX('Dummy Data'!$M$8:$M$37,SMALL(IF('Dummy Data'!$F$8:$F$37=$BY87,ROW('Dummy Data'!$F$8:$F$37)-7,\"\"),COLUMNS($BZ$4:CB87))),\"\")","v":""},{"$f":"IFERROR(INDEX('Dummy Data'!$M$8:$M$37,SMALL(IF('Dummy Data'!$F$8:$F$37=$BY87,ROW('Dummy Data'!$F$8:$F$37)-7,\"\"),COLUMNS($BZ$4:CC87))),\"\")","v":""},{"$f":"IFERROR(VLOOKUP(BZ87,'Dummy Data'!$B$73:$C$83,2,FALSE),\"\")","v":""},{"$f":"IFERROR(VLOOKUP(CA87,'Dummy Data'!$B$73:$C$83,2,FALSE),\"\")","v":""},{"$f":"IFERROR(VLOOKUP(CB87,'Dummy Data'!$B$73:$C$83,2,FALSE),\"\")","v":""},{"$f":"IFERROR(VLOOKUP(CC87,'Dummy Data'!$B$73:$C$83,2,FALSE),\"\")","v":""},""]
[null,null,null,null,{"$f":"VLOOKUP(E87,'Dummy Data'!$BY$5:$CH$200,10,TRUE)","v":""},{"$f":"VLOOKUP(F87,'Dummy Data'!$BY$5:$CH$200,10,TRUE)","v":""},{"$f":"VLOOKUP(G87,'Dummy Data'!$BY$5:$CH$200,10,TRUE)","v":""},{"$f":"VLOOKUP(H87,'Dummy Data'!$BY$5:$CH$200,10,TRUE)","v":""},{"$f":"VLOOKUP(I87,'Dummy Data'!$BY$5:$CH$200,10,TRUE)","v":""},{"$f":"VLOOKUP(J87,'Dummy Data'!$BY$5:$CH$200,10,TRUE)","v":""},{"$f":"VLOOKUP(K87,'Dummy Data'!$BY$5:$CH$200,10,TRUE)","v":""},{"$f":"VLOOKUP(L87,'Dummy Data'!$BY$5:$CH$200,10,TRUE)","v":""},null,null,{"$f":"VLOOKUP(O87,'Dummy Data'!$BY$5:$CH$200,10,TRUE)","v":""},{"$f":"VLOOKUP(P87,'Dummy Data'!$BY$5:$CH$200,10,TRUE)","v":""},{"$f":"VLOOKUP(Q87,'Dummy Data'!$BY$5:$CH$200,10,TRUE)","v":""},{"$f":"VLOOKUP(R87,'Dummy Data'!$BY$5:$CH$200,10,TRUE)","v":""},{"$f":"VLOOKUP(S87,'Dummy Data'!$BY$5:$CH$200,10,TRUE)","v":""},{"$f":"VLOOKUP(T87,'Dummy Data'!$BY$5:$CH$200,10,TRUE)","v":""},{"$f":"VLOOKUP(U87,'Dummy Data'!$BY$5:$CH$200,10,TRUE)","v":""},{"$f":"VLOOKUP(V87,'Dummy Data'!$BY$5:$CH$200,10,TRUE)","v":""},{"$f":"VLOOKUP(W87,'Dummy Data'!$BY$5:$CH$200,10,TRUE)","v":""},{"$f":"VLOOKUP(X87,'Dummy Data'!$BY$5:$CH$200,10,TRUE)","v":""},{"$f":"VLOOKUP(Y87,'Dummy Data'!$BY$5:$CH$200,10,TRUE)","v":""},{"$f":"VLOOKUP(Z87,'Dummy Data'!$BY$5:$CH$200,10,TRUE)","v":""},{"$f":"VLOOKUP(AA87,'Dummy Data'!$BY$5:$CH$200,10,TRUE)","v":""},{"$f":"VLOOKUP(AB87,'Dummy Data'!$BY$5:$CH$200,10,TRUE)","v":""},{"$f":"VLOOKUP(AC87,'Dummy Data'!$BY$5:$CH$200,10,TRUE)","v":""},{"$f":"VLOOKUP(AD87,'Dummy Data'!$BY$5:$CH$200,10,TRUE)","v":""},{"$f":"VLOOKUP(AE87,'Dummy Data'!$BY$5:$CH$200,10,TRUE)","v":""},{"$f":"VLOOKUP(AF87,'Dummy Data'!$BY$5:$CH$200,10,TRUE)","v":""},{"$f":"VLOOKUP(AG87,'Dummy Data'!$BY$5:$CH$200,10,TRUE)","v":""},{"$f":"VLOOKUP(AH87,'Dummy Data'!$BY$5:$CH$200,10,TRUE)","v":""},null,null,null,null,null,null,null,null,null,null,null,null,null,null,null,null,null,null,null,null,null,null,null,null,null,null,null,null,null,null,null,null,null,null,null,null,null,null,null,null,null,null,{"$f":"'List Data'!B85","v":"220-2"},{"$f":"IFERROR(INDEX('Dummy Data'!$M$8:$M$37,SMALL(IF('Dummy Data'!$F$8:$F$37=$BY88,ROW('Dummy Data'!$F$8:$F$37)-7,\"\"),COLUMNS($BZ$4:BZ88))),\"\")","v":""},{"$f":"IFERROR(INDEX('Dummy Data'!$M$8:$M$37,SMALL(IF('Dummy Data'!$F$8:$F$37=$BY88,ROW('Dummy Data'!$F$8:$F$37)-7,\"\"),COLUMNS($BZ$4:CA88))),\"\")","v":""},{"$f":"IFERROR(INDEX('Dummy Data'!$M$8:$M$37,SMALL(IF('Dummy Data'!$F$8:$F$37=$BY88,ROW('Dummy Data'!$F$8:$F$37)-7,\"\"),COLUMNS($BZ$4:CB88))),\"\")","v":""},{"$f":"IFERROR(INDEX('Dummy Data'!$M$8:$M$37,SMALL(IF('Dummy Data'!$F$8:$F$37=$BY88,ROW('Dummy Data'!$F$8:$F$37)-7,\"\"),COLUMNS($BZ$4:CC88))),\"\")","v":""},{"$f":"IFERROR(VLOOKUP(BZ88,'Dummy Data'!$B$73:$C$83,2,FALSE),\"\")","v":""},{"$f":"IFERROR(VLOOKUP(CA88,'Dummy Data'!$B$73:$C$83,2,FALSE),\"\")","v":""},{"$f":"IFERROR(VLOOKUP(CB88,'Dummy Data'!$B$73:$C$83,2,FALSE),\"\")","v":""},{"$f":"IFERROR(VLOOKUP(CC88,'Dummy Data'!$B$73:$C$83,2,FALSE),\"\")","v":""},""]
[null,null,null,null,null,null,null,null,null,null,null,null,null,null,null,null,null,null,null,null,null,null,null,null,null,null,null,null,null,null,null,null,null,null,null,null,null,null,null,null,null,null,null,null,null,null,null,null,null,null,null,null,null,null,null,null,null,null,null,null,null,null,null,null,null,null,null,null,null,null,null,null,null,null,null,null,{"$f":"'List Data'!B86","v":"221-1"},{"$f":"IFERROR(INDEX('Dummy Data'!$M$8:$M$37,SMALL(IF('Dummy Data'!$F$8:$F$37=$BY89,ROW('Dummy Data'!$F$8:$F$37)-7,\"\"),COLUMNS($BZ$4:BZ89))),\"\")","v":""},{"$f":"IFERROR(INDEX('Dummy Data'!$M$8:$M$37,SMALL(IF('Dummy Data'!$F$8:$F$37=$BY89,ROW('Dummy Data'!$F$8:$F$37)-7,\"\"),COLUMNS($BZ$4:CA89))),\"\")","v":""},{"$f":"IFERROR(INDEX('Dummy Data'!$M$8:$M$37,SMALL(IF('Dummy Data'!$F$8:$F$37=$BY89,ROW('Dummy Data'!$F$8:$F$37)-7,\"\"),COLUMNS($BZ$4:CB89))),\"\")","v":""},{"$f":"IFERROR(INDEX('Dummy Data'!$M$8:$M$37,SMALL(IF('Dummy Data'!$F$8:$F$37=$BY89,ROW('Dummy Data'!$F$8:$F$37)-7,\"\"),COLUMNS($BZ$4:CC89))),\"\")","v":""},{"$f":"IFERROR(VLOOKUP(BZ89,'Dummy Data'!$B$73:$C$83,2,FALSE),\"\")","v":""},{"$f":"IFERROR(VLOOKUP(CA89,'Dummy Data'!$B$73:$C$83,2,FALSE),\"\")","v":""},{"$f":"IFERROR(VLOOKUP(CB89,'Dummy Data'!$B$73:$C$83,2,FALSE),\"\")","v":""},{"$f":"IFERROR(VLOOKUP(CC89,'Dummy Data'!$B$73:$C$83,2,FALSE),\"\")","v":""},""]
[null,null,null,null,"201-1","201-2","203-1","203-2","205-1","205-2","207-1","207-2",null,null,"209-1","209-2","211-1","211-2","213-1","213-2","215-1","215-2","217-1","217-2","219-1","219-2","221-1","221-2",null,null,null,null,null,null,null,null,null,null,null,null,null,null,null,null,null,null,null,null,null,null,null,null,null,null,null,null,null,null,null,null,null,null,null,null,null,null,null,null,null,null,null,null,null,null,null,null,{"$f":"'List Data'!B87","v":"221-2"},{"$f":"IFERROR(INDEX('Dummy Data'!$M$8:$M$37,SMALL(IF('Dummy Data'!$F$8:$F$37=$BY90,ROW('Dummy Data'!$F$8:$F$37)-7,\"\"),COLUMNS($BZ$4:BZ90))),\"\")","v":""},{"$f":"IFERROR(INDEX('Dummy Data'!$M$8:$M$37,SMALL(IF('Dummy Data'!$F$8:$F$37=$BY90,ROW('Dummy Data'!$F$8:$F$37)-7,\"\"),COLUMNS($BZ$4:CA90))),\"\")","v":""},{"$f":"IFERROR(INDEX('Dummy Data'!$M$8:$M$37,SMALL(IF('Dummy Data'!$F$8:$F$37=$BY90,ROW('Dummy Data'!$F$8:$F$37)-7,\"\"),COLUMNS($BZ$4:CB90))),\"\")","v":""},{"$f":"IFERROR(INDEX('Dummy Data'!$M$8:$M$37,SMALL(IF('Dummy Data'!$F$8:$F$37=$BY90,ROW('Dummy Data'!$F$8:$F$37)-7,\"\"),COLUMNS($BZ$4:CC90))),\"\")","v":""},{"$f":"IFERROR(VLOOKUP(BZ90,'Dummy Data'!$B$73:$C$83,2,FALSE),\"\")","v":""},{"$f":"IFERROR(VLOOKUP(CA90,'Dummy Data'!$B$73:$C$83,2,FALSE),\"\")","v":""},{"$f":"IFERROR(VLOOKUP(CB90,'Dummy Data'!$B$73:$C$83,2,FALSE),\"\")","v":""},{"$f":"IFERROR(VLOOKUP(CC90,'Dummy Data'!$B$73:$C$83,2,FALSE),\"\")","v":""},""]
[null,null,null,null,{"$f":"VLOOKUP(E90,'Dummy Data'!$BY$5:$CH$200,10,TRUE)","v":""},{"$f":"VLOOKUP(F90,'Dummy Data'!$BY$5:$CH$200,10,TRUE)","v":""},{"$f":"VLOOKUP(G90,'Dummy Data'!$BY$5:$CH$200,10,TRUE)","v":""},{"$f":"VLOOKUP(H90,'Dummy Data'!$BY$5:$CH$200,10,TRUE)","v":""},{"$f":"VLOOKUP(I90,'Dummy Data'!$BY$5:$CH$200,10,TRUE)","v":""},{"$f":"VLOOKUP(J90,'Dummy Data'!$BY$5:$CH$200,10,TRUE)","v":""},{"$f":"VLOOKUP(K90,'Dummy Data'!$BY$5:$CH$200,10,TRUE)","v":""},{"$f":"VLOOKUP(L90,'Dummy Data'!$BY$5:$CH$200,10,TRUE)","v":""},null,null,{"$f":"VLOOKUP(O90,'Dummy Data'!$BY$5:$CH$200,10,TRUE)","v":""},{"$f":"VLOOKUP(P90,'Dummy Data'!$BY$5:$CH$200,10,TRUE)","v":""},{"$f":"VLOOKUP(Q90,'Dummy Data'!$BY$5:$CH$200,10,TRUE)","v":""},{"$f":"VLOOKUP(R90,'Dummy Data'!$BY$5:$CH$200,10,TRUE)","v":""},{"$f":"VLOOKUP(S90,'Dummy Data'!$BY$5:$CH$200,10,TRUE)","v":""},{"$f":"VLOOKUP(T90,'Dummy Data'!$BY$5:$CH$200,10,TRUE)","v":""},{"$f":"VLOOKUP(U90,'Dummy Data'!$BY$5:$CH$200,10,TRUE)","v":""},{"$f":"VLOOKUP(V90,'Dummy Data'!$BY$5:$CH$200,10,TRUE)","v":""},{"$f":"VLOOKUP(W90,'Dummy Data'!$BY$5:$CH$200,10,TRUE)","v":""},{"$f":"VLOOKUP(X90,'Dummy Data'!$BY$5:$CH$200,10,TRUE)","v":""},{"$f":"VLOOKUP(Y90,'Dummy Data'!$BY$5:$CH$200,10,TRUE)","v":""},{"$f":"VLOOKUP(Z90,'Dummy Data'!$BY$5:$CH$200,10,TRUE)","v":""},{"$f":"VLOOKUP(AA90,'Dummy Data'!$BY$5:$CH$200,10,TRUE)","v":""},{"$f":"VLOOKUP(AB90,'Dummy Data'!$BY$5:$CH$200,10,TRUE)","v":""},null,null,null,null,null,null,null,null,null,null,null,null,null,null,null,null,null,null,null,null,null,null,null,null,null,null,null,null,null,null,null,null,null,null,null,null,null,null,null,null,null,null,null,null,null,null,null,null,{"$f":"'List Data'!B88","v":"222-1"},{"$f":"IFERROR(INDEX('Dummy Data'!$M$8:$M$37,SMALL(IF('Dummy Data'!$F$8:$F$37=$BY91,ROW('Dummy Data'!$F$8:$F$37)-7,\"\"),COLUMNS($BZ$4:BZ91))),\"\")","v":""},{"$f":"IFERROR(INDEX('Dummy Data'!$M$8:$M$37,SMALL(IF('Dummy Data'!$F$8:$F$37=$BY91,ROW('Dummy Data'!$F$8:$F$37)-7,\"\"),COLUMNS($BZ$4:CA91))),\"\")","v":""},{"$f":"IFERROR(INDEX('Dummy Data'!$M$8:$M$37,SMALL(IF('Dummy Data'!$F$8:$F$37=$BY91,ROW('Dummy Data'!$F$8:$F$37)-7,\"\"),COLUMNS($BZ$4:CB91))),\"\")","v":""},{"$f":"IFERROR(INDEX('Dummy Data'!$M$8:$M$37,SMALL(IF('Dummy Data'!$F$8:$F$37=$BY91,ROW('Dummy Data'!$F$8:$F$37)-7,\"\"),COLUMNS($BZ$4:CC91))),\"\")","v":""},{"$f":"IFERROR(VLOOKUP(BZ91,'Dummy Data'!$B$73:$C$83,2,FALSE),\"\")","v":""},{"$f":"IFERROR(VLOOKUP(CA91,'Dummy Data'!$B$73:$C$83,2,FALSE),\"\")","v":""},{"$f":"IFERROR(VLOOKUP(CB91,'Dummy Data'!$B$73:$C$83,2,FALSE),\"\")","v":""},{"$f":"IFERROR(VLOOKUP(CC91,'Dummy Data'!$B$73:$C$83,2,FALSE),\"\")","v":""},""]
[null,null,null,null,null,null,null,null,null,null,null,null,null,null,null,null,null,null,null,null,null,null,null,null,null,null,null,null,null,null,null,null,null,null,null,null,null,null,null,null,null,null,null,null,null,null,null,null,null,null,null,null,null,null,null,null,null,null,null,null,null,null,null,null,null,null,null,null,null,null,null,null,null,null,null,null,{"$f":"'List Data'!B89","v":"222-2"},{"$f":"IFERROR(INDEX('Dummy Data'!$M$8:$M$37,SMALL(IF('Dummy Data'!$F$8:$F$37=$BY92,ROW('Dummy Data'!$F$8:$F$37)-7,\"\"),COLUMNS($BZ$4:BZ92))),\"\")","v":""},{"$f":"IFERROR(INDEX('Dummy Data'!$M$8:$M$37,SMALL(IF('Dummy Data'!$F$8:$F$37=$BY92,ROW('Dummy Data'!$F$8:$F$37)-7,\"\"),COLUMNS($BZ$4:CA92))),\"\")","v":""},{"$f":"IFERROR(INDEX('Dummy Data'!$M$8:$M$37,SMALL(IF('Dummy Data'!$F$8:$F$37=$BY92,ROW('Dummy Data'!$F$8:$F$37)-7,\"\"),COLUMNS($BZ$4:CB92))),\"\")","v":""},{"$f":"IFERROR(INDEX('Dummy Data'!$M$8:$M$37,SMALL(IF('Dummy Data'!$F$8:$F$37=$BY92,ROW('Dummy Data'!$F$8:$F$37)-7,\"\"),COLUMNS($BZ$4:CC92))),\"\")","v":""},{"$f":"IFERROR(VLOOKUP(BZ92,'Dummy Data'!$B$73:$C$83,2,FALSE),\"\")","v":""},{"$f":"IFERROR(VLOOKUP(CA92,'Dummy Data'!$B$73:$C$83,2,FALSE),\"\")","v":""},{"$f":"IFERROR(VLOOKUP(CB92,'Dummy Data'!$B$73:$C$83,2,FALSE),\"\")","v":""},{"$f":"IFERROR(VLOOKUP(CC92,'Dummy Data'!$B$73:$C$83,2,FALSE),\"\")","v":""},""]
[null,null,null,null,null,null,null,"Second Floor (D Hall)",null,null,null,null,null,null,null,null,null,null,null,"Second Floor (D Hall)",null,null,null,null,null,null,null,null,null,null,null,null,null,null,null,null,null,null,null,null,null,null,null,null,null,null,null,null,null,null,null,null,null,null,null,null,null,null,null,null,null,null,null,null,null,null,null,null,null,null,null,null,null,null,null,null,{"$f":"'List Data'!B90","v":"223-1"},{"$f":"IFERROR(INDEX('Dummy Data'!$M$8:$M$37,SMALL(IF('Dummy Data'!$F$8:$F$37=$BY93,ROW('Dummy Data'!$F$8:$F$37)-7,\"\"),COLUMNS($BZ$4:BZ93))),\"\")","v":""},{"$f":"IFERROR(INDEX('Dummy Data'!$M$8:$M$37,SMALL(IF('Dummy Data'!$F$8:$F$37=$BY93,ROW('Dummy Data'!$F$8:$F$37)-7,\"\"),COLUMNS($BZ$4:CA93))),\"\")","v":""},{"$f":"IFERROR(INDEX('Dummy Data'!$M$8:$M$37,SMALL(IF('Dummy Data'!$F$8:$F$37=$BY93,ROW('Dummy Data'!$F$8:$F$37)-7,\"\"),COLUMNS($BZ$4:CB93))),\"\")","v":""},{"$f":"IFERROR(INDEX('Dummy Data'!$M$8:$M$37,SMALL(IF('Dummy Data'!$F$8:$F$37=$BY93,ROW('Dummy Data'!$F$8:$F$37)-7,\"\"),COLUMNS($BZ$4:CC93))),\"\")","v":""},{"$f":"IFERROR(VLOOKUP(BZ93,'Dummy Data'!$B$73:$C$83,2,FALSE),\"\")","v":""},{"$f":"IFERROR(VLOOKUP(CA93,'Dummy Data'!$B$73:$C$83,2,FALSE),\"\")","v":""},{"$f":"IFERROR(VLOOKUP(CB93,'Dummy Data'!$B$73:$C$83,2,FALSE),\"\")","v":""},{"$f":"IFERROR(VLOOKUP(CC93,'Dummy Data'!$B$73:$C$83,2,FALSE),\"\")","v":""},""]
[null,null,null,"302-1","302-2","304-1","304-2","306-1","306-2","308-1","308-2","310-1","310-2",null,null,null,null,"312-1","312-2","314-1","314-2",null,null,"316-1","316-2",null,null,null,null,null,null,null,null,null,null,null,null,null,null,null,null,null,null,null,null,null,null,null,null,null,null,null,null,null,null,null,null,null,null,null,null,null,null,null,null,null,null,null,null,null,null,null,null,null,null,null,{"$f":"'List Data'!B91","v":"223-2"},{"$f":"IFERROR(INDEX('Dummy Data'!$M$8:$M$37,SMALL(IF('Dummy Data'!$F$8:$F$37=$BY94,ROW('Dummy Data'!$F$8:$F$37)-7,\"\"),COLUMNS($BZ$4:BZ94))),\"\")","v":""},{"$f":"IFERROR(INDEX('Dummy Data'!$M$8:$M$37,SMALL(IF('Dummy Data'!$F$8:$F$37=$BY94,ROW('Dummy Data'!$F$8:$F$37)-7,\"\"),COLUMNS($BZ$4:CA94))),\"\")","v":""},{"$f":"IFERROR(INDEX('Dummy Data'!$M$8:$M$37,SMALL(IF('Dummy Data'!$F$8:$F$37=$BY94,ROW('Dummy Data'!$F$8:$F$37)-7,\"\"),COLUMNS($BZ$4:CB94))),\"\")","v":""},{"$f":"IFERROR(INDEX('Dummy Data'!$M$8:$M$37,SMALL(IF('Dummy Data'!$F$8:$F$37=$BY94,ROW('Dummy Data'!$F$8:$F$37)-7,\"\"),COLUMNS($BZ$4:CC94))),\"\")","v":""},{"$f":"IFERROR(VLOOKUP(BZ94,'Dummy Data'!$B$73:$C$83,2,FALSE),\"\")","v":""},{"$f":"IFERROR(VLOOKUP(CA94,'Dummy Data'!$B$73:$C$83,2,FALSE),\"\")","v":""},{"$f":"IFERROR(VLOOKUP(CB94,'Dummy Data'!$B$73:$C$83,2,FALSE),\"\")","v":""},{"$f":"IFERROR(VLOOKUP(CC94,'Dummy Data'!$B$73:$C$83,2,FALSE),\"\")","v":""},""]
[null,null,null,{"$f":"VLOOKUP(D94,'Dummy Data'!$BY$5:$CH$200,10,TRUE)","v":""},{"$f":"VLOOKUP(E94,'Dummy Data'!$BY$5:$CH$200,10,TRUE)","v":""},{"$f":"VLOOKUP(F94,'Dummy Data'!$BY$5:$CH$200,10,TRUE)","v":""},{"$f":"VLOOKUP(G94,'Dummy Data'!$BY$5:$CH$200,10,TRUE)","v":""},{"$f":"VLOOKUP(H94,'Dummy Data'!$BY$5:$CH$200,10,TRUE)","v":""},{"$f":"VLOOKUP(I94,'Dummy Data'!$BY$5:$CH$200,10,TRUE)","v":""},{"$f":"VLOOKUP(J94,'Dummy Data'!$BY$5:$CH$200,10,TRUE)","v":""},{"$f":"VLOOKUP(K94,'Dummy Data'!$BY$5:$CH$200,10,TRUE)","v":""},{"$f":"VLOOKUP(L94,'Dummy Data'!$BY$5:$CH$200,10,TRUE)","v":""},{"$f":"VLOOKUP(M94,'Dummy Data'!$BY$5:$CH$200,10,TRUE)","v":""},null,null,null,null,{"$f":"VLOOKUP(R94,'Dummy Data'!$BY$5:$CH$200,10,TRUE)","v":""},{"$f":"VLOOKUP(S94,'Dummy Data'!$BY$5:$CH$200,10,TRUE)","v":""},{"$f":"VLOOKUP(T94,'Dummy Data'!$BY$5:$CH$200,10,TRUE)","v":""},{"$f":"VLOOKUP(U94,'Dummy Data'!$BY$5:$CH$200,10,TRUE)","v":""},null,null,{"$f":"VLOOKUP(X94,'Dummy Data'!$BY$5:$CH$200,10,TRUE)","v":""},{"$f":"VLOOKUP(Y94,'Dummy Data'!$BY$5:$CH$200,10,TRUE)","v":""},null,null,null,null,null,null,null,null,null,null,null,null,null,null,null,null,null,null,null,null,null,null,null,null,null,null,null,null,null,null,null,null,null,null,null,null,null,null,null,null,null,null,null,null,null,null,null,null,null,null,null,{"$f":"'List Data'!B92","v":"224-1"},{"$f":"IFERROR(INDEX('Dummy Data'!$M$8:$M$37,SMALL(IF('Dummy Data'!$F$8:$F$37=$BY95,ROW('Dummy Data'!$F$8:$F$37)-7,\"\"),COLUMNS($BZ$4:BZ95))),\"\")","v":""},{"$f":"IFERROR(INDEX('Dummy Data'!$M$8:$M$37,SMALL(IF('Dummy Data'!$F$8:$F$37=$BY95,ROW('Dummy Data'!$F$8:$F$37)-7,\"\"),COLUMNS($BZ$4:CA95))),\"\")","v":""},{"$f":"IFERROR(INDEX('Dummy Data'!$M$8:$M$37,SMALL(IF('Dummy Data'!$F$8:$F$37=$BY95,ROW('Dummy Data'!$F$8:$F$37)-7,\"\"),COLUMNS($BZ$4:CB95))),\"\")","v":""},{"$f":"IFERROR(INDEX('Dummy Data'!$M$8:$M$37,SMALL(IF('Dummy Data'!$F$8:$F$37=$BY95,ROW('Dummy Data'!$F$8:$F$37)-7,\"\"),COLUMNS($BZ$4:CC95))),\"\")","v":""},{"$f":"IFERROR(VLOOKUP(BZ95,'Dummy Data'!$B$73:$C$83,2,FALSE),\"\")","v":""},{"$f":"IFERROR(VLOOKUP(CA95,'Dummy Data'!$B$73:$C$83,2,FALSE),\"\")","v":""},{"$f":"IFERROR(VLOOKUP(CB95,'Dummy Data'!$B$73:$C$83,2,FALSE),\"\")","v":""},{"$f":"IFERROR(VLOOKUP(CC95,'Dummy Data'!$B$73:$C$83,2,FALSE),\"\")","v":""},""]
[null,null,null,null,null,null,null,null,null,null,null,null,null,null,null,null,null,null,null,null,null,null,null,null,null,null,null,null,null,null,null,null,null,null,null,null,null,null,null,null,null,null,null,null,null,null,null,null,null,null,null,null,null,null,null,null,null,null,null,null,null,null,null,null,null,null,null,null,null,null,null,null,null,null,null,null,{"$f":"'List Data'!B93","v":"224-2"},{"$f":"IFERROR(INDEX('Dummy Data'!$M$8:$M$37,SMALL(IF('Dummy Data'!$F$8:$F$37=$BY96,ROW('Dummy Data'!$F$8:$F$37)-7,\"\"),COLUMNS($BZ$4:BZ96))),\"\")","v":""},{"$f":"IFERROR(INDEX('Dummy Data'!$M$8:$M$37,SMALL(IF('Dummy Data'!$F$8:$F$37=$BY96,ROW('Dummy Data'!$F$8:$F$37)-7,\"\"),COLUMNS($BZ$4:CA96))),\"\")","v":""},{"$f":"IFERROR(INDEX('Dummy Data'!$M$8:$M$37,SMALL(IF('Dummy Data'!$F$8:$F$37=$BY96,ROW('Dummy Data'!$F$8:$F$37)-7,\"\"),COLUMNS($BZ$4:CB96))),\"\")","v":""},{"$f":"IFERROR(INDEX('Dummy Data'!$M$8:$M$37,SMALL(IF('Dummy Data'!$F$8:$F$37=$BY96,ROW('Dummy Data'!$F$8:$F$37)-7,\"\"),COLUMNS($BZ$4:CC96))),\"\")","v":""},{"$f":"IFERROR(VLOOKUP(BZ96,'Dummy Data'!$B$73:$C$83,2,FALSE),\"\")","v":""},{"$f":"IFERROR(VLOOKUP(CA96,'Dummy Data'!$B$73:$C$83,2,FALSE),\"\")","v":""},{"$f":"IFERROR(VLOOKUP(CB96,'Dummy Data'!$B$73:$C$83,2,FALSE),\"\")","v":""},{"$f":"IFERROR(VLOOKUP(CC96,'Dummy Data'!$B$73:$C$83,2,FALSE),\"\")","v":""},""]
[null,null,null,"301-1","301-2","303-1","303-2","305-1","305-2","307-1","307-2","309-1","309-2",null,"319-1","319-2",null,"311-1","311-2","313-1","313-2","315-1","315-2","317-1","317-2",null,null,null,null,null,null,null,null,null,null,null,null,null,null,null,null,null,null,null,null,null,null,null,null,null,null,null,null,null,null,null,null,null,null,null,null,null,null,null,null,null,null,null,null,null,null,null,null,null,null,null,{"$f":"'List Data'!B94","v":"225-1"},{"$f":"IFERROR(INDEX('Dummy Data'!$M$8:$M$37,SMALL(IF('Dummy Data'!$F$8:$F$37=$BY97,ROW('Dummy Data'!$F$8:$F$37)-7,\"\"),COLUMNS($BZ$4:BZ97))),\"\")","v":""},{"$f":"IFERROR(INDEX('Dummy Data'!$M$8:$M$37,SMALL(IF('Dummy Data'!$F$8:$F$37=$BY97,ROW('Dummy Data'!$F$8:$F$37)-7,\"\"),COLUMNS($BZ$4:CA97))),\"\")","v":""},{"$f":"IFERROR(INDEX('Dummy Data'!$M$8:$M$37,SMALL(IF('Dummy Data'!$F$8:$F$37=$BY97,ROW('Dummy Data'!$F$8:$F$37)-7,\"\"),COLUMNS($BZ$4:CB97))),\"\")","v":""},{"$f":"IFERROR(INDEX('Dummy Data'!$M$8:$M$37,SMALL(IF('Dummy Data'!$F$8:$F$37=$BY97,ROW('Dummy Data'!$F$8:$F$37)-7,\"\"),COLUMNS($BZ$4:CC97))),\"\")","v":""},{"$f":"IFERROR(VLOOKUP(BZ97,'Dummy Data'!$B$73:$C$83,2,FALSE),\"\")","v":""},{"$f":"IFERROR(VLOOKUP(CA97,'Dummy Data'!$B$73:$C$83,2,FALSE),\"\")","v":""},{"$f":"IFERROR(VLOOKUP(CB97,'Dummy Data'!$B$73:$C$83,2,FALSE),\"\")","v":""},{"$f":"IFERROR(VLOOKUP(CC97,'Dummy Data'!$B$73:$C$83,2,FALSE),\"\")","v":""},""]
[null,null,null,{"$f":"VLOOKUP(D97,'Dummy Data'!$BY$5:$CH$200,10,TRUE)","v":""},{"$f":"VLOOKUP(E97,'Dummy Data'!$BY$5:$CH$200,10,TRUE)","v":""},{"$f":"VLOOKUP(F97,'Dummy Data'!$BY$5:$CH$200,10,TRUE)","v":""},{"$f":"VLOOKUP(G97,'Dummy Data'!$BY$5:$CH$200,10,TRUE)","v":""},{"$f":"VLOOKUP(H97,'Dummy Data'!$BY$5:$CH$200,10,TRUE)","v":""},{"$f":"VLOOKUP(I97,'Dummy Data'!$BY$5:$CH$200,10,TRUE)","v":""},{"$f":"VLOOKUP(J97,'Dummy Data'!$BY$5:$CH$200,10,TRUE)","v":""},{"$f":"VLOOKUP(K97,'Dummy Data'!$BY$5:$CH$200,10,TRUE)","v":""},{"$f":"VLOOKUP(L97,'Dummy Data'!$BY$5:$CH$200,10,TRUE)","v":""},{"$f":"VLOOKUP(M97,'Dummy Data'!$BY$5:$CH$200,10,TRUE)","v":""},null,{"$f":"VLOOKUP(O97,'Dummy Data'!$BY$5:$CH$200,10,TRUE)","v":""},{"$f":"VLOOKUP(P97,'Dummy Data'!$BY$5:$CH$200,10,TRUE)","v":""},null,{"$f":"VLOOKUP(R97,'Dummy Data'!$BY$5:$CH$200,10,TRUE)","v":""},{"$f":"VLOOKUP(S97,'Dummy Data'!$BY$5:$CH$200,10,TRUE)","v":""},{"$f":"VLOOKUP(T97,'Dummy Data'!$BY$5:$CH$200,10,TRUE)","v":""},{"$f":"VLOOKUP(U97,'Dummy Data'!$BY$5:$CH$200,10,TRUE)","v":""},{"$f":"VLOOKUP(V97,'Dummy Data'!$BY$5:$CH$200,10,TRUE)","v":""},{"$f":"VLOOKUP(W97,'Dummy Data'!$BY$5:$CH$200,10,TRUE)","v":""},{"$f":"VLOOKUP(X97,'Dummy Data'!$BY$5:$CH$200,10,TRUE)","v":""},{"$f":"VLOOKUP(Y97,'Dummy Data'!$BY$5:$CH$200,10,TRUE)","v":""},null,null,null,null,null,null,null,null,null,null,null,null,null,null,null,null,null,null,null,null,null,null,null,null,null,null,null,null,null,null,null,null,null,null,null,null,null,null,null,null,null,null,null,null,null,null,null,null,null,null,null,{"$f":"'List Data'!B95","v":"225-2"},{"$f":"IFERROR(INDEX('Dummy Data'!$M$8:$M$37,SMALL(IF('Dummy Data'!$F$8:$F$37=$BY98,ROW('Dummy Data'!$F$8:$F$37)-7,\"\"),COLUMNS($BZ$4:BZ98))),\"\")","v":""},{"$f":"IFERROR(INDEX('Dummy Data'!$M$8:$M$37,SMALL(IF('Dummy Data'!$F$8:$F$37=$BY98,ROW('Dummy Data'!$F$8:$F$37)-7,\"\"),COLUMNS($BZ$4:CA98))),\"\")","v":""},{"$f":"IFERROR(INDEX('Dummy Data'!$M$8:$M$37,SMALL(IF('Dummy Data'!$F$8:$F$37=$BY98,ROW('Dummy Data'!$F$8:$F$37)-7,\"\"),COLUMNS($BZ$4:CB98))),\"\")","v":""},{"$f":"IFERROR(INDEX('Dummy Data'!$M$8:$M$37,SMALL(IF('Dummy Data'!$F$8:$F$37=$BY98,ROW('Dummy Data'!$F$8:$F$37)-7,\"\"),COLUMNS($BZ$4:CC98))),\"\")","v":""},{"$f":"IFERROR(VLOOKUP(BZ98,'Dummy Data'!$B$73:$C$83,2,FALSE),\"\")","v":""},{"$f":"IFERROR(VLOOKUP(CA98,'Dummy Data'!$B$73:$C$83,2,FALSE),\"\")","v":""},{"$f":"IFERROR(VLOOKUP(CB98,'Dummy Data'!$B$73:$C$83,2,FALSE),\"\")","v":""},{"$f":"IFERROR(VLOOKUP(CC98,'Dummy Data'!$B$73:$C$83,2,FALSE),\"\")","v":""},""]
[null,null,null,null,null,null,null,null,null,null,null,null,null,null,null,null,null,null,null,null,null,null,null,null,null,null,null,null,null,null,null,null,null,null,null,null,null,null,null,null,null,null,null,null,null,null,null,null,null,null,null,null,null,null,null,null,null,null,null,null,null,null,null,null,null,null,null,null,null,null,null,null,null,null,null,null,{"$f":"'List Data'!B96","v":"226-1"},{"$f":"IFERROR(INDEX('Dummy Data'!$M$8:$M$37,SMALL(IF('Dummy Data'!$F$8:$F$37=$BY99,ROW('Dummy Data'!$F$8:$F$37)-7,\"\"),COLUMNS($BZ$4:BZ99))),\"\")","v":""},{"$f":"IFERROR(INDEX('Dummy Data'!$M$8:$M$37,SMALL(IF('Dummy Data'!$F$8:$F$37=$BY99,ROW('Dummy Data'!$F$8:$F$37)-7,\"\"),COLUMNS($BZ$4:CA99))),\"\")","v":""},{"$f":"IFERROR(INDEX('Dummy Data'!$M$8:$M$37,SMALL(IF('Dummy Data'!$F$8:$F$37=$BY99,ROW('Dummy Data'!$F$8:$F$37)-7,\"\"),COLUMNS($BZ$4:CB99))),\"\")","v":""},{"$f":"IFERROR(INDEX('Dummy Data'!$M$8:$M$37,SMALL(IF('Dummy Data'!$F$8:$F$37=$BY99,ROW('Dummy Data'!$F$8:$F$37)-7,\"\"),COLUMNS($BZ$4:CC99))),\"\")","v":""},{"$f":"IFERROR(VLOOKUP(BZ99,'Dummy Data'!$B$73:$C$83,2,FALSE),\"\")","v":""},{"$f":"IFERROR(VLOOKUP(CA99,'Dummy Data'!$B$73:$C$83,2,FALSE),\"\")","v":""},{"$f":"IFERROR(VLOOKUP(CB99,'Dummy Data'!$B$73:$C$83,2,FALSE),\"\")","v":""},{"$f":"IFERROR(VLOOKUP(CC99,'Dummy Data'!$B$73:$C$83,2,FALSE),\"\")","v":""},""]
[null,null,null,null,null,null,null,null,null,null,null,null,null,null,null,null,null,null,null,null,null,null,null,null,null,null,null,null,null,null,null,null,null,null,null,null,null,null,null,null,null,null,null,null,null,null,null,null,null,null,null,null,null,null,null,null,null,null,null,null,null,null,null,null,null,null,null,null,null,null,null,null,null,null,null,null,{"$f":"'List Data'!B97","v":"226-2"},{"$f":"IFERROR(INDEX('Dummy Data'!$M$8:$M$37,SMALL(IF('Dummy Data'!$F$8:$F$37=$BY100,ROW('Dummy Data'!$F$8:$F$37)-7,\"\"),COLUMNS($BZ$4:BZ100))),\"\")","v":""},{"$f":"IFERROR(INDEX('Dummy Data'!$M$8:$M$37,SMALL(IF('Dummy Data'!$F$8:$F$37=$BY100,ROW('Dummy Data'!$F$8:$F$37)-7,\"\"),COLUMNS($BZ$4:CA100))),\"\")","v":""},{"$f":"IFERROR(INDEX('Dummy Data'!$M$8:$M$37,SMALL(IF('Dummy Data'!$F$8:$F$37=$BY100,ROW('Dummy Data'!$F$8:$F$37)-7,\"\"),COLUMNS($BZ$4:CB100))),\"\")","v":""},{"$f":"IFERROR(INDEX('Dummy Data'!$M$8:$M$37,SMALL(IF('Dummy Data'!$F$8:$F$37=$BY100,ROW('Dummy Data'!$F$8:$F$37)-7,\"\"),COLUMNS($BZ$4:CC100))),\"\")","v":""},{"$f":"IFERROR(VLOOKUP(BZ100,'Dummy Data'!$B$73:$C$83,2,FALSE),\"\")","v":""},{"$f":"IFERROR(VLOOKUP(CA100,'Dummy Data'!$B$73:$C$83,2,FALSE),\"\")","v":""},{"$f":"IFERROR(VLOOKUP(CB100,'Dummy Data'!$B$73:$C$83,2,FALSE),\"\")","v":""},{"$f":"IFERROR(VLOOKUP(CC100,'Dummy Data'!$B$73:$C$83,2,FALSE),\"\")","v":""},""]
[null,null,null,null,null,null,null,null,null,null,null,null,null,null,null,null,null,null,null,null,null,null,null,null,null,null,null,null,null,null,null,null,null,null,null,null,null,null,null,null,null,null,null,null,null,null,null,null,null,null,null,null,null,null,null,null,null,null,null,null,null,null,null,null,null,null,null,null,null,null,null,null,null,null,null,null,{"$f":"'List Data'!B98","v":"227-1"},{"$f":"IFERROR(INDEX('Dummy Data'!$M$8:$M$37,SMALL(IF('Dummy Data'!$F$8:$F$37=$BY101,ROW('Dummy Data'!$F$8:$F$37)-7,\"\"),COLUMNS($BZ$4:BZ101))),\"\")","v":""},{"$f":"IFERROR(INDEX('Dummy Data'!$M$8:$M$37,SMALL(IF('Dummy Data'!$F$8:$F$37=$BY101,ROW('Dummy Data'!$F$8:$F$37)-7,\"\"),COLUMNS($BZ$4:CA101))),\"\")","v":""},{"$f":"IFERROR(INDEX('Dummy Data'!$M$8:$M$37,SMALL(IF('Dummy Data'!$F$8:$F$37=$BY101,ROW('Dummy Data'!$F$8:$F$37)-7,\"\"),COLUMNS($BZ$4:CB101))),\"\")","v":""},{"$f":"IFERROR(INDEX('Dummy Data'!$M$8:$M$37,SMALL(IF('Dummy Data'!$F$8:$F$37=$BY101,ROW('Dummy Data'!$F$8:$F$37)-7,\"\"),COLUMNS($BZ$4:CC101))),\"\")","v":""},{"$f":"IFERROR(VLOOKUP(BZ101,'Dummy Data'!$B$73:$C$83,2,FALSE),\"\")","v":""},{"$f":"IFERROR(VLOOKUP(CA101,'Dummy Data'!$B$73:$C$83,2,FALSE),\"\")","v":""},{"$f":"IFERROR(VLOOKUP(CB101,'Dummy Data'!$B$73:$C$83,2,FALSE),\"\")","v":""},{"$f":"IFERROR(VLOOKUP(CC101,'Dummy Data'!$B$73:$C$83,2,FALSE),\"\")","v":""},""]
[null,null,null,null,null,null,null,null,null,null,null,null,null,null,null,null,null,null,null,null,null,null,null,null,null,null,null,null,null,null,null,null,null,null,null,null,null,null,null,null,null,null,null,null,null,null,null,null,null,null,null,null,null,null,null,null,null,null,null,null,null,null,null,null,null,null,null,null,null,null,null,null,null,null,null,null,{"$f":"'List Data'!B99","v":"227-2"},{"$f":"IFERROR(INDEX('Dummy Data'!$M$8:$M$37,SMALL(IF('Dummy Data'!$F$8:$F$37=$BY102,ROW('Dummy Data'!$F$8:$F$37)-7,\"\"),COLUMNS($BZ$4:BZ102))),\"\")","v":""},{"$f":"IFERROR(INDEX('Dummy Data'!$M$8:$M$37,SMALL(IF('Dummy Data'!$F$8:$F$37=$BY102,ROW('Dummy Data'!$F$8:$F$37)-7,\"\"),COLUMNS($BZ$4:CA102))),\"\")","v":""},{"$f":"IFERROR(INDEX('Dummy Data'!$M$8:$M$37,SMALL(IF('Dummy Data'!$F$8:$F$37=$BY102,ROW('Dummy Data'!$F$8:$F$37)-7,\"\"),COLUMNS($BZ$4:CB102))),\"\")","v":""},{"$f":"IFERROR(INDEX('Dummy Data'!$M$8:$M$37,SMALL(IF('Dummy Data'!$F$8:$F$37=$BY102,ROW('Dummy Data'!$F$8:$F$37)-7,\"\"),COLUMNS($BZ$4:CC102))),\"\")","v":""},{"$f":"IFERROR(VLOOKUP(BZ102,'Dummy Data'!$B$73:$C$83,2,FALSE),\"\")","v":""},{"$f":"IFERROR(VLOOKUP(CA102,'Dummy Data'!$B$73:$C$83,2,FALSE),\"\")","v":""},{"$f":"IFERROR(VLOOKUP(CB102,'Dummy Data'!$B$73:$C$83,2,FALSE),\"\")","v":""},{"$f":"IFERROR(VLOOKUP(CC102,'Dummy Data'!$B$73:$C$83,2,FALSE),\"\")","v":""},""]
[null,null,null,null,null,null,null,null,null,null,null,null,null,null,null,null,null,null,null,null,null,null,null,null,null,null,null,null,null,null,null,null,null,null,null,null,null,null,null,null,null,null,null,null,null,null,null,null,null,null,null,null,null,null,null,null,null,null,null,null,null,null,null,null,null,null,null,null,null,null,null,null,null,null,null,null,{"$f":"'List Data'!B100","v":"228-1"},{"$f":"IFERROR(INDEX('Dummy Data'!$M$8:$M$37,SMALL(IF('Dummy Data'!$F$8:$F$37=$BY103,ROW('Dummy Data'!$F$8:$F$37)-7,\"\"),COLUMNS($BZ$4:BZ103))),\"\")","v":""},{"$f":"IFERROR(INDEX('Dummy Data'!$M$8:$M$37,SMALL(IF('Dummy Data'!$F$8:$F$37=$BY103,ROW('Dummy Data'!$F$8:$F$37)-7,\"\"),COLUMNS($BZ$4:CA103))),\"\")","v":""},{"$f":"IFERROR(INDEX('Dummy Data'!$M$8:$M$37,SMALL(IF('Dummy Data'!$F$8:$F$37=$BY103,ROW('Dummy Data'!$F$8:$F$37)-7,\"\"),COLUMNS($BZ$4:CB103))),\"\")","v":""},{"$f":"IFERROR(INDEX('Dummy Data'!$M$8:$M$37,SMALL(IF('Dummy Data'!$F$8:$F$37=$BY103,ROW('Dummy Data'!$F$8:$F$37)-7,\"\"),COLUMNS($BZ$4:CC103))),\"\")","v":""},{"$f":"IFERROR(VLOOKUP(BZ103,'Dummy Data'!$B$73:$C$83,2,FALSE),\"\")","v":""},{"$f":"IFERROR(VLOOKUP(CA103,'Dummy Data'!$B$73:$C$83,2,FALSE),\"\")","v":""},{"$f":"IFERROR(VLOOKUP(CB103,'Dummy Data'!$B$73:$C$83,2,FALSE),\"\")","v":""},{"$f":"IFERROR(VLOOKUP(CC103,'Dummy Data'!$B$73:$C$83,2,FALSE),\"\")","v":""},""]
[null,null,null,null,null,null,null,null,null,null,null,null,null,null,null,null,null,null,null,null,null,null,null,null,null,null,null,null,null,null,null,null,null,null,null,null,null,null,null,null,null,null,null,null,null,null,null,null,null,null,null,null,null,null,null,null,null,null,null,null,null,null,null,null,null,null,null,null,null,null,null,null,null,null,null,null,{"$f":"'List Data'!B101","v":"228-2"},{"$f":"IFERROR(INDEX('Dummy Data'!$M$8:$M$37,SMALL(IF('Dummy Data'!$F$8:$F$37=$BY104,ROW('Dummy Data'!$F$8:$F$37)-7,\"\"),COLUMNS($BZ$4:BZ104))),\"\")","v":""},{"$f":"IFERROR(INDEX('Dummy Data'!$M$8:$M$37,SMALL(IF('Dummy Data'!$F$8:$F$37=$BY104,ROW('Dummy Data'!$F$8:$F$37)-7,\"\"),COLUMNS($BZ$4:CA104))),\"\")","v":""},{"$f":"IFERROR(INDEX('Dummy Data'!$M$8:$M$37,SMALL(IF('Dummy Data'!$F$8:$F$37=$BY104,ROW('Dummy Data'!$F$8:$F$37)-7,\"\"),COLUMNS($BZ$4:CB104))),\"\")","v":""},{"$f":"IFERROR(INDEX('Dummy Data'!$M$8:$M$37,SMALL(IF('Dummy Data'!$F$8:$F$37=$BY104,ROW('Dummy Data'!$F$8:$F$37)-7,\"\"),COLUMNS($BZ$4:CC104))),\"\")","v":""},{"$f":"IFERROR(VLOOKUP(BZ104,'Dummy Data'!$B$73:$C$83,2,FALSE),\"\")","v":""},{"$f":"IFERROR(VLOOKUP(CA104,'Dummy Data'!$B$73:$C$83,2,FALSE),\"\")","v":""},{"$f":"IFERROR(VLOOKUP(CB104,'Dummy Data'!$B$73:$C$83,2,FALSE),\"\")","v":""},{"$f":"IFERROR(VLOOKUP(CC104,'Dummy Data'!$B$73:$C$83,2,FALSE),\"\")","v":""},""]
[null,"Root Cause Analysis of Infections",null,null,null,null,null,null,null,null,null,null,null,null,null,null,null,null,null,null,null,null,null,null,null,null,null,null,null,null,null,null,null,null,null,null,null,null,null,null,null,null,null,null,null,null,null,null,null,null,null,null,null,null,null,null,null,null,null,null,null,null,null,null,null,null,null,null,null,null,null,null,null,null,null,null,{"$f":"'List Data'!B102","v":"229-1"},{"$f":"IFERROR(INDEX('Dummy Data'!$M$8:$M$37,SMALL(IF('Dummy Data'!$F$8:$F$37=$BY105,ROW('Dummy Data'!$F$8:$F$37)-7,\"\"),COLUMNS($BZ$4:BZ105))),\"\")","v":""},{"$f":"IFERROR(INDEX('Dummy Data'!$M$8:$M$37,SMALL(IF('Dummy Data'!$F$8:$F$37=$BY105,ROW('Dummy Data'!$F$8:$F$37)-7,\"\"),COLUMNS($BZ$4:CA105))),\"\")","v":""},{"$f":"IFERROR(INDEX('Dummy Data'!$M$8:$M$37,SMALL(IF('Dummy Data'!$F$8:$F$37=$BY105,ROW('Dummy Data'!$F$8:$F$37)-7,\"\"),COLUMNS($BZ$4:CB105))),\"\")","v":""},{"$f":"IFERROR(INDEX('Dummy Data'!$M$8:$M$37,SMALL(IF('Dummy Data'!$F$8:$F$37=$BY105,ROW('Dummy Data'!$F$8:$F$37)-7,\"\"),COLUMNS($BZ$4:CC105))),\"\")","v":""},{"$f":"IFERROR(VLOOKUP(BZ105,'Dummy Data'!$B$73:$C$83,2,FALSE),\"\")","v":""},{"$f":"IFERROR(VLOOKUP(CA105,'Dummy Data'!$B$73:$C$83,2,FALSE),\"\")","v":""},{"$f":"IFERROR(VLOOKUP(CB105,'Dummy Data'!$B$73:$C$83,2,FALSE),\"\")","v":""},{"$f":"IFERROR(VLOOKUP(CC105,'Dummy Data'!$B$73:$C$83,2,FALSE),\"\")","v":""},""]
[null,"Infection Trends/Clusters (hall, simliar type infections):",null,null,null,null,null,null,null,null,null,null,null,null,null,null,null,null,null,null,null,null,null,null,null,null,null,null,null,null,null,null,null,null,null,null,null,null,null,null,null,null,null,null,null,null,null,null,null,null,null,null,null,null,null,null,null,null,null,null,null,null,null,null,null,null,null,null,null,null,null,null,null,null,null,null,{"$f":"'List Data'!B103","v":"229-2"},{"$f":"IFERROR(INDEX('Dummy Data'!$M$8:$M$37,SMALL(IF('Dummy Data'!$F$8:$F$37=$BY106,ROW('Dummy Data'!$F$8:$F$37)-7,\"\"),COLUMNS($BZ$4:BZ106))),\"\")","v":""},{"$f":"IFERROR(INDEX('Dummy Data'!$M$8:$M$37,SMALL(IF('Dummy Data'!$F$8:$F$37=$BY106,ROW('Dummy Data'!$F$8:$F$37)-7,\"\"),COLUMNS($BZ$4:CA106))),\"\")","v":""},{"$f":"IFERROR(INDEX('Dummy Data'!$M$8:$M$37,SMALL(IF('Dummy Data'!$F$8:$F$37=$BY106,ROW('Dummy Data'!$F$8:$F$37)-7,\"\"),COLUMNS($BZ$4:CB106))),\"\")","v":""},{"$f":"IFERROR(INDEX('Dummy Data'!$M$8:$M$37,SMALL(IF('Dummy Data'!$F$8:$F$37=$BY106,ROW('Dummy Data'!$F$8:$F$37)-7,\"\"),COLUMNS($BZ$4:CC106))),\"\")","v":""},{"$f":"IFERROR(VLOOKUP(BZ106,'Dummy Data'!$B$73:$C$83,2,FALSE),\"\")","v":""},{"$f":"IFERROR(VLOOKUP(CA106,'Dummy Data'!$B$73:$C$83,2,FALSE),\"\")","v":""},{"$f":"IFERROR(VLOOKUP(CB106,'Dummy Data'!$B$73:$C$83,2,FALSE),\"\")","v":""},{"$f":"IFERROR(VLOOKUP(CC106,'Dummy Data'!$B$73:$C$83,2,FALSE),\"\")","v":""},""]
[null,"Outbreaks:",null,null,null,null,null,null,null,null,null,null,null,null,null,null,null,null,null,null,null,null,null,null,null,null,null,null,null,null,null,null,null,null,null,null,null,null,null,null,null,null,null,null,null,null,null,null,null,null,null,null,null,null,null,null,null,null,null,null,null,null,null,null,null,null,null,null,null,null,null,null,null,null,null,null,{"$f":"'List Data'!B104","v":"230-1"},{"$f":"IFERROR(INDEX('Dummy Data'!$M$8:$M$37,SMALL(IF('Dummy Data'!$F$8:$F$37=$BY107,ROW('Dummy Data'!$F$8:$F$37)-7,\"\"),COLUMNS($BZ$4:BZ107))),\"\")","v":""},{"$f":"IFERROR(INDEX('Dummy Data'!$M$8:$M$37,SMALL(IF('Dummy Data'!$F$8:$F$37=$BY107,ROW('Dummy Data'!$F$8:$F$37)-7,\"\"),COLUMNS($BZ$4:CA107))),\"\")","v":""},{"$f":"IFERROR(INDEX('Dummy Data'!$M$8:$M$37,SMALL(IF('Dummy Data'!$F$8:$F$37=$BY107,ROW('Dummy Data'!$F$8:$F$37)-7,\"\"),COLUMNS($BZ$4:CB107))),\"\")","v":""},{"$f":"IFERROR(INDEX('Dummy Data'!$M$8:$M$37,SMALL(IF('Dummy Data'!$F$8:$F$37=$BY107,ROW('Dummy Data'!$F$8:$F$37)-7,\"\"),COLUMNS($BZ$4:CC107))),\"\")","v":""},{"$f":"IFERROR(VLOOKUP(BZ107,'Dummy Data'!$B$73:$C$83,2,FALSE),\"\")","v":""},{"$f":"IFERROR(VLOOKUP(CA107,'Dummy Data'!$B$73:$C$83,2,FALSE),\"\")","v":""},{"$f":"IFERROR(VLOOKUP(CB107,'Dummy Data'!$B$73:$C$83,2,FALSE),\"\")","v":""},{"$f":"IFERROR(VLOOKUP(CC107,'Dummy Data'!$B$73:$C$83,2,FALSE),\"\")","v":""},""]
[null,"Changes from previous month:",null,null,null,null,null,null,null,null,null,null,null,null,null,null,null,null,null,null,null,null,null,null,null,null,null,null,null,null,null,null,null,null,null,null,null,null,null,null,null,null,null,null,null,null,null,null,null,null,null,null,null,null,null,null,null,null,null,null,null,null,null,null,null,null,null,null,null,null,null,null,null,null,null,null,{"$f":"'List Data'!B105","v":"230-2"},{"$f":"IFERROR(INDEX('Dummy Data'!$M$8:$M$37,SMALL(IF('Dummy Data'!$F$8:$F$37=$BY108,ROW('Dummy Data'!$F$8:$F$37)-7,\"\"),COLUMNS($BZ$4:BZ108))),\"\")","v":""},{"$f":"IFERROR(INDEX('Dummy Data'!$M$8:$M$37,SMALL(IF('Dummy Data'!$F$8:$F$37=$BY108,ROW('Dummy Data'!$F$8:$F$37)-7,\"\"),COLUMNS($BZ$4:CA108))),\"\")","v":""},{"$f":"IFERROR(INDEX('Dummy Data'!$M$8:$M$37,SMALL(IF('Dummy Data'!$F$8:$F$37=$BY108,ROW('Dummy Data'!$F$8:$F$37)-7,\"\"),COLUMNS($BZ$4:CB108))),\"\")","v":""},{"$f":"IFERROR(INDEX('Dummy Data'!$M$8:$M$37,SMALL(IF('Dummy Data'!$F$8:$F$37=$BY108,ROW('Dummy Data'!$F$8:$F$37)-7,\"\"),COLUMNS($BZ$4:CC108))),\"\")","v":""},{"$f":"IFERROR(VLOOKUP(BZ108,'Dummy Data'!$B$73:$C$83,2,FALSE),\"\")","v":""},{"$f":"IFERROR(VLOOKUP(CA108,'Dummy Data'!$B$73:$C$83,2,FALSE),\"\")","v":""},{"$f":"IFERROR(VLOOKUP(CB108,'Dummy Data'!$B$73:$C$83,2,FALSE),\"\")","v":""},{"$f":"IFERROR(VLOOKUP(CC108,'Dummy Data'!$B$73:$C$83,2,FALSE),\"\")","v":""},""]
[null,"Action Plan (if applicable):",null,null,null,null,null,null,null,null,null,null,null,null,null,null,null,null,null,null,null,null,null,null,null,null,null,null,null,null,null,null,null,null,null,null,null,null,null,null,null,null,null,null,null,null,null,null,null,null,null,null,null,null,null,null,null,null,null,null,null,null,null,null,null,null,null,null,null,null,null,null,null,null,null,null,{"$f":"'List Data'!B106","v":"231-1"},{"$f":"IFERROR(INDEX('Dummy Data'!$M$8:$M$37,SMALL(IF('Dummy Data'!$F$8:$F$37=$BY109,ROW('Dummy Data'!$F$8:$F$37)-7,\"\"),COLUMNS($BZ$4:BZ109))),\"\")","v":""},{"$f":"IFERROR(INDEX('Dummy Data'!$M$8:$M$37,SMALL(IF('Dummy Data'!$F$8:$F$37=$BY109,ROW('Dummy Data'!$F$8:$F$37)-7,\"\"),COLUMNS($BZ$4:CA109))),\"\")","v":""},{"$f":"IFERROR(INDEX('Dummy Data'!$M$8:$M$37,SMALL(IF('Dummy Data'!$F$8:$F$37=$BY109,ROW('Dummy Data'!$F$8:$F$37)-7,\"\"),COLUMNS($BZ$4:CB109))),\"\")","v":""},{"$f":"IFERROR(INDEX('Dummy Data'!$M$8:$M$37,SMALL(IF('Dummy Data'!$F$8:$F$37=$BY109,ROW('Dummy Data'!$F$8:$F$37)-7,\"\"),COLUMNS($BZ$4:CC109))),\"\")","v":""},{"$f":"IFERROR(VLOOKUP(BZ109,'Dummy Data'!$B$73:$C$83,2,FALSE),\"\")","v":""},{"$f":"IFERROR(VLOOKUP(CA109,'Dummy Data'!$B$73:$C$83,2,FALSE),\"\")","v":""},{"$f":"IFERROR(VLOOKUP(CB109,'Dummy Data'!$B$73:$C$83,2,FALSE),\"\")","v":""},{"$f":"IFERROR(VLOOKUP(CC109,'Dummy Data'!$B$73:$C$83,2,FALSE),\"\")","v":""},""]
[null,"Prevention of re-occurrence:",null,null,null,null,null,null,null,null,null,null,null,null,null,null,null,null,null,null,null,null,null,null,null,null,null,null,null,null,null,null,null,null,null,null,null,null,null,null,null,null,null,null,null,null,null,null,null,null,null,null,null,null,null,null,null,null,null,null,null,null,null,null,null,null,null,null,null,null,null,null,null,null,null,null,{"$f":"'List Data'!B107","v":"231-2"},{"$f":"IFERROR(INDEX('Dummy Data'!$M$8:$M$37,SMALL(IF('Dummy Data'!$F$8:$F$37=$BY110,ROW('Dummy Data'!$F$8:$F$37)-7,\"\"),COLUMNS($BZ$4:BZ110))),\"\")","v":""},{"$f":"IFERROR(INDEX('Dummy Data'!$M$8:$M$37,SMALL(IF('Dummy Data'!$F$8:$F$37=$BY110,ROW('Dummy Data'!$F$8:$F$37)-7,\"\"),COLUMNS($BZ$4:CA110))),\"\")","v":""},{"$f":"IFERROR(INDEX('Dummy Data'!$M$8:$M$37,SMALL(IF('Dummy Data'!$F$8:$F$37=$BY110,ROW('Dummy Data'!$F$8:$F$37)-7,\"\"),COLUMNS($BZ$4:CB110))),\"\")","v":""},{"$f":"IFERROR(INDEX('Dummy Data'!$M$8:$M$37,SMALL(IF('Dummy Data'!$F$8:$F$37=$BY110,ROW('Dummy Data'!$F$8:$F$37)-7,\"\"),COLUMNS($BZ$4:CC110))),\"\")","v":""},{"$f":"IFERROR(VLOOKUP(BZ110,'Dummy Data'!$B$73:$C$83,2,FALSE),\"\")","v":""},{"$f":"IFERROR(VLOOKUP(CA110,'Dummy Data'!$B$73:$C$83,2,FALSE),\"\")","v":""},{"$f":"IFERROR(VLOOKUP(CB110,'Dummy Data'!$B$73:$C$83,2,FALSE),\"\")","v":""},{"$f":"IFERROR(VLOOKUP(CC110,'Dummy Data'!$B$73:$C$83,2,FALSE),\"\")","v":""},""]
[null,"Number of prescriptions/provider:",null,null,null,null,null,null,null,null,null,null,null,null,null,null,null,null,null,null,null,null,null,null,null,null,null,null,null,null,null,null,null,null,null,null,null,null,null,null,null,null,null,null,null,null,null,null,null,null,null,null,null,null,null,null,null,null,null,null,null,null,null,null,null,null,null,null,null,null,null,null,null,null,null,null,{"$f":"'List Data'!B108","v":"232-1"},{"$f":"IFERROR(INDEX('Dummy Data'!$M$8:$M$37,SMALL(IF('Dummy Data'!$F$8:$F$37=$BY111,ROW('Dummy Data'!$F$8:$F$37)-7,\"\"),COLUMNS($BZ$4:BZ111))),\"\")","v":""},{"$f":"IFERROR(INDEX('Dummy Data'!$M$8:$M$37,SMALL(IF('Dummy Data'!$F$8:$F$37=$BY111,ROW('Dummy Data'!$F$8:$F$37)-7,\"\"),COLUMNS($BZ$4:CA111))),\"\")","v":""},{"$f":"IFERROR(INDEX('Dummy Data'!$M$8:$M$37,SMALL(IF('Dummy Data'!$F$8:$F$37=$BY111,ROW('Dummy Data'!$F$8:$F$37)-7,\"\"),COLUMNS($BZ$4:CB111))),\"\")","v":""},{"$f":"IFERROR(INDEX('Dummy Data'!$M$8:$M$37,SMALL(IF('Dummy Data'!$F$8:$F$37=$BY111,ROW('Dummy Data'!$F$8:$F$37)-7,\"\"),COLUMNS($BZ$4:CC111))),\"\")","v":""},{"$f":"IFERROR(VLOOKUP(BZ111,'Dummy Data'!$B$73:$C$83,2,FALSE),\"\")","v":""},{"$f":"IFERROR(VLOOKUP(CA111,'Dummy Data'!$B$73:$C$83,2,FALSE),\"\")","v":""},{"$f":"IFERROR(VLOOKUP(CB111,'Dummy Data'!$B$73:$C$83,2,FALSE),\"\")","v":""},{"$f":"IFERROR(VLOOKUP(CC111,'Dummy Data'!$B$73:$C$83,2,FALSE),\"\")","v":""},""]
[null,"Precautions taken:",null,null,null,null,null,null,null,null,null,null,null,null,null,null,null,null,null,null,null,null,null,null,null,null,null,null,null,null,null,null,null,null,null,null,null,null,null,null,null,null,null,null,null,null,null,null,null,null,null,null,null,null,null,null,null,null,null,null,null,null,null,null,null,null,null,null,null,null,null,null,null,null,null,null,{"$f":"'List Data'!B109","v":"232-2"},{"$f":"IFERROR(INDEX('Dummy Data'!$M$8:$M$37,SMALL(IF('Dummy Data'!$F$8:$F$37=$BY112,ROW('Dummy Data'!$F$8:$F$37)-7,\"\"),COLUMNS($BZ$4:BZ112))),\"\")","v":""},{"$f":"IFERROR(INDEX('Dummy Data'!$M$8:$M$37,SMALL(IF('Dummy Data'!$F$8:$F$37=$BY112,ROW('Dummy Data'!$F$8:$F$37)-7,\"\"),COLUMNS($BZ$4:CA112))),\"\")","v":""},{"$f":"IFERROR(INDEX('Dummy Data'!$M$8:$M$37,SMALL(IF('Dummy Data'!$F$8:$F$37=$BY112,ROW('Dummy Data'!$F$8:$F$37)-7,\"\"),COLUMNS($BZ$4:CB112))),\"\")","v":""},{"$f":"IFERROR(INDEX('Dummy Data'!$M$8:$M$37,SMALL(IF('Dummy Data'!$F$8:$F$37=$BY112,ROW('Dummy Data'!$F$8:$F$37)-7,\"\"),COLUMNS($BZ$4:CC112))),\"\")","v":""},{"$f":"IFERROR(VLOOKUP(BZ112,'Dummy Data'!$B$73:$C$83,2,FALSE),\"\")","v":""},{"$f":"IFERROR(VLOOKUP(CA112,'Dummy Data'!$B$73:$C$83,2,FALSE),\"\")","v":""},{"$f":"IFERROR(VLOOKUP(CB112,'Dummy Data'!$B$73:$C$83,2,FALSE),\"\")","v":""},{"$f":"IFERROR(VLOOKUP(CC112,'Dummy Data'!$B$73:$C$83,2,FALSE),\"\")","v":""},""]
[null,null,null,null,null,null,null,null,null,null,null,null,null,null,null,null,null,null,null,null,null,null,null,null,null,null,null,null,null,null,null,null,null,null,null,null,null,null,null,null,null,null,null,null,null,null,null,null,null,null,null,null,null,null,null,null,null,null,null,null,null,null,null,null,null,null,null,null,null,null,null,null,null,null,null,null,{"$f":"'List Data'!B110","v":"233-1"},{"$f":"IFERROR(INDEX('Dummy Data'!$M$8:$M$37,SMALL(IF('Dummy Data'!$F$8:$F$37=$BY113,ROW('Dummy Data'!$F$8:$F$37)-7,\"\"),COLUMNS($BZ$4:BZ113))),\"\")","v":""},{"$f":"IFERROR(INDEX('Dummy Data'!$M$8:$M$37,SMALL(IF('Dummy Data'!$F$8:$F$37=$BY113,ROW('Dummy Data'!$F$8:$F$37)-7,\"\"),COLUMNS($BZ$4:CA113))),\"\")","v":""},{"$f":"IFERROR(INDEX('Dummy Data'!$M$8:$M$37,SMALL(IF('Dummy Data'!$F$8:$F$37=$BY113,ROW('Dummy Data'!$F$8:$F$37)-7,\"\"),COLUMNS($BZ$4:CB113))),\"\")","v":""},{"$f":"IFERROR(INDEX('Dummy Data'!$M$8:$M$37,SMALL(IF('Dummy Data'!$F$8:$F$37=$BY113,ROW('Dummy Data'!$F$8:$F$37)-7,\"\"),COLUMNS($BZ$4:CC113))),\"\")","v":""},{"$f":"IFERROR(VLOOKUP(BZ113,'Dummy Data'!$B$73:$C$83,2,FALSE),\"\")","v":""},{"$f":"IFERROR(VLOOKUP(CA113,'Dummy Data'!$B$73:$C$83,2,FALSE),\"\")","v":""},{"$f":"IFERROR(VLOOKUP(CB113,'Dummy Data'!$B$73:$C$83,2,FALSE),\"\")","v":""},{"$f":"IFERROR(VLOOKUP(CC113,'Dummy Data'!$B$73:$C$83,2,FALSE),\"\")","v":""},""]
[null,null,null,null,null,null,null,null,null,null,null,null,null,null,null,null,null,null,null,null,null,null,null,null,null,null,null,null,null,null,null,null,null,null,null,null,null,null,null,null,null,null,null,null,null,null,null,null,null,null,null,null,null,null,null,null,null,null,null,null,null,null,null,null,null,null,null,null,null,null,null,null,null,null,null,null,{"$f":"'List Data'!B111","v":"233-2"},{"$f":"IFERROR(INDEX('Dummy Data'!$M$8:$M$37,SMALL(IF('Dummy Data'!$F$8:$F$37=$BY114,ROW('Dummy Data'!$F$8:$F$37)-7,\"\"),COLUMNS($BZ$4:BZ114))),\"\")","v":""},{"$f":"IFERROR(INDEX('Dummy Data'!$M$8:$M$37,SMALL(IF('Dummy Data'!$F$8:$F$37=$BY114,ROW('Dummy Data'!$F$8:$F$37)-7,\"\"),COLUMNS($BZ$4:CA114))),\"\")","v":""},{"$f":"IFERROR(INDEX('Dummy Data'!$M$8:$M$37,SMALL(IF('Dummy Data'!$F$8:$F$37=$BY114,ROW('Dummy Data'!$F$8:$F$37)-7,\"\"),COLUMNS($BZ$4:CB114))),\"\")","v":""},{"$f":"IFERROR(INDEX('Dummy Data'!$M$8:$M$37,SMALL(IF('Dummy Data'!$F$8:$F$37=$BY114,ROW('Dummy Data'!$F$8:$F$37)-7,\"\"),COLUMNS($BZ$4:CC114))),\"\")","v":""},{"$f":"IFERROR(VLOOKUP(BZ114,'Dummy Data'!$B$73:$C$83,2,FALSE),\"\")","v":""},{"$f":"IFERROR(VLOOKUP(CA114,'Dummy Data'!$B$73:$C$83,2,FALSE),\"\")","v":""},{"$f":"IFERROR(VLOOKUP(CB114,'Dummy Data'!$B$73:$C$83,2,FALSE),\"\")","v":""},{"$f":"IFERROR(VLOOKUP(CC114,'Dummy Data'!$B$73:$C$83,2,FALSE),\"\")","v":""},""]
[null,"The Infection Control Monthly Analysis is presented at Quality Assurance and Performance Improvement monthly meeting on _______. Refer to Quality Assurance and Performance Improvement meeting minutes for further discussion of data presented.",null,null,null,null,null,null,null,null,null,null,null,null,null,null,null,null,null,null,null,null,null,null,null,null,null,null,null,null,null,null,null,null,null,null,null,null,null,null,null,null,null,null,null,null,null,null,null,null,null,null,null,null,null,null,null,null,null,null,null,null,null,null,null,null,null,null,null,null,null,null,null,null,null,null,{"$f":"'List Data'!B112","v":"234-1"},{"$f":"IFERROR(INDEX('Dummy Data'!$M$8:$M$37,SMALL(IF('Dummy Data'!$F$8:$F$37=$BY115,ROW('Dummy Data'!$F$8:$F$37)-7,\"\"),COLUMNS($BZ$4:BZ115))),\"\")","v":""},{"$f":"IFERROR(INDEX('Dummy Data'!$M$8:$M$37,SMALL(IF('Dummy Data'!$F$8:$F$37=$BY115,ROW('Dummy Data'!$F$8:$F$37)-7,\"\"),COLUMNS($BZ$4:CA115))),\"\")","v":""},{"$f":"IFERROR(INDEX('Dummy Data'!$M$8:$M$37,SMALL(IF('Dummy Data'!$F$8:$F$37=$BY115,ROW('Dummy Data'!$F$8:$F$37)-7,\"\"),COLUMNS($BZ$4:CB115))),\"\")","v":""},{"$f":"IFERROR(INDEX('Dummy Data'!$M$8:$M$37,SMALL(IF('Dummy Data'!$F$8:$F$37=$BY115,ROW('Dummy Data'!$F$8:$F$37)-7,\"\"),COLUMNS($BZ$4:CC115))),\"\")","v":""},{"$f":"IFERROR(VLOOKUP(BZ115,'Dummy Data'!$B$73:$C$83,2,FALSE),\"\")","v":""},{"$f":"IFERROR(VLOOKUP(CA115,'Dummy Data'!$B$73:$C$83,2,FALSE),\"\")","v":""},{"$f":"IFERROR(VLOOKUP(CB115,'Dummy Data'!$B$73:$C$83,2,FALSE),\"\")","v":""},{"$f":"IFERROR(VLOOKUP(CC115,'Dummy Data'!$B$73:$C$83,2,FALSE),\"\")","v":""},""]
[null,null,null,null,null,null,null,null,null,null,null,null,null,null,null,null,null,null,null,null,null,null,null,null,null,null,null,null,null,null,null,null,null,null,null,null,null,null,null,null,null,null,null,null,null,null,null,null,null,null,null,null,null,null,null,null,null,null,null,null,null,null,null,null,null,null,null,null,null,null,null,null,null,null,null,null,{"$f":"'List Data'!B113","v":"234-2"},{"$f":"IFERROR(INDEX('Dummy Data'!$M$8:$M$37,SMALL(IF('Dummy Data'!$F$8:$F$37=$BY116,ROW('Dummy Data'!$F$8:$F$37)-7,\"\"),COLUMNS($BZ$4:BZ116))),\"\")","v":""},{"$f":"IFERROR(INDEX('Dummy Data'!$M$8:$M$37,SMALL(IF('Dummy Data'!$F$8:$F$37=$BY116,ROW('Dummy Data'!$F$8:$F$37)-7,\"\"),COLUMNS($BZ$4:CA116))),\"\")","v":""},{"$f":"IFERROR(INDEX('Dummy Data'!$M$8:$M$37,SMALL(IF('Dummy Data'!$F$8:$F$37=$BY116,ROW('Dummy Data'!$F$8:$F$37)-7,\"\"),COLUMNS($BZ$4:CB116))),\"\")","v":""},{"$f":"IFERROR(INDEX('Dummy Data'!$M$8:$M$37,SMALL(IF('Dummy Data'!$F$8:$F$37=$BY116,ROW('Dummy Data'!$F$8:$F$37)-7,\"\"),COLUMNS($BZ$4:CC116))),\"\")","v":""},{"$f":"IFERROR(VLOOKUP(BZ116,'Dummy Data'!$B$73:$C$83,2,FALSE),\"\")","v":""},{"$f":"IFERROR(VLOOKUP(CA116,'Dummy Data'!$B$73:$C$83,2,FALSE),\"\")","v":""},{"$f":"IFERROR(VLOOKUP(CB116,'Dummy Data'!$B$73:$C$83,2,FALSE),\"\")","v":""},{"$f":"IFERROR(VLOOKUP(CC116,'Dummy Data'!$B$73:$C$83,2,FALSE),\"\")","v":""},""]
[null,"Signature: ___________________     Date:_________________               ",null,null,null,null,null,null,null,null,null,null,null,null,null,null,null,null,null,null,null,null,null,null,null,null,null,null,null,null,null,null,null,null,null,null,null,null,null,null,null,null,null,null,null,null,null,null,null,null,null,null,null,null,null,null,null,null,null,null,null,null,null,null,null,null,null,null,null,null,null,null,null,null,null,null,{"$f":"'List Data'!B114","v":"235-1"},{"$f":"IFERROR(INDEX('Dummy Data'!$M$8:$M$37,SMALL(IF('Dummy Data'!$F$8:$F$37=$BY117,ROW('Dummy Data'!$F$8:$F$37)-7,\"\"),COLUMNS($BZ$4:BZ117))),\"\")","v":""},{"$f":"IFERROR(INDEX('Dummy Data'!$M$8:$M$37,SMALL(IF('Dummy Data'!$F$8:$F$37=$BY117,ROW('Dummy Data'!$F$8:$F$37)-7,\"\"),COLUMNS($BZ$4:CA117))),\"\")","v":""},{"$f":"IFERROR(INDEX('Dummy Data'!$M$8:$M$37,SMALL(IF('Dummy Data'!$F$8:$F$37=$BY117,ROW('Dummy Data'!$F$8:$F$37)-7,\"\"),COLUMNS($BZ$4:CB117))),\"\")","v":""},{"$f":"IFERROR(INDEX('Dummy Data'!$M$8:$M$37,SMALL(IF('Dummy Data'!$F$8:$F$37=$BY117,ROW('Dummy Data'!$F$8:$F$37)-7,\"\"),COLUMNS($BZ$4:CC117))),\"\")","v":""},{"$f":"IFERROR(VLOOKUP(BZ117,'Dummy Data'!$B$73:$C$83,2,FALSE),\"\")","v":""},{"$f":"IFERROR(VLOOKUP(CA117,'Dummy Data'!$B$73:$C$83,2,FALSE),\"\")","v":""},{"$f":"IFERROR(VLOOKUP(CB117,'Dummy Data'!$B$73:$C$83,2,FALSE),\"\")","v":""},{"$f":"IFERROR(VLOOKUP(CC117,'Dummy Data'!$B$73:$C$83,2,FALSE),\"\")","v":""},""]
[null,null,null,null,null,null,null,null,null,null,null,null,null,null,null,null,null,null,null,null,null,null,null,null,null,null,null,null,null,null,null,null,null,null,null,null,null,null,null,null,null,null,null,null,null,null,null,null,null,null,null,null,null,null,null,null,null,null,null,null,null,null,null,null,null,null,null,null,null,null,null,null,null,null,null,null,{"$f":"'List Data'!B115","v":"235-2"},{"$f":"IFERROR(INDEX('Dummy Data'!$M$8:$M$37,SMALL(IF('Dummy Data'!$F$8:$F$37=$BY118,ROW('Dummy Data'!$F$8:$F$37)-7,\"\"),COLUMNS($BZ$4:BZ118))),\"\")","v":""},{"$f":"IFERROR(INDEX('Dummy Data'!$M$8:$M$37,SMALL(IF('Dummy Data'!$F$8:$F$37=$BY118,ROW('Dummy Data'!$F$8:$F$37)-7,\"\"),COLUMNS($BZ$4:CA118))),\"\")","v":""},{"$f":"IFERROR(INDEX('Dummy Data'!$M$8:$M$37,SMALL(IF('Dummy Data'!$F$8:$F$37=$BY118,ROW('Dummy Data'!$F$8:$F$37)-7,\"\"),COLUMNS($BZ$4:CB118))),\"\")","v":""},{"$f":"IFERROR(INDEX('Dummy Data'!$M$8:$M$37,SMALL(IF('Dummy Data'!$F$8:$F$37=$BY118,ROW('Dummy Data'!$F$8:$F$37)-7,\"\"),COLUMNS($BZ$4:CC118))),\"\")","v":""},{"$f":"IFERROR(VLOOKUP(BZ118,'Dummy Data'!$B$73:$C$83,2,FALSE),\"\")","v":""},{"$f":"IFERROR(VLOOKUP(CA118,'Dummy Data'!$B$73:$C$83,2,FALSE),\"\")","v":""},{"$f":"IFERROR(VLOOKUP(CB118,'Dummy Data'!$B$73:$C$83,2,FALSE),\"\")","v":""},{"$f":"IFERROR(VLOOKUP(CC118,'Dummy Data'!$B$73:$C$83,2,FALSE),\"\")","v":""},""]
[null,null,null,null,null,null,null,null,null,null,null,null,null,null,null,null,null,null,null,null,null,null,null,null,null,null,null,null,null,null,null,null,null,null,null,null,null,null,null,null,null,null,null,null,null,null,null,null,null,null,null,null,null,null,null,null,null,null,null,null,null,null,null,null,null,null,null,null,null,null,null,null,null,null,null,null,{"$f":"'List Data'!B116","v":"236-1"},{"$f":"IFERROR(INDEX('Dummy Data'!$M$8:$M$37,SMALL(IF('Dummy Data'!$F$8:$F$37=$BY119,ROW('Dummy Data'!$F$8:$F$37)-7,\"\"),COLUMNS($BZ$4:BZ119))),\"\")","v":""},{"$f":"IFERROR(INDEX('Dummy Data'!$M$8:$M$37,SMALL(IF('Dummy Data'!$F$8:$F$37=$BY119,ROW('Dummy Data'!$F$8:$F$37)-7,\"\"),COLUMNS($BZ$4:CA119))),\"\")","v":""},{"$f":"IFERROR(INDEX('Dummy Data'!$M$8:$M$37,SMALL(IF('Dummy Data'!$F$8:$F$37=$BY119,ROW('Dummy Data'!$F$8:$F$37)-7,\"\"),COLUMNS($BZ$4:CB119))),\"\")","v":""},{"$f":"IFERROR(INDEX('Dummy Data'!$M$8:$M$37,SMALL(IF('Dummy Data'!$F$8:$F$37=$BY119,ROW('Dummy Data'!$F$8:$F$37)-7,\"\"),COLUMNS($BZ$4:CC119))),\"\")","v":""},{"$f":"IFERROR(VLOOKUP(BZ119,'Dummy Data'!$B$73:$C$83,2,FALSE),\"\")","v":""},{"$f":"IFERROR(VLOOKUP(CA119,'Dummy Data'!$B$73:$C$83,2,FALSE),\"\")","v":""},{"$f":"IFERROR(VLOOKUP(CB119,'Dummy Data'!$B$73:$C$83,2,FALSE),\"\")","v":""},{"$f":"IFERROR(VLOOKUP(CC119,'Dummy Data'!$B$73:$C$83,2,FALSE),\"\")","v":""},""]
[null,null,null,null,null,null,null,null,null,null,null,null,null,null,null,null,null,null,null,null,null,null,null,null,null,null,null,null,null,null,null,null,null,null,null,null,null,null,null,null,null,null,null,null,null,null,null,null,null,null,null,null,null,null,null,null,null,null,null,null,null,null,null,null,null,null,null,null,null,null,null,null,null,null,null,null,{"$f":"'List Data'!B117","v":"236-2"},{"$f":"IFERROR(INDEX('Dummy Data'!$M$8:$M$37,SMALL(IF('Dummy Data'!$F$8:$F$37=$BY120,ROW('Dummy Data'!$F$8:$F$37)-7,\"\"),COLUMNS($BZ$4:BZ120))),\"\")","v":""},{"$f":"IFERROR(INDEX('Dummy Data'!$M$8:$M$37,SMALL(IF('Dummy Data'!$F$8:$F$37=$BY120,ROW('Dummy Data'!$F$8:$F$37)-7,\"\"),COLUMNS($BZ$4:CA120))),\"\")","v":""},{"$f":"IFERROR(INDEX('Dummy Data'!$M$8:$M$37,SMALL(IF('Dummy Data'!$F$8:$F$37=$BY120,ROW('Dummy Data'!$F$8:$F$37)-7,\"\"),COLUMNS($BZ$4:CB120))),\"\")","v":""},{"$f":"IFERROR(INDEX('Dummy Data'!$M$8:$M$37,SMALL(IF('Dummy Data'!$F$8:$F$37=$BY120,ROW('Dummy Data'!$F$8:$F$37)-7,\"\"),COLUMNS($BZ$4:CC120))),\"\")","v":""},{"$f":"IFERROR(VLOOKUP(BZ120,'Dummy Data'!$B$73:$C$83,2,FALSE),\"\")","v":""},{"$f":"IFERROR(VLOOKUP(CA120,'Dummy Data'!$B$73:$C$83,2,FALSE),\"\")","v":""},{"$f":"IFERROR(VLOOKUP(CB120,'Dummy Data'!$B$73:$C$83,2,FALSE),\"\")","v":""},{"$f":"IFERROR(VLOOKUP(CC120,'Dummy Data'!$B$73:$C$83,2,FALSE),\"\")","v":""},""]
[null,null,null,null,null,null,null,null,null,null,null,null,null,null,null,null,null,null,null,null,null,null,null,null,null,null,null,null,null,null,null,null,null,null,null,null,null,null,null,null,null,null,null,null,null,null,null,null,null,null,null,null,null,null,null,null,null,null,null,null,null,null,null,null,null,null,null,null,null,null,null,null,null,null,null,null,{"$f":"'List Data'!B118","v":"237-1"},{"$f":"IFERROR(INDEX('Dummy Data'!$M$8:$M$37,SMALL(IF('Dummy Data'!$F$8:$F$37=$BY121,ROW('Dummy Data'!$F$8:$F$37)-7,\"\"),COLUMNS($BZ$4:BZ121))),\"\")","v":""},{"$f":"IFERROR(INDEX('Dummy Data'!$M$8:$M$37,SMALL(IF('Dummy Data'!$F$8:$F$37=$BY121,ROW('Dummy Data'!$F$8:$F$37)-7,\"\"),COLUMNS($BZ$4:CA121))),\"\")","v":""},{"$f":"IFERROR(INDEX('Dummy Data'!$M$8:$M$37,SMALL(IF('Dummy Data'!$F$8:$F$37=$BY121,ROW('Dummy Data'!$F$8:$F$37)-7,\"\"),COLUMNS($BZ$4:CB121))),\"\")","v":""},{"$f":"IFERROR(INDEX('Dummy Data'!$M$8:$M$37,SMALL(IF('Dummy Data'!$F$8:$F$37=$BY121,ROW('Dummy Data'!$F$8:$F$37)-7,\"\"),COLUMNS($BZ$4:CC121))),\"\")","v":""},{"$f":"IFERROR(VLOOKUP(BZ121,'Dummy Data'!$B$73:$C$83,2,FALSE),\"\")","v":""},{"$f":"IFERROR(VLOOKUP(CA121,'Dummy Data'!$B$73:$C$83,2,FALSE),\"\")","v":""},{"$f":"IFERROR(VLOOKUP(CB121,'Dummy Data'!$B$73:$C$83,2,FALSE),\"\")","v":""},{"$f":"IFERROR(VLOOKUP(CC121,'Dummy Data'!$B$73:$C$83,2,FALSE),\"\")","v":""},""]
[null,null,null,null,null,null,null,null,null,null,null,null,null,null,null,null,null,null,null,null,null,null,null,null,null,null,null,null,null,null,null,null,null,null,null,null,null,null,null,null,null,null,null,null,null,null,null,null,null,null,null,null,null,null,null,null,null,null,null,null,null,null,null,null,null,null,null,null,null,null,null,null,null,null,null,null,{"$f":"'List Data'!B119","v":"237-2"},{"$f":"IFERROR(INDEX('Dummy Data'!$M$8:$M$37,SMALL(IF('Dummy Data'!$F$8:$F$37=$BY122,ROW('Dummy Data'!$F$8:$F$37)-7,\"\"),COLUMNS($BZ$4:BZ122))),\"\")","v":""},{"$f":"IFERROR(INDEX('Dummy Data'!$M$8:$M$37,SMALL(IF('Dummy Data'!$F$8:$F$37=$BY122,ROW('Dummy Data'!$F$8:$F$37)-7,\"\"),COLUMNS($BZ$4:CA122))),\"\")","v":""},{"$f":"IFERROR(INDEX('Dummy Data'!$M$8:$M$37,SMALL(IF('Dummy Data'!$F$8:$F$37=$BY122,ROW('Dummy Data'!$F$8:$F$37)-7,\"\"),COLUMNS($BZ$4:CB122))),\"\")","v":""},{"$f":"IFERROR(INDEX('Dummy Data'!$M$8:$M$37,SMALL(IF('Dummy Data'!$F$8:$F$37=$BY122,ROW('Dummy Data'!$F$8:$F$37)-7,\"\"),COLUMNS($BZ$4:CC122))),\"\")","v":""},{"$f":"IFERROR(VLOOKUP(BZ122,'Dummy Data'!$B$73:$C$83,2,FALSE),\"\")","v":""},{"$f":"IFERROR(VLOOKUP(CA122,'Dummy Data'!$B$73:$C$83,2,FALSE),\"\")","v":""},{"$f":"IFERROR(VLOOKUP(CB122,'Dummy Data'!$B$73:$C$83,2,FALSE),\"\")","v":""},{"$f":"IFERROR(VLOOKUP(CC122,'Dummy Data'!$B$73:$C$83,2,FALSE),\"\")","v":""},""]
[null,null,null,null,null,null,null,null,null,null,null,null,null,null,null,null,null,null,null,null,null,null,null,null,null,null,null,null,null,null,null,null,null,null,null,null,null,null,null,null,null,null,null,null,null,null,null,null,null,null,null,null,null,null,null,null,null,null,null,null,null,null,null,null,null,null,null,null,null,null,null,null,null,null,null,null,{"$f":"'List Data'!B120","v":"238-1"},{"$f":"IFERROR(INDEX('Dummy Data'!$M$8:$M$37,SMALL(IF('Dummy Data'!$F$8:$F$37=$BY123,ROW('Dummy Data'!$F$8:$F$37)-7,\"\"),COLUMNS($BZ$4:BZ123))),\"\")","v":""},{"$f":"IFERROR(INDEX('Dummy Data'!$M$8:$M$37,SMALL(IF('Dummy Data'!$F$8:$F$37=$BY123,ROW('Dummy Data'!$F$8:$F$37)-7,\"\"),COLUMNS($BZ$4:CA123))),\"\")","v":""},{"$f":"IFERROR(INDEX('Dummy Data'!$M$8:$M$37,SMALL(IF('Dummy Data'!$F$8:$F$37=$BY123,ROW('Dummy Data'!$F$8:$F$37)-7,\"\"),COLUMNS($BZ$4:CB123))),\"\")","v":""},{"$f":"IFERROR(INDEX('Dummy Data'!$M$8:$M$37,SMALL(IF('Dummy Data'!$F$8:$F$37=$BY123,ROW('Dummy Data'!$F$8:$F$37)-7,\"\"),COLUMNS($BZ$4:CC123))),\"\")","v":""},{"$f":"IFERROR(VLOOKUP(BZ123,'Dummy Data'!$B$73:$C$83,2,FALSE),\"\")","v":""},{"$f":"IFERROR(VLOOKUP(CA123,'Dummy Data'!$B$73:$C$83,2,FALSE),\"\")","v":""},{"$f":"IFERROR(VLOOKUP(CB123,'Dummy Data'!$B$73:$C$83,2,FALSE),\"\")","v":""},{"$f":"IFERROR(VLOOKUP(CC123,'Dummy Data'!$B$73:$C$83,2,FALSE),\"\")","v":""},""]
[null,null,null,null,null,null,null,null,null,null,null,null,null,null,null,null,null,null,null,null,null,null,null,null,null,null,null,null,null,null,null,null,null,null,null,null,null,null,null,null,null,null,null,null,null,null,null,null,null,null,null,null,null,null,null,null,null,null,null,null,null,null,null,null,null,null,null,null,null,null,null,null,null,null,null,null,{"$f":"'List Data'!B121","v":"238-2"},{"$f":"IFERROR(INDEX('Dummy Data'!$M$8:$M$37,SMALL(IF('Dummy Data'!$F$8:$F$37=$BY124,ROW('Dummy Data'!$F$8:$F$37)-7,\"\"),COLUMNS($BZ$4:BZ124))),\"\")","v":""},{"$f":"IFERROR(INDEX('Dummy Data'!$M$8:$M$37,SMALL(IF('Dummy Data'!$F$8:$F$37=$BY124,ROW('Dummy Data'!$F$8:$F$37)-7,\"\"),COLUMNS($BZ$4:CA124))),\"\")","v":""},{"$f":"IFERROR(INDEX('Dummy Data'!$M$8:$M$37,SMALL(IF('Dummy Data'!$F$8:$F$37=$BY124,ROW('Dummy Data'!$F$8:$F$37)-7,\"\"),COLUMNS($BZ$4:CB124))),\"\")","v":""},{"$f":"IFERROR(INDEX('Dummy Data'!$M$8:$M$37,SMALL(IF('Dummy Data'!$F$8:$F$37=$BY124,ROW('Dummy Data'!$F$8:$F$37)-7,\"\"),COLUMNS($BZ$4:CC124))),\"\")","v":""},{"$f":"IFERROR(VLOOKUP(BZ124,'Dummy Data'!$B$73:$C$83,2,FALSE),\"\")","v":""},{"$f":"IFERROR(VLOOKUP(CA124,'Dummy Data'!$B$73:$C$83,2,FALSE),\"\")","v":""},{"$f":"IFERROR(VLOOKUP(CB124,'Dummy Data'!$B$73:$C$83,2,FALSE),\"\")","v":""},{"$f":"IFERROR(VLOOKUP(CC124,'Dummy Data'!$B$73:$C$83,2,FALSE),\"\")","v":""},""]
[null,null,null,null,null,null,null,null,null,null,null,null,null,null,null,null,null,null,null,null,null,null,null,null,null,null,null,null,null,null,null,null,null,null,null,null,null,null,null,null,null,null,null,null,null,null,null,null,null,null,null,null,null,null,null,null,null,null,null,null,null,null,null,null,null,null,null,null,null,null,null,null,null,null,null,null,{"$f":"'List Data'!B122","v":"239-1"},{"$f":"IFERROR(INDEX('Dummy Data'!$M$8:$M$37,SMALL(IF('Dummy Data'!$F$8:$F$37=$BY125,ROW('Dummy Data'!$F$8:$F$37)-7,\"\"),COLUMNS($BZ$4:BZ125))),\"\")","v":""},{"$f":"IFERROR(INDEX('Dummy Data'!$M$8:$M$37,SMALL(IF('Dummy Data'!$F$8:$F$37=$BY125,ROW('Dummy Data'!$F$8:$F$37)-7,\"\"),COLUMNS($BZ$4:CA125))),\"\")","v":""},{"$f":"IFERROR(INDEX('Dummy Data'!$M$8:$M$37,SMALL(IF('Dummy Data'!$F$8:$F$37=$BY125,ROW('Dummy Data'!$F$8:$F$37)-7,\"\"),COLUMNS($BZ$4:CB125))),\"\")","v":""},{"$f":"IFERROR(INDEX('Dummy Data'!$M$8:$M$37,SMALL(IF('Dummy Data'!$F$8:$F$37=$BY125,ROW('Dummy Data'!$F$8:$F$37)-7,\"\"),COLUMNS($BZ$4:CC125))),\"\")","v":""},{"$f":"IFERROR(VLOOKUP(BZ125,'Dummy Data'!$B$73:$C$83,2,FALSE),\"\")","v":""},{"$f":"IFERROR(VLOOKUP(CA125,'Dummy Data'!$B$73:$C$83,2,FALSE),\"\")","v":""},{"$f":"IFERROR(VLOOKUP(CB125,'Dummy Data'!$B$73:$C$83,2,FALSE),\"\")","v":""},{"$f":"IFERROR(VLOOKUP(CC125,'Dummy Data'!$B$73:$C$83,2,FALSE),\"\")","v":""},""]
[null,null,null,null,null,null,null,null,null,null,null,null,null,null,null,null,null,null,null,null,null,null,null,null,null,null,null,null,null,null,null,null,null,null,null,null,null,null,null,null,null,null,null,null,null,null,null,null,null,null,null,null,null,null,null,null,null,null,null,null,null,null,null,null,null,null,null,null,null,null,null,null,null,null,null,null,{"$f":"'List Data'!B123","v":"239-2"},{"$f":"IFERROR(INDEX('Dummy Data'!$M$8:$M$37,SMALL(IF('Dummy Data'!$F$8:$F$37=$BY126,ROW('Dummy Data'!$F$8:$F$37)-7,\"\"),COLUMNS($BZ$4:BZ126))),\"\")","v":""},{"$f":"IFERROR(INDEX('Dummy Data'!$M$8:$M$37,SMALL(IF('Dummy Data'!$F$8:$F$37=$BY126,ROW('Dummy Data'!$F$8:$F$37)-7,\"\"),COLUMNS($BZ$4:CA126))),\"\")","v":""},{"$f":"IFERROR(INDEX('Dummy Data'!$M$8:$M$37,SMALL(IF('Dummy Data'!$F$8:$F$37=$BY126,ROW('Dummy Data'!$F$8:$F$37)-7,\"\"),COLUMNS($BZ$4:CB126))),\"\")","v":""},{"$f":"IFERROR(INDEX('Dummy Data'!$M$8:$M$37,SMALL(IF('Dummy Data'!$F$8:$F$37=$BY126,ROW('Dummy Data'!$F$8:$F$37)-7,\"\"),COLUMNS($BZ$4:CC126))),\"\")","v":""},{"$f":"IFERROR(VLOOKUP(BZ126,'Dummy Data'!$B$73:$C$83,2,FALSE),\"\")","v":""},{"$f":"IFERROR(VLOOKUP(CA126,'Dummy Data'!$B$73:$C$83,2,FALSE),\"\")","v":""},{"$f":"IFERROR(VLOOKUP(CB126,'Dummy Data'!$B$73:$C$83,2,FALSE),\"\")","v":""},{"$f":"IFERROR(VLOOKUP(CC126,'Dummy Data'!$B$73:$C$83,2,FALSE),\"\")","v":""},""]
[null,null,null,null,null,null,null,null,null,null,null,null,null,null,null,null,null,null,null,null,null,null,null,null,null,null,null,null,null,null,null,null,null,null,null,null,null,null,null,null,null,null,null,null,null,null,null,null,null,null,null,null,null,null,null,null,null,null,null,null,null,null,null,null,null,null,null,null,null,null,null,null,null,null,null,null,{"$f":"'List Data'!B124","v":"240-1"},{"$f":"IFERROR(INDEX('Dummy Data'!$M$8:$M$37,SMALL(IF('Dummy Data'!$F$8:$F$37=$BY127,ROW('Dummy Data'!$F$8:$F$37)-7,\"\"),COLUMNS($BZ$4:BZ127))),\"\")","v":""},{"$f":"IFERROR(INDEX('Dummy Data'!$M$8:$M$37,SMALL(IF('Dummy Data'!$F$8:$F$37=$BY127,ROW('Dummy Data'!$F$8:$F$37)-7,\"\"),COLUMNS($BZ$4:CA127))),\"\")","v":""},{"$f":"IFERROR(INDEX('Dummy Data'!$M$8:$M$37,SMALL(IF('Dummy Data'!$F$8:$F$37=$BY127,ROW('Dummy Data'!$F$8:$F$37)-7,\"\"),COLUMNS($BZ$4:CB127))),\"\")","v":""},{"$f":"IFERROR(INDEX('Dummy Data'!$M$8:$M$37,SMALL(IF('Dummy Data'!$F$8:$F$37=$BY127,ROW('Dummy Data'!$F$8:$F$37)-7,\"\"),COLUMNS($BZ$4:CC127))),\"\")","v":""},{"$f":"IFERROR(VLOOKUP(BZ127,'Dummy Data'!$B$73:$C$83,2,FALSE),\"\")","v":""},{"$f":"IFERROR(VLOOKUP(CA127,'Dummy Data'!$B$73:$C$83,2,FALSE),\"\")","v":""},{"$f":"IFERROR(VLOOKUP(CB127,'Dummy Data'!$B$73:$C$83,2,FALSE),\"\")","v":""},{"$f":"IFERROR(VLOOKUP(CC127,'Dummy Data'!$B$73:$C$83,2,FALSE),\"\")","v":""},""]
[null,null,null,null,null,null,null,null,null,null,null,null,null,null,null,null,null,null,null,null,null,null,null,null,null,null,null,null,null,null,null,null,null,null,null,null,null,null,null,null,null,null,null,null,null,null,null,null,null,null,null,null,null,null,null,null,null,null,null,null,null,null,null,null,null,null,null,null,null,null,null,null,null,null,null,null,{"$f":"'List Data'!B125","v":"240-2"},{"$f":"IFERROR(INDEX('Dummy Data'!$M$8:$M$37,SMALL(IF('Dummy Data'!$F$8:$F$37=$BY128,ROW('Dummy Data'!$F$8:$F$37)-7,\"\"),COLUMNS($BZ$4:BZ128))),\"\")","v":""},{"$f":"IFERROR(INDEX('Dummy Data'!$M$8:$M$37,SMALL(IF('Dummy Data'!$F$8:$F$37=$BY128,ROW('Dummy Data'!$F$8:$F$37)-7,\"\"),COLUMNS($BZ$4:CA128))),\"\")","v":""},{"$f":"IFERROR(INDEX('Dummy Data'!$M$8:$M$37,SMALL(IF('Dummy Data'!$F$8:$F$37=$BY128,ROW('Dummy Data'!$F$8:$F$37)-7,\"\"),COLUMNS($BZ$4:CB128))),\"\")","v":""},{"$f":"IFERROR(INDEX('Dummy Data'!$M$8:$M$37,SMALL(IF('Dummy Data'!$F$8:$F$37=$BY128,ROW('Dummy Data'!$F$8:$F$37)-7,\"\"),COLUMNS($BZ$4:CC128))),\"\")","v":""},{"$f":"IFERROR(VLOOKUP(BZ128,'Dummy Data'!$B$73:$C$83,2,FALSE),\"\")","v":""},{"$f":"IFERROR(VLOOKUP(CA128,'Dummy Data'!$B$73:$C$83,2,FALSE),\"\")","v":""},{"$f":"IFERROR(VLOOKUP(CB128,'Dummy Data'!$B$73:$C$83,2,FALSE),\"\")","v":""},{"$f":"IFERROR(VLOOKUP(CC128,'Dummy Data'!$B$73:$C$83,2,FALSE),\"\")","v":""},""]
[null,null,null,null,null,null,null,null,null,null,null,null,null,null,null,null,null,null,null,null,null,null,null,null,null,null,null,null,null,null,null,null,null,null,null,null,null,null,null,null,null,null,null,null,null,null,null,null,null,null,null,null,null,null,null,null,null,null,null,null,null,null,null,null,null,null,null,null,null,null,null,null,null,null,null,null,{"$f":"'List Data'!B126","v":"241-1"},{"$f":"IFERROR(INDEX('Dummy Data'!$M$8:$M$37,SMALL(IF('Dummy Data'!$F$8:$F$37=$BY129,ROW('Dummy Data'!$F$8:$F$37)-7,\"\"),COLUMNS($BZ$4:BZ129))),\"\")","v":""},{"$f":"IFERROR(INDEX('Dummy Data'!$M$8:$M$37,SMALL(IF('Dummy Data'!$F$8:$F$37=$BY129,ROW('Dummy Data'!$F$8:$F$37)-7,\"\"),COLUMNS($BZ$4:CA129))),\"\")","v":""},{"$f":"IFERROR(INDEX('Dummy Data'!$M$8:$M$37,SMALL(IF('Dummy Data'!$F$8:$F$37=$BY129,ROW('Dummy Data'!$F$8:$F$37)-7,\"\"),COLUMNS($BZ$4:CB129))),\"\")","v":""},{"$f":"IFERROR(INDEX('Dummy Data'!$M$8:$M$37,SMALL(IF('Dummy Data'!$F$8:$F$37=$BY129,ROW('Dummy Data'!$F$8:$F$37)-7,\"\"),COLUMNS($BZ$4:CC129))),\"\")","v":""},{"$f":"IFERROR(VLOOKUP(BZ129,'Dummy Data'!$B$73:$C$83,2,FALSE),\"\")","v":""},{"$f":"IFERROR(VLOOKUP(CA129,'Dummy Data'!$B$73:$C$83,2,FALSE),\"\")","v":""},{"$f":"IFERROR(VLOOKUP(CB129,'Dummy Data'!$B$73:$C$83,2,FALSE),\"\")","v":""},{"$f":"IFERROR(VLOOKUP(CC129,'Dummy Data'!$B$73:$C$83,2,FALSE),\"\")","v":""},""]
[null,null,null,null,null,null,null,null,null,null,null,null,null,null,null,null,null,null,null,null,null,null,null,null,null,null,null,null,null,null,null,null,null,null,null,null,null,null,null,null,null,null,null,null,null,null,null,null,null,null,null,null,null,null,null,null,null,null,null,null,null,null,null,null,null,null,null,null,null,null,null,null,null,null,null,null,{"$f":"'List Data'!B127","v":"241-2"},{"$f":"IFERROR(INDEX('Dummy Data'!$M$8:$M$37,SMALL(IF('Dummy Data'!$F$8:$F$37=$BY130,ROW('Dummy Data'!$F$8:$F$37)-7,\"\"),COLUMNS($BZ$4:BZ130))),\"\")","v":""},{"$f":"IFERROR(INDEX('Dummy Data'!$M$8:$M$37,SMALL(IF('Dummy Data'!$F$8:$F$37=$BY130,ROW('Dummy Data'!$F$8:$F$37)-7,\"\"),COLUMNS($BZ$4:CA130))),\"\")","v":""},{"$f":"IFERROR(INDEX('Dummy Data'!$M$8:$M$37,SMALL(IF('Dummy Data'!$F$8:$F$37=$BY130,ROW('Dummy Data'!$F$8:$F$37)-7,\"\"),COLUMNS($BZ$4:CB130))),\"\")","v":""},{"$f":"IFERROR(INDEX('Dummy Data'!$M$8:$M$37,SMALL(IF('Dummy Data'!$F$8:$F$37=$BY130,ROW('Dummy Data'!$F$8:$F$37)-7,\"\"),COLUMNS($BZ$4:CC130))),\"\")","v":""},{"$f":"IFERROR(VLOOKUP(BZ130,'Dummy Data'!$B$73:$C$83,2,FALSE),\"\")","v":""},{"$f":"IFERROR(VLOOKUP(CA130,'Dummy Data'!$B$73:$C$83,2,FALSE),\"\")","v":""},{"$f":"IFERROR(VLOOKUP(CB130,'Dummy Data'!$B$73:$C$83,2,FALSE),\"\")","v":""},{"$f":"IFERROR(VLOOKUP(CC130,'Dummy Data'!$B$73:$C$83,2,FALSE),\"\")","v":""},""]
[null,null,null,null,null,null,null,null,null,null,null,null,null,null,null,null,null,null,null,null,null,null,null,null,null,null,null,null,null,null,null,null,null,null,null,null,null,null,null,null,null,null,null,null,null,null,null,null,null,null,null,null,null,null,null,null,null,null,null,null,null,null,null,null,null,null,null,null,null,null,null,null,null,null,null,null,{"$f":"'List Data'!B128","v":"242-1"},{"$f":"IFERROR(INDEX('Dummy Data'!$M$8:$M$37,SMALL(IF('Dummy Data'!$F$8:$F$37=$BY131,ROW('Dummy Data'!$F$8:$F$37)-7,\"\"),COLUMNS($BZ$4:BZ131))),\"\")","v":""},{"$f":"IFERROR(INDEX('Dummy Data'!$M$8:$M$37,SMALL(IF('Dummy Data'!$F$8:$F$37=$BY131,ROW('Dummy Data'!$F$8:$F$37)-7,\"\"),COLUMNS($BZ$4:CA131))),\"\")","v":""},{"$f":"IFERROR(INDEX('Dummy Data'!$M$8:$M$37,SMALL(IF('Dummy Data'!$F$8:$F$37=$BY131,ROW('Dummy Data'!$F$8:$F$37)-7,\"\"),COLUMNS($BZ$4:CB131))),\"\")","v":""},{"$f":"IFERROR(INDEX('Dummy Data'!$M$8:$M$37,SMALL(IF('Dummy Data'!$F$8:$F$37=$BY131,ROW('Dummy Data'!$F$8:$F$37)-7,\"\"),COLUMNS($BZ$4:CC131))),\"\")","v":""},{"$f":"IFERROR(VLOOKUP(BZ131,'Dummy Data'!$B$73:$C$83,2,FALSE),\"\")","v":""},{"$f":"IFERROR(VLOOKUP(CA131,'Dummy Data'!$B$73:$C$83,2,FALSE),\"\")","v":""},{"$f":"IFERROR(VLOOKUP(CB131,'Dummy Data'!$B$73:$C$83,2,FALSE),\"\")","v":""},{"$f":"IFERROR(VLOOKUP(CC131,'Dummy Data'!$B$73:$C$83,2,FALSE),\"\")","v":""},""]
[null,null,null,null,null,null,null,null,null,null,null,null,null,null,null,null,null,null,null,null,null,null,null,null,null,null,null,null,null,null,null,null,null,null,null,null,null,null,null,null,null,null,null,null,null,null,null,null,null,null,null,null,null,null,null,null,null,null,null,null,null,null,null,null,null,null,null,null,null,null,null,null,null,null,null,null,{"$f":"'List Data'!B129","v":"242-1"},{"$f":"IFERROR(INDEX('Dummy Data'!$M$8:$M$37,SMALL(IF('Dummy Data'!$F$8:$F$37=$BY132,ROW('Dummy Data'!$F$8:$F$37)-7,\"\"),COLUMNS($BZ$4:BZ132))),\"\")","v":""},{"$f":"IFERROR(INDEX('Dummy Data'!$M$8:$M$37,SMALL(IF('Dummy Data'!$F$8:$F$37=$BY132,ROW('Dummy Data'!$F$8:$F$37)-7,\"\"),COLUMNS($BZ$4:CA132))),\"\")","v":""},{"$f":"IFERROR(INDEX('Dummy Data'!$M$8:$M$37,SMALL(IF('Dummy Data'!$F$8:$F$37=$BY132,ROW('Dummy Data'!$F$8:$F$37)-7,\"\"),COLUMNS($BZ$4:CB132))),\"\")","v":""},{"$f":"IFERROR(INDEX('Dummy Data'!$M$8:$M$37,SMALL(IF('Dummy Data'!$F$8:$F$37=$BY132,ROW('Dummy Data'!$F$8:$F$37)-7,\"\"),COLUMNS($BZ$4:CC132))),\"\")","v":""},{"$f":"IFERROR(VLOOKUP(BZ132,'Dummy Data'!$B$73:$C$83,2,FALSE),\"\")","v":""},{"$f":"IFERROR(VLOOKUP(CA132,'Dummy Data'!$B$73:$C$83,2,FALSE),\"\")","v":""},{"$f":"IFERROR(VLOOKUP(CB132,'Dummy Data'!$B$73:$C$83,2,FALSE),\"\")","v":""},{"$f":"IFERROR(VLOOKUP(CC132,'Dummy Data'!$B$73:$C$83,2,FALSE),\"\")","v":""},""]
[null,null,null,null,null,null,null,null,null,null,null,null,null,null,null,null,null,null,null,null,null,null,null,null,null,null,null,null,null,null,null,null,null,null,null,null,null,null,null,null,null,null,null,null,null,null,null,null,null,null,null,null,null,null,null,null,null,null,null,null,null,null,null,null,null,null,null,null,null,null,null,null,null,null,null,null,{"$f":"'List Data'!B130","v":"242-2"},{"$f":"IFERROR(INDEX('Dummy Data'!$M$8:$M$37,SMALL(IF('Dummy Data'!$F$8:$F$37=$BY133,ROW('Dummy Data'!$F$8:$F$37)-7,\"\"),COLUMNS($BZ$4:BZ133))),\"\")","v":""},{"$f":"IFERROR(INDEX('Dummy Data'!$M$8:$M$37,SMALL(IF('Dummy Data'!$F$8:$F$37=$BY133,ROW('Dummy Data'!$F$8:$F$37)-7,\"\"),COLUMNS($BZ$4:CA133))),\"\")","v":""},{"$f":"IFERROR(INDEX('Dummy Data'!$M$8:$M$37,SMALL(IF('Dummy Data'!$F$8:$F$37=$BY133,ROW('Dummy Data'!$F$8:$F$37)-7,\"\"),COLUMNS($BZ$4:CB133))),\"\")","v":""},{"$f":"IFERROR(INDEX('Dummy Data'!$M$8:$M$37,SMALL(IF('Dummy Data'!$F$8:$F$37=$BY133,ROW('Dummy Data'!$F$8:$F$37)-7,\"\"),COLUMNS($BZ$4:CC133))),\"\")","v":""},{"$f":"IFERROR(VLOOKUP(BZ133,'Dummy Data'!$B$73:$C$83,2,FALSE),\"\")","v":""},{"$f":"IFERROR(VLOOKUP(CA133,'Dummy Data'!$B$73:$C$83,2,FALSE),\"\")","v":""},{"$f":"IFERROR(VLOOKUP(CB133,'Dummy Data'!$B$73:$C$83,2,FALSE),\"\")","v":""},{"$f":"IFERROR(VLOOKUP(CC133,'Dummy Data'!$B$73:$C$83,2,FALSE),\"\")","v":""},""]
[null,null,null,null,null,null,null,null,null,null,null,null,null,null,null,null,null,null,null,null,null,null,null,null,null,null,null,null,null,null,null,null,null,null,null,null,null,null,null,null,null,null,null,null,null,null,null,null,null,null,null,null,null,null,null,null,null,null,null,null,null,null,null,null,null,null,null,null,null,null,null,null,null,null,null,null,{"$f":"'List Data'!B131","v":"242-2"},{"$f":"IFERROR(INDEX('Dummy Data'!$M$8:$M$37,SMALL(IF('Dummy Data'!$F$8:$F$37=$BY134,ROW('Dummy Data'!$F$8:$F$37)-7,\"\"),COLUMNS($BZ$4:BZ134))),\"\")","v":""},{"$f":"IFERROR(INDEX('Dummy Data'!$M$8:$M$37,SMALL(IF('Dummy Data'!$F$8:$F$37=$BY134,ROW('Dummy Data'!$F$8:$F$37)-7,\"\"),COLUMNS($BZ$4:CA134))),\"\")","v":""},{"$f":"IFERROR(INDEX('Dummy Data'!$M$8:$M$37,SMALL(IF('Dummy Data'!$F$8:$F$37=$BY134,ROW('Dummy Data'!$F$8:$F$37)-7,\"\"),COLUMNS($BZ$4:CB134))),\"\")","v":""},{"$f":"IFERROR(INDEX('Dummy Data'!$M$8:$M$37,SMALL(IF('Dummy Data'!$F$8:$F$37=$BY134,ROW('Dummy Data'!$F$8:$F$37)-7,\"\"),COLUMNS($BZ$4:CC134))),\"\")","v":""},{"$f":"IFERROR(VLOOKUP(BZ134,'Dummy Data'!$B$73:$C$83,2,FALSE),\"\")","v":""},{"$f":"IFERROR(VLOOKUP(CA134,'Dummy Data'!$B$73:$C$83,2,FALSE),\"\")","v":""},{"$f":"IFERROR(VLOOKUP(CB134,'Dummy Data'!$B$73:$C$83,2,FALSE),\"\")","v":""},{"$f":"IFERROR(VLOOKUP(CC134,'Dummy Data'!$B$73:$C$83,2,FALSE),\"\")","v":""},{"$f":"IF(CD134=\"\",\"\",IF(CE134=\"\",CD134,IF(CF134=\"\",CD134&\",\"&CE134,IF(CG134=\"\",CD134&\",\"&CE134&\",\"&CF134,CD134&\",\"&CE134&\",\"&CF134&\",\"&CG134))))","v":""}]
[null,null,null,null,null,null,null,null,null,null,null,null,null,null,null,null,null,null,null,null,null,null,null,null,null,null,null,null,null,null,null,null,null,null,null,null,null,null,null,null,null,null,null,null,null,null,null,null,null,null,null,null,null,null,null,null,null,null,null,null,null,null,null,null,null,null,null,null,null,null,null,null,null,null,null,null,{"$f":"'List Data'!B132","v":"243-1"},{"$f":"IFERROR(INDEX('Dummy Data'!$M$8:$M$37,SMALL(IF('Dummy Data'!$F$8:$F$37=$BY135,ROW('Dummy Data'!$F$8:$F$37)-7,\"\"),COLUMNS($BZ$4:BZ135))),\"\")","v":""},{"$f":"IFERROR(INDEX('Dummy Data'!$M$8:$M$37,SMALL(IF('Dummy Data'!$F$8:$F$37=$BY135,ROW('Dummy Data'!$F$8:$F$37)-7,\"\"),COLUMNS($BZ$4:CA135))),\"\")","v":""},{"$f":"IFERROR(INDEX('Dummy Data'!$M$8:$M$37,SMALL(IF('Dummy Data'!$F$8:$F$37=$BY135,ROW('Dummy Data'!$F$8:$F$37)-7,\"\"),COLUMNS($BZ$4:CB135))),\"\")","v":""},{"$f":"IFERROR(INDEX('Dummy Data'!$M$8:$M$37,SMALL(IF('Dummy Data'!$F$8:$F$37=$BY135,ROW('Dummy Data'!$F$8:$F$37)-7,\"\"),COLUMNS($BZ$4:CC135))),\"\")","v":""},{"$f":"IFERROR(VLOOKUP(BZ135,'Dummy Data'!$B$73:$C$83,2,FALSE),\"\")","v":""},{"$f":"IFERROR(VLOOKUP(CA135,'Dummy Data'!$B$73:$C$83,2,FALSE),\"\")","v":""},{"$f":"IFERROR(VLOOKUP(CB135,'Dummy Data'!$B$73:$C$83,2,FALSE),\"\")","v":""},{"$f":"IFERROR(VLOOKUP(CC135,'Dummy Data'!$B$73:$C$83,2,FALSE),\"\")","v":""},""]
[null,null,null,null,null,null,null,null,null,null,null,null,null,null,null,null,null,null,null,null,null,null,null,null,null,null,null,null,null,null,null,null,null,null,null,null,null,null,null,null,null,null,null,null,null,null,null,null,null,null,null,null,null,null,null,null,null,null,null,null,null,null,null,null,null,null,null,null,null,null,null,null,null,null,null,null,{"$f":"'List Data'!B133","v":"243-2"},{"$f":"IFERROR(INDEX('Dummy Data'!$M$8:$M$37,SMALL(IF('Dummy Data'!$F$8:$F$37=$BY136,ROW('Dummy Data'!$F$8:$F$37)-7,\"\"),COLUMNS($BZ$4:BZ136))),\"\")","v":""},{"$f":"IFERROR(INDEX('Dummy Data'!$M$8:$M$37,SMALL(IF('Dummy Data'!$F$8:$F$37=$BY136,ROW('Dummy Data'!$F$8:$F$37)-7,\"\"),COLUMNS($BZ$4:CA136))),\"\")","v":""},{"$f":"IFERROR(INDEX('Dummy Data'!$M$8:$M$37,SMALL(IF('Dummy Data'!$F$8:$F$37=$BY136,ROW('Dummy Data'!$F$8:$F$37)-7,\"\"),COLUMNS($BZ$4:CB136))),\"\")","v":""},{"$f":"IFERROR(INDEX('Dummy Data'!$M$8:$M$37,SMALL(IF('Dummy Data'!$F$8:$F$37=$BY136,ROW('Dummy Data'!$F$8:$F$37)-7,\"\"),COLUMNS($BZ$4:CC136))),\"\")","v":""},{"$f":"IFERROR(VLOOKUP(BZ136,'Dummy Data'!$B$73:$C$83,2,FALSE),\"\")","v":""},{"$f":"IFERROR(VLOOKUP(CA136,'Dummy Data'!$B$73:$C$83,2,FALSE),\"\")","v":""},{"$f":"IFERROR(VLOOKUP(CB136,'Dummy Data'!$B$73:$C$83,2,FALSE),\"\")","v":""},{"$f":"IFERROR(VLOOKUP(CC136,'Dummy Data'!$B$73:$C$83,2,FALSE),\"\")","v":""},""]
[null,null,null,null,null,null,null,null,null,null,null,null,null,null,null,null,null,null,null,null,null,null,null,null,null,null,null,null,null,null,null,null,null,null,null,null,null,null,null,null,null,null,null,null,null,null,null,null,null,null,null,null,null,null,null,null,null,null,null,null,null,null,null,null,null,null,null,null,null,null,null,null,null,null,null,null,{"$f":"'List Data'!B134","v":"245-1"},{"$f":"IFERROR(INDEX('Dummy Data'!$M$8:$M$37,SMALL(IF('Dummy Data'!$F$8:$F$37=$BY137,ROW('Dummy Data'!$F$8:$F$37)-7,\"\"),COLUMNS($BZ$4:BZ137))),\"\")","v":""},{"$f":"IFERROR(INDEX('Dummy Data'!$M$8:$M$37,SMALL(IF('Dummy Data'!$F$8:$F$37=$BY137,ROW('Dummy Data'!$F$8:$F$37)-7,\"\"),COLUMNS($BZ$4:CA137))),\"\")","v":""},{"$f":"IFERROR(INDEX('Dummy Data'!$M$8:$M$37,SMALL(IF('Dummy Data'!$F$8:$F$37=$BY137,ROW('Dummy Data'!$F$8:$F$37)-7,\"\"),COLUMNS($BZ$4:CB137))),\"\")","v":""},{"$f":"IFERROR(INDEX('Dummy Data'!$M$8:$M$37,SMALL(IF('Dummy Data'!$F$8:$F$37=$BY137,ROW('Dummy Data'!$F$8:$F$37)-7,\"\"),COLUMNS($BZ$4:CC137))),\"\")","v":""},{"$f":"IFERROR(VLOOKUP(BZ137,'Dummy Data'!$B$73:$C$83,2,FALSE),\"\")","v":""},{"$f":"IFERROR(VLOOKUP(CA137,'Dummy Data'!$B$73:$C$83,2,FALSE),\"\")","v":""},{"$f":"IFERROR(VLOOKUP(CB137,'Dummy Data'!$B$73:$C$83,2,FALSE),\"\")","v":""},{"$f":"IFERROR(VLOOKUP(CC137,'Dummy Data'!$B$73:$C$83,2,FALSE),\"\")","v":""},""]
[null,null,null,null,null,null,null,null,null,null,null,null,null,null,null,null,null,null,null,null,null,null,null,null,null,null,null,null,null,null,null,null,null,null,null,null,null,null,null,null,null,null,null,null,null,null,null,null,null,null,null,null,null,null,null,null,null,null,null,null,null,null,null,null,null,null,null,null,null,null,null,null,null,null,null,null,{"$f":"'List Data'!B135","v":"245-2"},{"$f":"IFERROR(INDEX('Dummy Data'!$M$8:$M$37,SMALL(IF('Dummy Data'!$F$8:$F$37=$BY138,ROW('Dummy Data'!$F$8:$F$37)-7,\"\"),COLUMNS($BZ$4:BZ138))),\"\")","v":""},{"$f":"IFERROR(INDEX('Dummy Data'!$M$8:$M$37,SMALL(IF('Dummy Data'!$F$8:$F$37=$BY138,ROW('Dummy Data'!$F$8:$F$37)-7,\"\"),COLUMNS($BZ$4:CA138))),\"\")","v":""},{"$f":"IFERROR(INDEX('Dummy Data'!$M$8:$M$37,SMALL(IF('Dummy Data'!$F$8:$F$37=$BY138,ROW('Dummy Data'!$F$8:$F$37)-7,\"\"),COLUMNS($BZ$4:CB138))),\"\")","v":""},{"$f":"IFERROR(INDEX('Dummy Data'!$M$8:$M$37,SMALL(IF('Dummy Data'!$F$8:$F$37=$BY138,ROW('Dummy Data'!$F$8:$F$37)-7,\"\"),COLUMNS($BZ$4:CC138))),\"\")","v":""},{"$f":"IFERROR(VLOOKUP(BZ138,'Dummy Data'!$B$73:$C$83,2,FALSE),\"\")","v":""},{"$f":"IFERROR(VLOOKUP(CA138,'Dummy Data'!$B$73:$C$83,2,FALSE),\"\")","v":""},{"$f":"IFERROR(VLOOKUP(CB138,'Dummy Data'!$B$73:$C$83,2,FALSE),\"\")","v":""},{"$f":"IFERROR(VLOOKUP(CC138,'Dummy Data'!$B$73:$C$83,2,FALSE),\"\")","v":""},""]
[null,null,null,null,null,null,null,null,null,null,null,null,null,null,null,null,null,null,null,null,null,null,null,null,null,null,null,null,null,null,null,null,null,null,null,null,null,null,null,null,null,null,null,null,null,null,null,null,null,null,null,null,null,null,null,null,null,null,null,null,null,null,null,null,null,null,null,null,null,null,null,null,null,null,null,null,{"$f":"'List Data'!B136","v":"246-1"},{"$f":"IFERROR(INDEX('Dummy Data'!$M$8:$M$37,SMALL(IF('Dummy Data'!$F$8:$F$37=$BY139,ROW('Dummy Data'!$F$8:$F$37)-7,\"\"),COLUMNS($BZ$4:BZ139))),\"\")","v":""},{"$f":"IFERROR(INDEX('Dummy Data'!$M$8:$M$37,SMALL(IF('Dummy Data'!$F$8:$F$37=$BY139,ROW('Dummy Data'!$F$8:$F$37)-7,\"\"),COLUMNS($BZ$4:CA139))),\"\")","v":""},{"$f":"IFERROR(INDEX('Dummy Data'!$M$8:$M$37,SMALL(IF('Dummy Data'!$F$8:$F$37=$BY139,ROW('Dummy Data'!$F$8:$F$37)-7,\"\"),COLUMNS($BZ$4:CB139))),\"\")","v":""},{"$f":"IFERROR(INDEX('Dummy Data'!$M$8:$M$37,SMALL(IF('Dummy Data'!$F$8:$F$37=$BY139,ROW('Dummy Data'!$F$8:$F$37)-7,\"\"),COLUMNS($BZ$4:CC139))),\"\")","v":""},{"$f":"IFERROR(VLOOKUP(BZ139,'Dummy Data'!$B$73:$C$83,2,FALSE),\"\")","v":""},{"$f":"IFERROR(VLOOKUP(CA139,'Dummy Data'!$B$73:$C$83,2,FALSE),\"\")","v":""},{"$f":"IFERROR(VLOOKUP(CB139,'Dummy Data'!$B$73:$C$83,2,FALSE),\"\")","v":""},{"$f":"IFERROR(VLOOKUP(CC139,'Dummy Data'!$B$73:$C$83,2,FALSE),\"\")","v":""},""]
[null,null,null,null,null,null,null,null,null,null,null,null,null,null,null,null,null,null,null,null,null,null,null,null,null,null,null,null,null,null,null,null,null,null,null,null,null,null,null,null,null,null,null,null,null,null,null,null,null,null,null,null,null,null,null,null,null,null,null,null,null,null,null,null,null,null,null,null,null,null,null,null,null,null,null,null,{"$f":"'List Data'!B137","v":"246-2"},{"$f":"IFERROR(INDEX('Dummy Data'!$M$8:$M$37,SMALL(IF('Dummy Data'!$F$8:$F$37=$BY140,ROW('Dummy Data'!$F$8:$F$37)-7,\"\"),COLUMNS($BZ$4:BZ140))),\"\")","v":""},{"$f":"IFERROR(INDEX('Dummy Data'!$M$8:$M$37,SMALL(IF('Dummy Data'!$F$8:$F$37=$BY140,ROW('Dummy Data'!$F$8:$F$37)-7,\"\"),COLUMNS($BZ$4:CA140))),\"\")","v":""},{"$f":"IFERROR(INDEX('Dummy Data'!$M$8:$M$37,SMALL(IF('Dummy Data'!$F$8:$F$37=$BY140,ROW('Dummy Data'!$F$8:$F$37)-7,\"\"),COLUMNS($BZ$4:CB140))),\"\")","v":""},{"$f":"IFERROR(INDEX('Dummy Data'!$M$8:$M$37,SMALL(IF('Dummy Data'!$F$8:$F$37=$BY140,ROW('Dummy Data'!$F$8:$F$37)-7,\"\"),COLUMNS($BZ$4:CC140))),\"\")","v":""},{"$f":"IFERROR(VLOOKUP(BZ140,'Dummy Data'!$B$73:$C$83,2,FALSE),\"\")","v":""},{"$f":"IFERROR(VLOOKUP(CA140,'Dummy Data'!$B$73:$C$83,2,FALSE),\"\")","v":""},{"$f":"IFERROR(VLOOKUP(CB140,'Dummy Data'!$B$73:$C$83,2,FALSE),\"\")","v":""},{"$f":"IFERROR(VLOOKUP(CC140,'Dummy Data'!$B$73:$C$83,2,FALSE),\"\")","v":""},""]
[null,null,null,null,null,null,null,null,null,null,null,null,null,null,null,null,null,null,null,null,null,null,null,null,null,null,null,null,null,null,null,null,null,null,null,null,null,null,null,null,null,null,null,null,null,null,null,null,null,null,null,null,null,null,null,null,null,null,null,null,null,null,null,null,null,null,null,null,null,null,null,null,null,null,null,null,{"$f":"'List Data'!B138","v":"247-1"},{"$f":"IFERROR(INDEX('Dummy Data'!$M$8:$M$37,SMALL(IF('Dummy Data'!$F$8:$F$37=$BY141,ROW('Dummy Data'!$F$8:$F$37)-7,\"\"),COLUMNS($BZ$4:BZ141))),\"\")","v":""},{"$f":"IFERROR(INDEX('Dummy Data'!$M$8:$M$37,SMALL(IF('Dummy Data'!$F$8:$F$37=$BY141,ROW('Dummy Data'!$F$8:$F$37)-7,\"\"),COLUMNS($BZ$4:CA141))),\"\")","v":""},{"$f":"IFERROR(INDEX('Dummy Data'!$M$8:$M$37,SMALL(IF('Dummy Data'!$F$8:$F$37=$BY141,ROW('Dummy Data'!$F$8:$F$37)-7,\"\"),COLUMNS($BZ$4:CB141))),\"\")","v":""},{"$f":"IFERROR(INDEX('Dummy Data'!$M$8:$M$37,SMALL(IF('Dummy Data'!$F$8:$F$37=$BY141,ROW('Dummy Data'!$F$8:$F$37)-7,\"\"),COLUMNS($BZ$4:CC141))),\"\")","v":""},{"$f":"IFERROR(VLOOKUP(BZ141,'Dummy Data'!$B$73:$C$83,2,FALSE),\"\")","v":""},{"$f":"IFERROR(VLOOKUP(CA141,'Dummy Data'!$B$73:$C$83,2,FALSE),\"\")","v":""},{"$f":"IFERROR(VLOOKUP(CB141,'Dummy Data'!$B$73:$C$83,2,FALSE),\"\")","v":""},{"$f":"IFERROR(VLOOKUP(CC141,'Dummy Data'!$B$73:$C$83,2,FALSE),\"\")","v":""},""]
[null,null,null,null,null,null,null,null,null,null,null,null,null,null,null,null,null,null,null,null,null,null,null,null,null,null,null,null,null,null,null,null,null,null,null,null,null,null,null,null,null,null,null,null,null,null,null,null,null,null,null,null,null,null,null,null,null,null,null,null,null,null,null,null,null,null,null,null,null,null,null,null,null,null,null,null,{"$f":"'List Data'!B139","v":"247-2"},{"$f":"IFERROR(INDEX('Dummy Data'!$M$8:$M$37,SMALL(IF('Dummy Data'!$F$8:$F$37=$BY142,ROW('Dummy Data'!$F$8:$F$37)-7,\"\"),COLUMNS($BZ$4:BZ142))),\"\")","v":""},{"$f":"IFERROR(INDEX('Dummy Data'!$M$8:$M$37,SMALL(IF('Dummy Data'!$F$8:$F$37=$BY142,ROW('Dummy Data'!$F$8:$F$37)-7,\"\"),COLUMNS($BZ$4:CA142))),\"\")","v":""},{"$f":"IFERROR(INDEX('Dummy Data'!$M$8:$M$37,SMALL(IF('Dummy Data'!$F$8:$F$37=$BY142,ROW('Dummy Data'!$F$8:$F$37)-7,\"\"),COLUMNS($BZ$4:CB142))),\"\")","v":""},{"$f":"IFERROR(INDEX('Dummy Data'!$M$8:$M$37,SMALL(IF('Dummy Data'!$F$8:$F$37=$BY142,ROW('Dummy Data'!$F$8:$F$37)-7,\"\"),COLUMNS($BZ$4:CC142))),\"\")","v":""},{"$f":"IFERROR(VLOOKUP(BZ142,'Dummy Data'!$B$73:$C$83,2,FALSE),\"\")","v":""},{"$f":"IFERROR(VLOOKUP(CA142,'Dummy Data'!$B$73:$C$83,2,FALSE),\"\")","v":""},{"$f":"IFERROR(VLOOKUP(CB142,'Dummy Data'!$B$73:$C$83,2,FALSE),\"\")","v":""},{"$f":"IFERROR(VLOOKUP(CC142,'Dummy Data'!$B$73:$C$83,2,FALSE),\"\")","v":""},""]
[null,null,null,null,null,null,null,null,null,null,null,null,null,null,null,null,null,null,null,null,null,null,null,null,null,null,null,null,null,null,null,null,null,null,null,null,null,null,null,null,null,null,null,null,null,null,null,null,null,null,null,null,null,null,null,null,null,null,null,null,null,null,null,null,null,null,null,null,null,null,null,null,null,null,null,null,{"$f":"'List Data'!B140","v":"248-1"},{"$f":"IFERROR(INDEX('Dummy Data'!$M$8:$M$37,SMALL(IF('Dummy Data'!$F$8:$F$37=$BY143,ROW('Dummy Data'!$F$8:$F$37)-7,\"\"),COLUMNS($BZ$4:BZ143))),\"\")","v":""},{"$f":"IFERROR(INDEX('Dummy Data'!$M$8:$M$37,SMALL(IF('Dummy Data'!$F$8:$F$37=$BY143,ROW('Dummy Data'!$F$8:$F$37)-7,\"\"),COLUMNS($BZ$4:CA143))),\"\")","v":""},{"$f":"IFERROR(INDEX('Dummy Data'!$M$8:$M$37,SMALL(IF('Dummy Data'!$F$8:$F$37=$BY143,ROW('Dummy Data'!$F$8:$F$37)-7,\"\"),COLUMNS($BZ$4:CB143))),\"\")","v":""},{"$f":"IFERROR(INDEX('Dummy Data'!$M$8:$M$37,SMALL(IF('Dummy Data'!$F$8:$F$37=$BY143,ROW('Dummy Data'!$F$8:$F$37)-7,\"\"),COLUMNS($BZ$4:CC143))),\"\")","v":""},{"$f":"IFERROR(VLOOKUP(BZ143,'Dummy Data'!$B$73:$C$83,2,FALSE),\"\")","v":""},{"$f":"IFERROR(VLOOKUP(CA143,'Dummy Data'!$B$73:$C$83,2,FALSE),\"\")","v":""},{"$f":"IFERROR(VLOOKUP(CB143,'Dummy Data'!$B$73:$C$83,2,FALSE),\"\")","v":""},{"$f":"IFERROR(VLOOKUP(CC143,'Dummy Data'!$B$73:$C$83,2,FALSE),\"\")","v":""},""]
[null,null,null,null,null,null,null,null,null,null,null,null,null,null,null,null,null,null,null,null,null,null,null,null,null,null,null,null,null,null,null,null,null,null,null,null,null,null,null,null,null,null,null,null,null,null,null,null,null,null,null,null,null,null,null,null,null,null,null,null,null,null,null,null,null,null,null,null,null,null,null,null,null,null,null,null,{"$f":"'List Data'!B141","v":"248-2"},{"$f":"IFERROR(INDEX('Dummy Data'!$M$8:$M$37,SMALL(IF('Dummy Data'!$F$8:$F$37=$BY144,ROW('Dummy Data'!$F$8:$F$37)-7,\"\"),COLUMNS($BZ$4:BZ144))),\"\")","v":""},{"$f":"IFERROR(INDEX('Dummy Data'!$M$8:$M$37,SMALL(IF('Dummy Data'!$F$8:$F$37=$BY144,ROW('Dummy Data'!$F$8:$F$37)-7,\"\"),COLUMNS($BZ$4:CA144))),\"\")","v":""},{"$f":"IFERROR(INDEX('Dummy Data'!$M$8:$M$37,SMALL(IF('Dummy Data'!$F$8:$F$37=$BY144,ROW('Dummy Data'!$F$8:$F$37)-7,\"\"),COLUMNS($BZ$4:CB144))),\"\")","v":""},{"$f":"IFERROR(INDEX('Dummy Data'!$M$8:$M$37,SMALL(IF('Dummy Data'!$F$8:$F$37=$BY144,ROW('Dummy Data'!$F$8:$F$37)-7,\"\"),COLUMNS($BZ$4:CC144))),\"\")","v":""},{"$f":"IFERROR(VLOOKUP(BZ144,'Dummy Data'!$B$73:$C$83,2,FALSE),\"\")","v":""},{"$f":"IFERROR(VLOOKUP(CA144,'Dummy Data'!$B$73:$C$83,2,FALSE),\"\")","v":""},{"$f":"IFERROR(VLOOKUP(CB144,'Dummy Data'!$B$73:$C$83,2,FALSE),\"\")","v":""},{"$f":"IFERROR(VLOOKUP(CC144,'Dummy Data'!$B$73:$C$83,2,FALSE),\"\")","v":""},""]
[null,null,null,null,null,null,null,null,null,null,null,null,null,null,null,null,null,null,null,null,null,null,null,null,null,null,null,null,null,null,null,null,null,null,null,null,null,null,null,null,null,null,null,null,null,null,null,null,null,null,null,null,null,null,null,null,null,null,null,null,null,null,null,null,null,null,null,null,null,null,null,null,null,null,null,null,{"$f":"'List Data'!B142","v":"249-1"},{"$f":"IFERROR(INDEX('Dummy Data'!$M$8:$M$37,SMALL(IF('Dummy Data'!$F$8:$F$37=$BY145,ROW('Dummy Data'!$F$8:$F$37)-7,\"\"),COLUMNS($BZ$4:BZ145))),\"\")","v":""},{"$f":"IFERROR(INDEX('Dummy Data'!$M$8:$M$37,SMALL(IF('Dummy Data'!$F$8:$F$37=$BY145,ROW('Dummy Data'!$F$8:$F$37)-7,\"\"),COLUMNS($BZ$4:CA145))),\"\")","v":""},{"$f":"IFERROR(INDEX('Dummy Data'!$M$8:$M$37,SMALL(IF('Dummy Data'!$F$8:$F$37=$BY145,ROW('Dummy Data'!$F$8:$F$37)-7,\"\"),COLUMNS($BZ$4:CB145))),\"\")","v":""},{"$f":"IFERROR(INDEX('Dummy Data'!$M$8:$M$37,SMALL(IF('Dummy Data'!$F$8:$F$37=$BY145,ROW('Dummy Data'!$F$8:$F$37)-7,\"\"),COLUMNS($BZ$4:CC145))),\"\")","v":""},{"$f":"IFERROR(VLOOKUP(BZ145,'Dummy Data'!$B$73:$C$83,2,FALSE),\"\")","v":""},{"$f":"IFERROR(VLOOKUP(CA145,'Dummy Data'!$B$73:$C$83,2,FALSE),\"\")","v":""},{"$f":"IFERROR(VLOOKUP(CB145,'Dummy Data'!$B$73:$C$83,2,FALSE),\"\")","v":""},{"$f":"IFERROR(VLOOKUP(CC145,'Dummy Data'!$B$73:$C$83,2,FALSE),\"\")","v":""},""]
[null,null,null,null,null,null,null,null,null,null,null,null,null,null,null,null,null,null,null,null,null,null,null,null,null,null,null,null,null,null,null,null,null,null,null,null,null,null,null,null,null,null,null,null,null,null,null,null,null,null,null,null,null,null,null,null,null,null,null,null,null,null,null,null,null,null,null,null,null,null,null,null,null,null,null,null,{"$f":"'List Data'!B143","v":"249-2"},{"$f":"IFERROR(INDEX('Dummy Data'!$M$8:$M$37,SMALL(IF('Dummy Data'!$F$8:$F$37=$BY146,ROW('Dummy Data'!$F$8:$F$37)-7,\"\"),COLUMNS($BZ$4:BZ146))),\"\")","v":""},{"$f":"IFERROR(INDEX('Dummy Data'!$M$8:$M$37,SMALL(IF('Dummy Data'!$F$8:$F$37=$BY146,ROW('Dummy Data'!$F$8:$F$37)-7,\"\"),COLUMNS($BZ$4:CA146))),\"\")","v":""},{"$f":"IFERROR(INDEX('Dummy Data'!$M$8:$M$37,SMALL(IF('Dummy Data'!$F$8:$F$37=$BY146,ROW('Dummy Data'!$F$8:$F$37)-7,\"\"),COLUMNS($BZ$4:CB146))),\"\")","v":""},{"$f":"IFERROR(INDEX('Dummy Data'!$M$8:$M$37,SMALL(IF('Dummy Data'!$F$8:$F$37=$BY146,ROW('Dummy Data'!$F$8:$F$37)-7,\"\"),COLUMNS($BZ$4:CC146))),\"\")","v":""},{"$f":"IFERROR(VLOOKUP(BZ146,'Dummy Data'!$B$73:$C$83,2,FALSE),\"\")","v":""},{"$f":"IFERROR(VLOOKUP(CA146,'Dummy Data'!$B$73:$C$83,2,FALSE),\"\")","v":""},{"$f":"IFERROR(VLOOKUP(CB146,'Dummy Data'!$B$73:$C$83,2,FALSE),\"\")","v":""},{"$f":"IFERROR(VLOOKUP(CC146,'Dummy Data'!$B$73:$C$83,2,FALSE),\"\")","v":""},""]
[null,null,null,null,null,null,null,null,null,null,null,null,null,null,null,null,null,null,null,null,null,null,null,null,null,null,null,null,null,null,null,null,null,null,null,null,null,null,null,null,null,null,null,null,null,null,null,null,null,null,null,null,null,null,null,null,null,null,null,null,null,null,null,null,null,null,null,null,null,null,null,null,null,null,null,null,{"$f":"'List Data'!B144","v":"250-1"},{"$f":"IFERROR(INDEX('Dummy Data'!$M$8:$M$37,SMALL(IF('Dummy Data'!$F$8:$F$37=$BY147,ROW('Dummy Data'!$F$8:$F$37)-7,\"\"),COLUMNS($BZ$4:BZ147))),\"\")","v":""},{"$f":"IFERROR(INDEX('Dummy Data'!$M$8:$M$37,SMALL(IF('Dummy Data'!$F$8:$F$37=$BY147,ROW('Dummy Data'!$F$8:$F$37)-7,\"\"),COLUMNS($BZ$4:CA147))),\"\")","v":""},{"$f":"IFERROR(INDEX('Dummy Data'!$M$8:$M$37,SMALL(IF('Dummy Data'!$F$8:$F$37=$BY147,ROW('Dummy Data'!$F$8:$F$37)-7,\"\"),COLUMNS($BZ$4:CB147))),\"\")","v":""},{"$f":"IFERROR(INDEX('Dummy Data'!$M$8:$M$37,SMALL(IF('Dummy Data'!$F$8:$F$37=$BY147,ROW('Dummy Data'!$F$8:$F$37)-7,\"\"),COLUMNS($BZ$4:CC147))),\"\")","v":""},{"$f":"IFERROR(VLOOKUP(BZ147,'Dummy Data'!$B$73:$C$83,2,FALSE),\"\")","v":""},{"$f":"IFERROR(VLOOKUP(CA147,'Dummy Data'!$B$73:$C$83,2,FALSE),\"\")","v":""},{"$f":"IFERROR(VLOOKUP(CB147,'Dummy Data'!$B$73:$C$83,2,FALSE),\"\")","v":""},{"$f":"IFERROR(VLOOKUP(CC147,'Dummy Data'!$B$73:$C$83,2,FALSE),\"\")","v":""},""]
[null,null,null,null,null,null,null,null,null,null,null,null,null,null,null,null,null,null,null,null,null,null,null,null,null,null,null,null,null,null,null,null,null,null,null,null,null,null,null,null,null,null,null,null,null,null,null,null,null,null,null,null,null,null,null,null,null,null,null,null,null,null,null,null,null,null,null,null,null,null,null,null,null,null,null,null,{"$f":"'List Data'!B145","v":"250-2"},{"$f":"IFERROR(INDEX('Dummy Data'!$M$8:$M$37,SMALL(IF('Dummy Data'!$F$8:$F$37=$BY148,ROW('Dummy Data'!$F$8:$F$37)-7,\"\"),COLUMNS($BZ$4:BZ148))),\"\")","v":""},{"$f":"IFERROR(INDEX('Dummy Data'!$M$8:$M$37,SMALL(IF('Dummy Data'!$F$8:$F$37=$BY148,ROW('Dummy Data'!$F$8:$F$37)-7,\"\"),COLUMNS($BZ$4:CA148))),\"\")","v":""},{"$f":"IFERROR(INDEX('Dummy Data'!$M$8:$M$37,SMALL(IF('Dummy Data'!$F$8:$F$37=$BY148,ROW('Dummy Data'!$F$8:$F$37)-7,\"\"),COLUMNS($BZ$4:CB148))),\"\")","v":""},{"$f":"IFERROR(INDEX('Dummy Data'!$M$8:$M$37,SMALL(IF('Dummy Data'!$F$8:$F$37=$BY148,ROW('Dummy Data'!$F$8:$F$37)-7,\"\"),COLUMNS($BZ$4:CC148))),\"\")","v":""},{"$f":"IFERROR(VLOOKUP(BZ148,'Dummy Data'!$B$73:$C$83,2,FALSE),\"\")","v":""},{"$f":"IFERROR(VLOOKUP(CA148,'Dummy Data'!$B$73:$C$83,2,FALSE),\"\")","v":""},{"$f":"IFERROR(VLOOKUP(CB148,'Dummy Data'!$B$73:$C$83,2,FALSE),\"\")","v":""},{"$f":"IFERROR(VLOOKUP(CC148,'Dummy Data'!$B$73:$C$83,2,FALSE),\"\")","v":""},""]
[null,null,null,null,null,null,null,null,null,null,null,null,null,null,null,null,null,null,null,null,null,null,null,null,null,null,null,null,null,null,null,null,null,null,null,null,null,null,null,null,null,null,null,null,null,null,null,null,null,null,null,null,null,null,null,null,null,null,null,null,null,null,null,null,null,null,null,null,null,null,null,null,null,null,null,null,{"$f":"'List Data'!B146","v":"301-1"},{"$f":"IFERROR(INDEX('Dummy Data'!$M$8:$M$37,SMALL(IF('Dummy Data'!$F$8:$F$37=$BY149,ROW('Dummy Data'!$F$8:$F$37)-7,\"\"),COLUMNS($BZ$4:BZ149))),\"\")","v":""},{"$f":"IFERROR(INDEX('Dummy Data'!$M$8:$M$37,SMALL(IF('Dummy Data'!$F$8:$F$37=$BY149,ROW('Dummy Data'!$F$8:$F$37)-7,\"\"),COLUMNS($BZ$4:CA149))),\"\")","v":""},{"$f":"IFERROR(INDEX('Dummy Data'!$M$8:$M$37,SMALL(IF('Dummy Data'!$F$8:$F$37=$BY149,ROW('Dummy Data'!$F$8:$F$37)-7,\"\"),COLUMNS($BZ$4:CB149))),\"\")","v":""},{"$f":"IFERROR(INDEX('Dummy Data'!$M$8:$M$37,SMALL(IF('Dummy Data'!$F$8:$F$37=$BY149,ROW('Dummy Data'!$F$8:$F$37)-7,\"\"),COLUMNS($BZ$4:CC149))),\"\")","v":""},{"$f":"IFERROR(VLOOKUP(BZ149,'Dummy Data'!$B$73:$C$83,2,FALSE),\"\")","v":""},{"$f":"IFERROR(VLOOKUP(CA149,'Dummy Data'!$B$73:$C$83,2,FALSE),\"\")","v":""},{"$f":"IFERROR(VLOOKUP(CB149,'Dummy Data'!$B$73:$C$83,2,FALSE),\"\")","v":""},{"$f":"IFERROR(VLOOKUP(CC149,'Dummy Data'!$B$73:$C$83,2,FALSE),\"\")","v":""},""]
[null,null,null,null,null,null,null,null,null,null,null,null,null,null,null,null,null,null,null,null,null,null,null,null,null,null,null,null,null,null,null,null,null,null,null,null,null,null,null,null,null,null,null,null,null,null,null,null,null,null,null,null,null,null,null,null,null,null,null,null,null,null,null,null,null,null,null,null,null,null,null,null,null,null,null,null,{"$f":"'List Data'!B147","v":"301-2"},{"$f":"IFERROR(INDEX('Dummy Data'!$M$8:$M$37,SMALL(IF('Dummy Data'!$F$8:$F$37=$BY150,ROW('Dummy Data'!$F$8:$F$37)-7,\"\"),COLUMNS($BZ$4:BZ150))),\"\")","v":""},{"$f":"IFERROR(INDEX('Dummy Data'!$M$8:$M$37,SMALL(IF('Dummy Data'!$F$8:$F$37=$BY150,ROW('Dummy Data'!$F$8:$F$37)-7,\"\"),COLUMNS($BZ$4:CA150))),\"\")","v":""},{"$f":"IFERROR(INDEX('Dummy Data'!$M$8:$M$37,SMALL(IF('Dummy Data'!$F$8:$F$37=$BY150,ROW('Dummy Data'!$F$8:$F$37)-7,\"\"),COLUMNS($BZ$4:CB150))),\"\")","v":""},{"$f":"IFERROR(INDEX('Dummy Data'!$M$8:$M$37,SMALL(IF('Dummy Data'!$F$8:$F$37=$BY150,ROW('Dummy Data'!$F$8:$F$37)-7,\"\"),COLUMNS($BZ$4:CC150))),\"\")","v":""},{"$f":"IFERROR(VLOOKUP(BZ150,'Dummy Data'!$B$73:$C$83,2,FALSE),\"\")","v":""},{"$f":"IFERROR(VLOOKUP(CA150,'Dummy Data'!$B$73:$C$83,2,FALSE),\"\")","v":""},{"$f":"IFERROR(VLOOKUP(CB150,'Dummy Data'!$B$73:$C$83,2,FALSE),\"\")","v":""},{"$f":"IFERROR(VLOOKUP(CC150,'Dummy Data'!$B$73:$C$83,2,FALSE),\"\")","v":""},""]
[null,null,null,null,null,null,null,null,null,null,null,null,null,null,null,null,null,null,null,null,null,null,null,null,null,null,null,null,null,null,null,null,null,null,null,null,null,null,null,null,null,null,null,null,null,null,null,null,null,null,null,null,null,null,null,null,null,null,null,null,null,null,null,null,null,null,null,null,null,null,null,null,null,null,null,null,{"$f":"'List Data'!B148","v":"302-1"},{"$f":"IFERROR(INDEX('Dummy Data'!$M$8:$M$37,SMALL(IF('Dummy Data'!$F$8:$F$37=$BY151,ROW('Dummy Data'!$F$8:$F$37)-7,\"\"),COLUMNS($BZ$4:BZ151))),\"\")","v":""},{"$f":"IFERROR(INDEX('Dummy Data'!$M$8:$M$37,SMALL(IF('Dummy Data'!$F$8:$F$37=$BY151,ROW('Dummy Data'!$F$8:$F$37)-7,\"\"),COLUMNS($BZ$4:CA151))),\"\")","v":""},{"$f":"IFERROR(INDEX('Dummy Data'!$M$8:$M$37,SMALL(IF('Dummy Data'!$F$8:$F$37=$BY151,ROW('Dummy Data'!$F$8:$F$37)-7,\"\"),COLUMNS($BZ$4:CB151))),\"\")","v":""},{"$f":"IFERROR(INDEX('Dummy Data'!$M$8:$M$37,SMALL(IF('Dummy Data'!$F$8:$F$37=$BY151,ROW('Dummy Data'!$F$8:$F$37)-7,\"\"),COLUMNS($BZ$4:CC151))),\"\")","v":""},{"$f":"IFERROR(VLOOKUP(BZ151,'Dummy Data'!$B$73:$C$83,2,FALSE),\"\")","v":""},{"$f":"IFERROR(VLOOKUP(CA151,'Dummy Data'!$B$73:$C$83,2,FALSE),\"\")","v":""},{"$f":"IFERROR(VLOOKUP(CB151,'Dummy Data'!$B$73:$C$83,2,FALSE),\"\")","v":""},{"$f":"IFERROR(VLOOKUP(CC151,'Dummy Data'!$B$73:$C$83,2,FALSE),\"\")","v":""},""]
[null,null,null,null,null,null,null,null,null,null,null,null,null,null,null,null,null,null,null,null,null,null,null,null,null,null,null,null,null,null,null,null,null,null,null,null,null,null,null,null,null,null,null,null,null,null,null,null,null,null,null,null,null,null,null,null,null,null,null,null,null,null,null,null,null,null,null,null,null,null,null,null,null,null,null,null,{"$f":"'List Data'!B149","v":"302-2"},{"$f":"IFERROR(INDEX('Dummy Data'!$M$8:$M$37,SMALL(IF('Dummy Data'!$F$8:$F$37=$BY152,ROW('Dummy Data'!$F$8:$F$37)-7,\"\"),COLUMNS($BZ$4:BZ152))),\"\")","v":""},{"$f":"IFERROR(INDEX('Dummy Data'!$M$8:$M$37,SMALL(IF('Dummy Data'!$F$8:$F$37=$BY152,ROW('Dummy Data'!$F$8:$F$37)-7,\"\"),COLUMNS($BZ$4:CA152))),\"\")","v":""},{"$f":"IFERROR(INDEX('Dummy Data'!$M$8:$M$37,SMALL(IF('Dummy Data'!$F$8:$F$37=$BY152,ROW('Dummy Data'!$F$8:$F$37)-7,\"\"),COLUMNS($BZ$4:CB152))),\"\")","v":""},{"$f":"IFERROR(INDEX('Dummy Data'!$M$8:$M$37,SMALL(IF('Dummy Data'!$F$8:$F$37=$BY152,ROW('Dummy Data'!$F$8:$F$37)-7,\"\"),COLUMNS($BZ$4:CC152))),\"\")","v":""},{"$f":"IFERROR(VLOOKUP(BZ152,'Dummy Data'!$B$73:$C$83,2,FALSE),\"\")","v":""},{"$f":"IFERROR(VLOOKUP(CA152,'Dummy Data'!$B$73:$C$83,2,FALSE),\"\")","v":""},{"$f":"IFERROR(VLOOKUP(CB152,'Dummy Data'!$B$73:$C$83,2,FALSE),\"\")","v":""},{"$f":"IFERROR(VLOOKUP(CC152,'Dummy Data'!$B$73:$C$83,2,FALSE),\"\")","v":""},""]
[null,null,null,null,null,null,null,null,null,null,null,null,null,null,null,null,null,null,null,null,null,null,null,null,null,null,null,null,null,null,null,null,null,null,null,null,null,null,null,null,null,null,null,null,null,null,null,null,null,null,null,null,null,null,null,null,null,null,null,null,null,null,null,null,null,null,null,null,null,null,null,null,null,null,null,null,{"$f":"'List Data'!B150","v":"303-1"},{"$f":"IFERROR(INDEX('Dummy Data'!$M$8:$M$37,SMALL(IF('Dummy Data'!$F$8:$F$37=$BY153,ROW('Dummy Data'!$F$8:$F$37)-7,\"\"),COLUMNS($BZ$4:BZ153))),\"\")","v":""},{"$f":"IFERROR(INDEX('Dummy Data'!$M$8:$M$37,SMALL(IF('Dummy Data'!$F$8:$F$37=$BY153,ROW('Dummy Data'!$F$8:$F$37)-7,\"\"),COLUMNS($BZ$4:CA153))),\"\")","v":""},{"$f":"IFERROR(INDEX('Dummy Data'!$M$8:$M$37,SMALL(IF('Dummy Data'!$F$8:$F$37=$BY153,ROW('Dummy Data'!$F$8:$F$37)-7,\"\"),COLUMNS($BZ$4:CB153))),\"\")","v":""},{"$f":"IFERROR(INDEX('Dummy Data'!$M$8:$M$37,SMALL(IF('Dummy Data'!$F$8:$F$37=$BY153,ROW('Dummy Data'!$F$8:$F$37)-7,\"\"),COLUMNS($BZ$4:CC153))),\"\")","v":""},{"$f":"IFERROR(VLOOKUP(BZ153,'Dummy Data'!$B$73:$C$83,2,FALSE),\"\")","v":""},{"$f":"IFERROR(VLOOKUP(CA153,'Dummy Data'!$B$73:$C$83,2,FALSE),\"\")","v":""},{"$f":"IFERROR(VLOOKUP(CB153,'Dummy Data'!$B$73:$C$83,2,FALSE),\"\")","v":""},{"$f":"IFERROR(VLOOKUP(CC153,'Dummy Data'!$B$73:$C$83,2,FALSE),\"\")","v":""},""]
[null,null,null,null,null,null,null,null,null,null,null,null,null,null,null,null,null,null,null,null,null,null,null,null,null,null,null,null,null,null,null,null,null,null,null,null,null,null,null,null,null,null,null,null,null,null,null,null,null,null,null,null,null,null,null,null,null,null,null,null,null,null,null,null,null,null,null,null,null,null,null,null,null,null,null,null,{"$f":"'List Data'!B151","v":"303-2"},{"$f":"IFERROR(INDEX('Dummy Data'!$M$8:$M$37,SMALL(IF('Dummy Data'!$F$8:$F$37=$BY154,ROW('Dummy Data'!$F$8:$F$37)-7,\"\"),COLUMNS($BZ$4:BZ154))),\"\")","v":""},{"$f":"IFERROR(INDEX('Dummy Data'!$M$8:$M$37,SMALL(IF('Dummy Data'!$F$8:$F$37=$BY154,ROW('Dummy Data'!$F$8:$F$37)-7,\"\"),COLUMNS($BZ$4:CA154))),\"\")","v":""},{"$f":"IFERROR(INDEX('Dummy Data'!$M$8:$M$37,SMALL(IF('Dummy Data'!$F$8:$F$37=$BY154,ROW('Dummy Data'!$F$8:$F$37)-7,\"\"),COLUMNS($BZ$4:CB154))),\"\")","v":""},{"$f":"IFERROR(INDEX('Dummy Data'!$M$8:$M$37,SMALL(IF('Dummy Data'!$F$8:$F$37=$BY154,ROW('Dummy Data'!$F$8:$F$37)-7,\"\"),COLUMNS($BZ$4:CC154))),\"\")","v":""},{"$f":"IFERROR(VLOOKUP(BZ154,'Dummy Data'!$B$73:$C$83,2,FALSE),\"\")","v":""},{"$f":"IFERROR(VLOOKUP(CA154,'Dummy Data'!$B$73:$C$83,2,FALSE),\"\")","v":""},{"$f":"IFERROR(VLOOKUP(CB154,'Dummy Data'!$B$73:$C$83,2,FALSE),\"\")","v":""},{"$f":"IFERROR(VLOOKUP(CC154,'Dummy Data'!$B$73:$C$83,2,FALSE),\"\")","v":""},""]
[null,null,null,null,null,null,null,null,null,null,null,null,null,null,null,null,null,null,null,null,null,null,null,null,null,null,null,null,null,null,null,null,null,null,null,null,null,null,null,null,null,null,null,null,null,null,null,null,null,null,null,null,null,null,null,null,null,null,null,null,null,null,null,null,null,null,null,null,null,null,null,null,null,null,null,null,{"$f":"'List Data'!B152","v":"304-1"},{"$f":"IFERROR(INDEX('Dummy Data'!$M$8:$M$37,SMALL(IF('Dummy Data'!$F$8:$F$37=$BY155,ROW('Dummy Data'!$F$8:$F$37)-7,\"\"),COLUMNS($BZ$4:BZ155))),\"\")","v":""},{"$f":"IFERROR(INDEX('Dummy Data'!$M$8:$M$37,SMALL(IF('Dummy Data'!$F$8:$F$37=$BY155,ROW('Dummy Data'!$F$8:$F$37)-7,\"\"),COLUMNS($BZ$4:CA155))),\"\")","v":""},{"$f":"IFERROR(INDEX('Dummy Data'!$M$8:$M$37,SMALL(IF('Dummy Data'!$F$8:$F$37=$BY155,ROW('Dummy Data'!$F$8:$F$37)-7,\"\"),COLUMNS($BZ$4:CB155))),\"\")","v":""},{"$f":"IFERROR(INDEX('Dummy Data'!$M$8:$M$37,SMALL(IF('Dummy Data'!$F$8:$F$37=$BY155,ROW('Dummy Data'!$F$8:$F$37)-7,\"\"),COLUMNS($BZ$4:CC155))),\"\")","v":""},{"$f":"IFERROR(VLOOKUP(BZ155,'Dummy Data'!$B$73:$C$83,2,FALSE),\"\")","v":""},{"$f":"IFERROR(VLOOKUP(CA155,'Dummy Data'!$B$73:$C$83,2,FALSE),\"\")","v":""},{"$f":"IFERROR(VLOOKUP(CB155,'Dummy Data'!$B$73:$C$83,2,FALSE),\"\")","v":""},{"$f":"IFERROR(VLOOKUP(CC155,'Dummy Data'!$B$73:$C$83,2,FALSE),\"\")","v":""},""]
[null,null,null,null,null,null,null,null,null,null,null,null,null,null,null,null,null,null,null,null,null,null,null,null,null,null,null,null,null,null,null,null,null,null,null,null,null,null,null,null,null,null,null,null,null,null,null,null,null,null,null,null,null,null,null,null,null,null,null,null,null,null,null,null,null,null,null,null,null,null,null,null,null,null,null,null,{"$f":"'List Data'!B153","v":"304-2"},{"$f":"IFERROR(INDEX('Dummy Data'!$M$8:$M$37,SMALL(IF('Dummy Data'!$F$8:$F$37=$BY156,ROW('Dummy Data'!$F$8:$F$37)-7,\"\"),COLUMNS($BZ$4:BZ156))),\"\")","v":""},{"$f":"IFERROR(INDEX('Dummy Data'!$M$8:$M$37,SMALL(IF('Dummy Data'!$F$8:$F$37=$BY156,ROW('Dummy Data'!$F$8:$F$37)-7,\"\"),COLUMNS($BZ$4:CA156))),\"\")","v":""},{"$f":"IFERROR(INDEX('Dummy Data'!$M$8:$M$37,SMALL(IF('Dummy Data'!$F$8:$F$37=$BY156,ROW('Dummy Data'!$F$8:$F$37)-7,\"\"),COLUMNS($BZ$4:CB156))),\"\")","v":""},{"$f":"IFERROR(INDEX('Dummy Data'!$M$8:$M$37,SMALL(IF('Dummy Data'!$F$8:$F$37=$BY156,ROW('Dummy Data'!$F$8:$F$37)-7,\"\"),COLUMNS($BZ$4:CC156))),\"\")","v":""},{"$f":"IFERROR(VLOOKUP(BZ156,'Dummy Data'!$B$73:$C$83,2,FALSE),\"\")","v":""},{"$f":"IFERROR(VLOOKUP(CA156,'Dummy Data'!$B$73:$C$83,2,FALSE),\"\")","v":""},{"$f":"IFERROR(VLOOKUP(CB156,'Dummy Data'!$B$73:$C$83,2,FALSE),\"\")","v":""},{"$f":"IFERROR(VLOOKUP(CC156,'Dummy Data'!$B$73:$C$83,2,FALSE),\"\")","v":""},""]
[null,null,null,null,null,null,null,null,null,null,null,null,null,null,null,null,null,null,null,null,null,null,null,null,null,null,null,null,null,null,null,null,null,null,null,null,null,null,null,null,null,null,null,null,null,null,null,null,null,null,null,null,null,null,null,null,null,null,null,null,null,null,null,null,null,null,null,null,null,null,null,null,null,null,null,null,{"$f":"'List Data'!B154","v":"305-1"},{"$f":"IFERROR(INDEX('Dummy Data'!$M$8:$M$37,SMALL(IF('Dummy Data'!$F$8:$F$37=$BY157,ROW('Dummy Data'!$F$8:$F$37)-7,\"\"),COLUMNS($BZ$4:BZ157))),\"\")","v":""},{"$f":"IFERROR(INDEX('Dummy Data'!$M$8:$M$37,SMALL(IF('Dummy Data'!$F$8:$F$37=$BY157,ROW('Dummy Data'!$F$8:$F$37)-7,\"\"),COLUMNS($BZ$4:CA157))),\"\")","v":""},{"$f":"IFERROR(INDEX('Dummy Data'!$M$8:$M$37,SMALL(IF('Dummy Data'!$F$8:$F$37=$BY157,ROW('Dummy Data'!$F$8:$F$37)-7,\"\"),COLUMNS($BZ$4:CB157))),\"\")","v":""},{"$f":"IFERROR(INDEX('Dummy Data'!$M$8:$M$37,SMALL(IF('Dummy Data'!$F$8:$F$37=$BY157,ROW('Dummy Data'!$F$8:$F$37)-7,\"\"),COLUMNS($BZ$4:CC157))),\"\")","v":""},{"$f":"IFERROR(VLOOKUP(BZ157,'Dummy Data'!$B$73:$C$83,2,FALSE),\"\")","v":""},{"$f":"IFERROR(VLOOKUP(CA157,'Dummy Data'!$B$73:$C$83,2,FALSE),\"\")","v":""},{"$f":"IFERROR(VLOOKUP(CB157,'Dummy Data'!$B$73:$C$83,2,FALSE),\"\")","v":""},{"$f":"IFERROR(VLOOKUP(CC157,'Dummy Data'!$B$73:$C$83,2,FALSE),\"\")","v":""},""]
[null,null,null,null,null,null,null,null,null,null,null,null,null,null,null,null,null,null,null,null,null,null,null,null,null,null,null,null,null,null,null,null,null,null,null,null,null,null,null,null,null,null,null,null,null,null,null,null,null,null,null,null,null,null,null,null,null,null,null,null,null,null,null,null,null,null,null,null,null,null,null,null,null,null,null,null,{"$f":"'List Data'!B155","v":"305-2"},{"$f":"IFERROR(INDEX('Dummy Data'!$M$8:$M$37,SMALL(IF('Dummy Data'!$F$8:$F$37=$BY158,ROW('Dummy Data'!$F$8:$F$37)-7,\"\"),COLUMNS($BZ$4:BZ158))),\"\")","v":""},{"$f":"IFERROR(INDEX('Dummy Data'!$M$8:$M$37,SMALL(IF('Dummy Data'!$F$8:$F$37=$BY158,ROW('Dummy Data'!$F$8:$F$37)-7,\"\"),COLUMNS($BZ$4:CA158))),\"\")","v":""},{"$f":"IFERROR(INDEX('Dummy Data'!$M$8:$M$37,SMALL(IF('Dummy Data'!$F$8:$F$37=$BY158,ROW('Dummy Data'!$F$8:$F$37)-7,\"\"),COLUMNS($BZ$4:CB158))),\"\")","v":""},{"$f":"IFERROR(INDEX('Dummy Data'!$M$8:$M$37,SMALL(IF('Dummy Data'!$F$8:$F$37=$BY158,ROW('Dummy Data'!$F$8:$F$37)-7,\"\"),COLUMNS($BZ$4:CC158))),\"\")","v":""},{"$f":"IFERROR(VLOOKUP(BZ158,'Dummy Data'!$B$73:$C$83,2,FALSE),\"\")","v":""},{"$f":"IFERROR(VLOOKUP(CA158,'Dummy Data'!$B$73:$C$83,2,FALSE),\"\")","v":""},{"$f":"IFERROR(VLOOKUP(CB158,'Dummy Data'!$B$73:$C$83,2,FALSE),\"\")","v":""},{"$f":"IFERROR(VLOOKUP(CC158,'Dummy Data'!$B$73:$C$83,2,FALSE),\"\")","v":""},""]
[null,null,null,null,null,null,null,null,null,null,null,null,null,null,null,null,null,null,null,null,null,null,null,null,null,null,null,null,null,null,null,null,null,null,null,null,null,null,null,null,null,null,null,null,null,null,null,null,null,null,null,null,null,null,null,null,null,null,null,null,null,null,null,null,null,null,null,null,null,null,null,null,null,null,null,null,{"$f":"'List Data'!B156","v":"306-1"},{"$f":"IFERROR(INDEX('Dummy Data'!$M$8:$M$37,SMALL(IF('Dummy Data'!$F$8:$F$37=$BY159,ROW('Dummy Data'!$F$8:$F$37)-7,\"\"),COLUMNS($BZ$4:BZ159))),\"\")","v":""},{"$f":"IFERROR(INDEX('Dummy Data'!$M$8:$M$37,SMALL(IF('Dummy Data'!$F$8:$F$37=$BY159,ROW('Dummy Data'!$F$8:$F$37)-7,\"\"),COLUMNS($BZ$4:CA159))),\"\")","v":""},{"$f":"IFERROR(INDEX('Dummy Data'!$M$8:$M$37,SMALL(IF('Dummy Data'!$F$8:$F$37=$BY159,ROW('Dummy Data'!$F$8:$F$37)-7,\"\"),COLUMNS($BZ$4:CB159))),\"\")","v":""},{"$f":"IFERROR(INDEX('Dummy Data'!$M$8:$M$37,SMALL(IF('Dummy Data'!$F$8:$F$37=$BY159,ROW('Dummy Data'!$F$8:$F$37)-7,\"\"),COLUMNS($BZ$4:CC159))),\"\")","v":""},{"$f":"IFERROR(VLOOKUP(BZ159,'Dummy Data'!$B$73:$C$83,2,FALSE),\"\")","v":""},{"$f":"IFERROR(VLOOKUP(CA159,'Dummy Data'!$B$73:$C$83,2,FALSE),\"\")","v":""},{"$f":"IFERROR(VLOOKUP(CB159,'Dummy Data'!$B$73:$C$83,2,FALSE),\"\")","v":""},{"$f":"IFERROR(VLOOKUP(CC159,'Dummy Data'!$B$73:$C$83,2,FALSE),\"\")","v":""},""]
[null,null,null,null,null,null,null,null,null,null,null,null,null,null,null,null,null,null,null,null,null,null,null,null,null,null,null,null,null,null,null,null,null,null,null,null,null,null,null,null,null,null,null,null,null,null,null,null,null,null,null,null,null,null,null,null,null,null,null,null,null,null,null,null,null,null,null,null,null,null,null,null,null,null,null,null,{"$f":"'List Data'!B157","v":"306-2"},{"$f":"IFERROR(INDEX('Dummy Data'!$M$8:$M$37,SMALL(IF('Dummy Data'!$F$8:$F$37=$BY160,ROW('Dummy Data'!$F$8:$F$37)-7,\"\"),COLUMNS($BZ$4:BZ160))),\"\")","v":""},{"$f":"IFERROR(INDEX('Dummy Data'!$M$8:$M$37,SMALL(IF('Dummy Data'!$F$8:$F$37=$BY160,ROW('Dummy Data'!$F$8:$F$37)-7,\"\"),COLUMNS($BZ$4:CA160))),\"\")","v":""},{"$f":"IFERROR(INDEX('Dummy Data'!$M$8:$M$37,SMALL(IF('Dummy Data'!$F$8:$F$37=$BY160,ROW('Dummy Data'!$F$8:$F$37)-7,\"\"),COLUMNS($BZ$4:CB160))),\"\")","v":""},{"$f":"IFERROR(INDEX('Dummy Data'!$M$8:$M$37,SMALL(IF('Dummy Data'!$F$8:$F$37=$BY160,ROW('Dummy Data'!$F$8:$F$37)-7,\"\"),COLUMNS($BZ$4:CC160))),\"\")","v":""},{"$f":"IFERROR(VLOOKUP(BZ160,'Dummy Data'!$B$73:$C$83,2,FALSE),\"\")","v":""},{"$f":"IFERROR(VLOOKUP(CA160,'Dummy Data'!$B$73:$C$83,2,FALSE),\"\")","v":""},{"$f":"IFERROR(VLOOKUP(CB160,'Dummy Data'!$B$73:$C$83,2,FALSE),\"\")","v":""},{"$f":"IFERROR(VLOOKUP(CC160,'Dummy Data'!$B$73:$C$83,2,FALSE),\"\")","v":""},""]
[null,null,null,null,null,null,null,null,null,null,null,null,null,null,null,null,null,null,null,null,null,null,null,null,null,null,null,null,null,null,null,null,null,null,null,null,null,null,null,null,null,null,null,null,null,null,null,null,null,null,null,null,null,null,null,null,null,null,null,null,null,null,null,null,null,null,null,null,null,null,null,null,null,null,null,null,{"$f":"'List Data'!B158","v":"307-1"},{"$f":"IFERROR(INDEX('Dummy Data'!$M$8:$M$37,SMALL(IF('Dummy Data'!$F$8:$F$37=$BY161,ROW('Dummy Data'!$F$8:$F$37)-7,\"\"),COLUMNS($BZ$4:BZ161))),\"\")","v":""},{"$f":"IFERROR(INDEX('Dummy Data'!$M$8:$M$37,SMALL(IF('Dummy Data'!$F$8:$F$37=$BY161,ROW('Dummy Data'!$F$8:$F$37)-7,\"\"),COLUMNS($BZ$4:CA161))),\"\")","v":""},{"$f":"IFERROR(INDEX('Dummy Data'!$M$8:$M$37,SMALL(IF('Dummy Data'!$F$8:$F$37=$BY161,ROW('Dummy Data'!$F$8:$F$37)-7,\"\"),COLUMNS($BZ$4:CB161))),\"\")","v":""},{"$f":"IFERROR(INDEX('Dummy Data'!$M$8:$M$37,SMALL(IF('Dummy Data'!$F$8:$F$37=$BY161,ROW('Dummy Data'!$F$8:$F$37)-7,\"\"),COLUMNS($BZ$4:CC161))),\"\")","v":""},{"$f":"IFERROR(VLOOKUP(BZ161,'Dummy Data'!$B$73:$C$83,2,FALSE),\"\")","v":""},{"$f":"IFERROR(VLOOKUP(CA161,'Dummy Data'!$B$73:$C$83,2,FALSE),\"\")","v":""},{"$f":"IFERROR(VLOOKUP(CB161,'Dummy Data'!$B$73:$C$83,2,FALSE),\"\")","v":""},{"$f":"IFERROR(VLOOKUP(CC161,'Dummy Data'!$B$73:$C$83,2,FALSE),\"\")","v":""},""]
[null,null,null,null,null,null,null,null,null,null,null,null,null,null,null,null,null,null,null,null,null,null,null,null,null,null,null,null,null,null,null,null,null,null,null,null,null,null,null,null,null,null,null,null,null,null,null,null,null,null,null,null,null,null,null,null,null,null,null,null,null,null,null,null,null,null,null,null,null,null,null,null,null,null,null,null,{"$f":"'List Data'!B159","v":"307-2"},{"$f":"IFERROR(INDEX('Dummy Data'!$M$8:$M$37,SMALL(IF('Dummy Data'!$F$8:$F$37=$BY162,ROW('Dummy Data'!$F$8:$F$37)-7,\"\"),COLUMNS($BZ$4:BZ162))),\"\")","v":""},{"$f":"IFERROR(INDEX('Dummy Data'!$M$8:$M$37,SMALL(IF('Dummy Data'!$F$8:$F$37=$BY162,ROW('Dummy Data'!$F$8:$F$37)-7,\"\"),COLUMNS($BZ$4:CA162))),\"\")","v":""},{"$f":"IFERROR(INDEX('Dummy Data'!$M$8:$M$37,SMALL(IF('Dummy Data'!$F$8:$F$37=$BY162,ROW('Dummy Data'!$F$8:$F$37)-7,\"\"),COLUMNS($BZ$4:CB162))),\"\")","v":""},{"$f":"IFERROR(INDEX('Dummy Data'!$M$8:$M$37,SMALL(IF('Dummy Data'!$F$8:$F$37=$BY162,ROW('Dummy Data'!$F$8:$F$37)-7,\"\"),COLUMNS($BZ$4:CC162))),\"\")","v":""},{"$f":"IFERROR(VLOOKUP(BZ162,'Dummy Data'!$B$73:$C$83,2,FALSE),\"\")","v":""},{"$f":"IFERROR(VLOOKUP(CA162,'Dummy Data'!$B$73:$C$83,2,FALSE),\"\")","v":""},{"$f":"IFERROR(VLOOKUP(CB162,'Dummy Data'!$B$73:$C$83,2,FALSE),\"\")","v":""},{"$f":"IFERROR(VLOOKUP(CC162,'Dummy Data'!$B$73:$C$83,2,FALSE),\"\")","v":""},""]
[null,null,null,null,null,null,null,null,null,null,null,null,null,null,null,null,null,null,null,null,null,null,null,null,null,null,null,null,null,null,null,null,null,null,null,null,null,null,null,null,null,null,null,null,null,null,null,null,null,null,null,null,null,null,null,null,null,null,null,null,null,null,null,null,null,null,null,null,null,null,null,null,null,null,null,null,{"$f":"'List Data'!B160","v":"308-1"},{"$f":"IFERROR(INDEX('Dummy Data'!$M$8:$M$37,SMALL(IF('Dummy Data'!$F$8:$F$37=$BY163,ROW('Dummy Data'!$F$8:$F$37)-7,\"\"),COLUMNS($BZ$4:BZ163))),\"\")","v":""},{"$f":"IFERROR(INDEX('Dummy Data'!$M$8:$M$37,SMALL(IF('Dummy Data'!$F$8:$F$37=$BY163,ROW('Dummy Data'!$F$8:$F$37)-7,\"\"),COLUMNS($BZ$4:CA163))),\"\")","v":""},{"$f":"IFERROR(INDEX('Dummy Data'!$M$8:$M$37,SMALL(IF('Dummy Data'!$F$8:$F$37=$BY163,ROW('Dummy Data'!$F$8:$F$37)-7,\"\"),COLUMNS($BZ$4:CB163))),\"\")","v":""},{"$f":"IFERROR(INDEX('Dummy Data'!$M$8:$M$37,SMALL(IF('Dummy Data'!$F$8:$F$37=$BY163,ROW('Dummy Data'!$F$8:$F$37)-7,\"\"),COLUMNS($BZ$4:CC163))),\"\")","v":""},{"$f":"IFERROR(VLOOKUP(BZ163,'Dummy Data'!$B$73:$C$83,2,FALSE),\"\")","v":""},{"$f":"IFERROR(VLOOKUP(CA163,'Dummy Data'!$B$73:$C$83,2,FALSE),\"\")","v":""},{"$f":"IFERROR(VLOOKUP(CB163,'Dummy Data'!$B$73:$C$83,2,FALSE),\"\")","v":""},{"$f":"IFERROR(VLOOKUP(CC163,'Dummy Data'!$B$73:$C$83,2,FALSE),\"\")","v":""},""]
[null,null,null,null,null,null,null,null,null,null,null,null,null,null,null,null,null,null,null,null,null,null,null,null,null,null,null,null,null,null,null,null,null,null,null,null,null,null,null,null,null,null,null,null,null,null,null,null,null,null,null,null,null,null,null,null,null,null,null,null,null,null,null,null,null,null,null,null,null,null,null,null,null,null,null,null,{"$f":"'List Data'!B161","v":"308-2"},{"$f":"IFERROR(INDEX('Dummy Data'!$M$8:$M$37,SMALL(IF('Dummy Data'!$F$8:$F$37=$BY164,ROW('Dummy Data'!$F$8:$F$37)-7,\"\"),COLUMNS($BZ$4:BZ164))),\"\")","v":""},{"$f":"IFERROR(INDEX('Dummy Data'!$M$8:$M$37,SMALL(IF('Dummy Data'!$F$8:$F$37=$BY164,ROW('Dummy Data'!$F$8:$F$37)-7,\"\"),COLUMNS($BZ$4:CA164))),\"\")","v":""},{"$f":"IFERROR(INDEX('Dummy Data'!$M$8:$M$37,SMALL(IF('Dummy Data'!$F$8:$F$37=$BY164,ROW('Dummy Data'!$F$8:$F$37)-7,\"\"),COLUMNS($BZ$4:CB164))),\"\")","v":""},{"$f":"IFERROR(INDEX('Dummy Data'!$M$8:$M$37,SMALL(IF('Dummy Data'!$F$8:$F$37=$BY164,ROW('Dummy Data'!$F$8:$F$37)-7,\"\"),COLUMNS($BZ$4:CC164))),\"\")","v":""},{"$f":"IFERROR(VLOOKUP(BZ164,'Dummy Data'!$B$73:$C$83,2,FALSE),\"\")","v":""},{"$f":"IFERROR(VLOOKUP(CA164,'Dummy Data'!$B$73:$C$83,2,FALSE),\"\")","v":""},{"$f":"IFERROR(VLOOKUP(CB164,'Dummy Data'!$B$73:$C$83,2,FALSE),\"\")","v":""},{"$f":"IFERROR(VLOOKUP(CC164,'Dummy Data'!$B$73:$C$83,2,FALSE),\"\")","v":""},""]
[null,null,null,null,null,null,null,null,null,null,null,null,null,null,null,null,null,null,null,null,null,null,null,null,null,null,null,null,null,null,null,null,null,null,null,null,null,null,null,null,null,null,null,null,null,null,null,null,null,null,null,null,null,null,null,null,null,null,null,null,null,null,null,null,null,null,null,null,null,null,null,null,null,null,null,null,{"$f":"'List Data'!B162","v":"309-1"},{"$f":"IFERROR(INDEX('Dummy Data'!$M$8:$M$37,SMALL(IF('Dummy Data'!$F$8:$F$37=$BY165,ROW('Dummy Data'!$F$8:$F$37)-7,\"\"),COLUMNS($BZ$4:BZ165))),\"\")","v":""},{"$f":"IFERROR(INDEX('Dummy Data'!$M$8:$M$37,SMALL(IF('Dummy Data'!$F$8:$F$37=$BY165,ROW('Dummy Data'!$F$8:$F$37)-7,\"\"),COLUMNS($BZ$4:CA165))),\"\")","v":""},{"$f":"IFERROR(INDEX('Dummy Data'!$M$8:$M$37,SMALL(IF('Dummy Data'!$F$8:$F$37=$BY165,ROW('Dummy Data'!$F$8:$F$37)-7,\"\"),COLUMNS($BZ$4:CB165))),\"\")","v":""},{"$f":"IFERROR(INDEX('Dummy Data'!$M$8:$M$37,SMALL(IF('Dummy Data'!$F$8:$F$37=$BY165,ROW('Dummy Data'!$F$8:$F$37)-7,\"\"),COLUMNS($BZ$4:CC165))),\"\")","v":""},{"$f":"IFERROR(VLOOKUP(BZ165,'Dummy Data'!$B$73:$C$83,2,FALSE),\"\")","v":""},{"$f":"IFERROR(VLOOKUP(CA165,'Dummy Data'!$B$73:$C$83,2,FALSE),\"\")","v":""},{"$f":"IFERROR(VLOOKUP(CB165,'Dummy Data'!$B$73:$C$83,2,FALSE),\"\")","v":""},{"$f":"IFERROR(VLOOKUP(CC165,'Dummy Data'!$B$73:$C$83,2,FALSE),\"\")","v":""},""]
[null,null,null,null,null,null,null,null,null,null,null,null,null,null,null,null,null,null,null,null,null,null,null,null,null,null,null,null,null,null,null,null,null,null,null,null,null,null,null,null,null,null,null,null,null,null,null,null,null,null,null,null,null,null,null,null,null,null,null,null,null,null,null,null,null,null,null,null,null,null,null,null,null,null,null,null,{"$f":"'List Data'!B163","v":"309-2"},{"$f":"IFERROR(INDEX('Dummy Data'!$M$8:$M$37,SMALL(IF('Dummy Data'!$F$8:$F$37=$BY166,ROW('Dummy Data'!$F$8:$F$37)-7,\"\"),COLUMNS($BZ$4:BZ166))),\"\")","v":""},{"$f":"IFERROR(INDEX('Dummy Data'!$M$8:$M$37,SMALL(IF('Dummy Data'!$F$8:$F$37=$BY166,ROW('Dummy Data'!$F$8:$F$37)-7,\"\"),COLUMNS($BZ$4:CA166))),\"\")","v":""},{"$f":"IFERROR(INDEX('Dummy Data'!$M$8:$M$37,SMALL(IF('Dummy Data'!$F$8:$F$37=$BY166,ROW('Dummy Data'!$F$8:$F$37)-7,\"\"),COLUMNS($BZ$4:CB166))),\"\")","v":""},{"$f":"IFERROR(INDEX('Dummy Data'!$M$8:$M$37,SMALL(IF('Dummy Data'!$F$8:$F$37=$BY166,ROW('Dummy Data'!$F$8:$F$37)-7,\"\"),COLUMNS($BZ$4:CC166))),\"\")","v":""},{"$f":"IFERROR(VLOOKUP(BZ166,'Dummy Data'!$B$73:$C$83,2,FALSE),\"\")","v":""},{"$f":"IFERROR(VLOOKUP(CA166,'Dummy Data'!$B$73:$C$83,2,FALSE),\"\")","v":""},{"$f":"IFERROR(VLOOKUP(CB166,'Dummy Data'!$B$73:$C$83,2,FALSE),\"\")","v":""},{"$f":"IFERROR(VLOOKUP(CC166,'Dummy Data'!$B$73:$C$83,2,FALSE),\"\")","v":""},""]
[null,null,null,null,null,null,null,null,null,null,null,null,null,null,null,null,null,null,null,null,null,null,null,null,null,null,null,null,null,null,null,null,null,null,null,null,null,null,null,null,null,null,null,null,null,null,null,null,null,null,null,null,null,null,null,null,null,null,null,null,null,null,null,null,null,null,null,null,null,null,null,null,null,null,null,null,{"$f":"'List Data'!B164","v":"310-1"},{"$f":"IFERROR(INDEX('Dummy Data'!$M$8:$M$37,SMALL(IF('Dummy Data'!$F$8:$F$37=$BY167,ROW('Dummy Data'!$F$8:$F$37)-7,\"\"),COLUMNS($BZ$4:BZ167))),\"\")","v":""},{"$f":"IFERROR(INDEX('Dummy Data'!$M$8:$M$37,SMALL(IF('Dummy Data'!$F$8:$F$37=$BY167,ROW('Dummy Data'!$F$8:$F$37)-7,\"\"),COLUMNS($BZ$4:CA167))),\"\")","v":""},{"$f":"IFERROR(INDEX('Dummy Data'!$M$8:$M$37,SMALL(IF('Dummy Data'!$F$8:$F$37=$BY167,ROW('Dummy Data'!$F$8:$F$37)-7,\"\"),COLUMNS($BZ$4:CB167))),\"\")","v":""},{"$f":"IFERROR(INDEX('Dummy Data'!$M$8:$M$37,SMALL(IF('Dummy Data'!$F$8:$F$37=$BY167,ROW('Dummy Data'!$F$8:$F$37)-7,\"\"),COLUMNS($BZ$4:CC167))),\"\")","v":""},{"$f":"IFERROR(VLOOKUP(BZ167,'Dummy Data'!$B$73:$C$83,2,FALSE),\"\")","v":""},{"$f":"IFERROR(VLOOKUP(CA167,'Dummy Data'!$B$73:$C$83,2,FALSE),\"\")","v":""},{"$f":"IFERROR(VLOOKUP(CB167,'Dummy Data'!$B$73:$C$83,2,FALSE),\"\")","v":""},{"$f":"IFERROR(VLOOKUP(CC167,'Dummy Data'!$B$73:$C$83,2,FALSE),\"\")","v":""},""]
[null,null,null,null,null,null,null,null,null,null,null,null,null,null,null,null,null,null,null,null,null,null,null,null,null,null,null,null,null,null,null,null,null,null,null,null,null,null,null,null,null,null,null,null,null,null,null,null,null,null,null,null,null,null,null,null,null,null,null,null,null,null,null,null,null,null,null,null,null,null,null,null,null,null,null,null,{"$f":"'List Data'!B165","v":"310-2"},{"$f":"IFERROR(INDEX('Dummy Data'!$M$8:$M$37,SMALL(IF('Dummy Data'!$F$8:$F$37=$BY168,ROW('Dummy Data'!$F$8:$F$37)-7,\"\"),COLUMNS($BZ$4:BZ168))),\"\")","v":""},{"$f":"IFERROR(INDEX('Dummy Data'!$M$8:$M$37,SMALL(IF('Dummy Data'!$F$8:$F$37=$BY168,ROW('Dummy Data'!$F$8:$F$37)-7,\"\"),COLUMNS($BZ$4:CA168))),\"\")","v":""},{"$f":"IFERROR(INDEX('Dummy Data'!$M$8:$M$37,SMALL(IF('Dummy Data'!$F$8:$F$37=$BY168,ROW('Dummy Data'!$F$8:$F$37)-7,\"\"),COLUMNS($BZ$4:CB168))),\"\")","v":""},{"$f":"IFERROR(INDEX('Dummy Data'!$M$8:$M$37,SMALL(IF('Dummy Data'!$F$8:$F$37=$BY168,ROW('Dummy Data'!$F$8:$F$37)-7,\"\"),COLUMNS($BZ$4:CC168))),\"\")","v":""},{"$f":"IFERROR(VLOOKUP(BZ168,'Dummy Data'!$B$73:$C$83,2,FALSE),\"\")","v":""},{"$f":"IFERROR(VLOOKUP(CA168,'Dummy Data'!$B$73:$C$83,2,FALSE),\"\")","v":""},{"$f":"IFERROR(VLOOKUP(CB168,'Dummy Data'!$B$73:$C$83,2,FALSE),\"\")","v":""},{"$f":"IFERROR(VLOOKUP(CC168,'Dummy Data'!$B$73:$C$83,2,FALSE),\"\")","v":""},""]
[null,null,null,null,null,null,null,null,null,null,null,null,null,null,null,null,null,null,null,null,null,null,null,null,null,null,null,null,null,null,null,null,null,null,null,null,null,null,null,null,null,null,null,null,null,null,null,null,null,null,null,null,null,null,null,null,null,null,null,null,null,null,null,null,null,null,null,null,null,null,null,null,null,null,null,null,{"$f":"'List Data'!B166","v":"311-1"},{"$f":"IFERROR(INDEX('Dummy Data'!$M$8:$M$37,SMALL(IF('Dummy Data'!$F$8:$F$37=$BY169,ROW('Dummy Data'!$F$8:$F$37)-7,\"\"),COLUMNS($BZ$4:BZ169))),\"\")","v":""},{"$f":"IFERROR(INDEX('Dummy Data'!$M$8:$M$37,SMALL(IF('Dummy Data'!$F$8:$F$37=$BY169,ROW('Dummy Data'!$F$8:$F$37)-7,\"\"),COLUMNS($BZ$4:CA169))),\"\")","v":""},{"$f":"IFERROR(INDEX('Dummy Data'!$M$8:$M$37,SMALL(IF('Dummy Data'!$F$8:$F$37=$BY169,ROW('Dummy Data'!$F$8:$F$37)-7,\"\"),COLUMNS($BZ$4:CB169))),\"\")","v":""},{"$f":"IFERROR(INDEX('Dummy Data'!$M$8:$M$37,SMALL(IF('Dummy Data'!$F$8:$F$37=$BY169,ROW('Dummy Data'!$F$8:$F$37)-7,\"\"),COLUMNS($BZ$4:CC169))),\"\")","v":""},{"$f":"IFERROR(VLOOKUP(BZ169,'Dummy Data'!$B$73:$C$83,2,FALSE),\"\")","v":""},{"$f":"IFERROR(VLOOKUP(CA169,'Dummy Data'!$B$73:$C$83,2,FALSE),\"\")","v":""},{"$f":"IFERROR(VLOOKUP(CB169,'Dummy Data'!$B$73:$C$83,2,FALSE),\"\")","v":""},{"$f":"IFERROR(VLOOKUP(CC169,'Dummy Data'!$B$73:$C$83,2,FALSE),\"\")","v":""},""]
[null,null,null,null,null,null,null,null,null,null,null,null,null,null,null,null,null,null,null,null,null,null,null,null,null,null,null,null,null,null,null,null,null,null,null,null,null,null,null,null,null,null,null,null,null,null,null,null,null,null,null,null,null,null,null,null,null,null,null,null,null,null,null,null,null,null,null,null,null,null,null,null,null,null,null,null,{"$f":"'List Data'!B167","v":"311-2"},{"$f":"IFERROR(INDEX('Dummy Data'!$M$8:$M$37,SMALL(IF('Dummy Data'!$F$8:$F$37=$BY170,ROW('Dummy Data'!$F$8:$F$37)-7,\"\"),COLUMNS($BZ$4:BZ170))),\"\")","v":""},{"$f":"IFERROR(INDEX('Dummy Data'!$M$8:$M$37,SMALL(IF('Dummy Data'!$F$8:$F$37=$BY170,ROW('Dummy Data'!$F$8:$F$37)-7,\"\"),COLUMNS($BZ$4:CA170))),\"\")","v":""},{"$f":"IFERROR(INDEX('Dummy Data'!$M$8:$M$37,SMALL(IF('Dummy Data'!$F$8:$F$37=$BY170,ROW('Dummy Data'!$F$8:$F$37)-7,\"\"),COLUMNS($BZ$4:CB170))),\"\")","v":""},{"$f":"IFERROR(INDEX('Dummy Data'!$M$8:$M$37,SMALL(IF('Dummy Data'!$F$8:$F$37=$BY170,ROW('Dummy Data'!$F$8:$F$37)-7,\"\"),COLUMNS($BZ$4:CC170))),\"\")","v":""},{"$f":"IFERROR(VLOOKUP(BZ170,'Dummy Data'!$B$73:$C$83,2,FALSE),\"\")","v":""},{"$f":"IFERROR(VLOOKUP(CA170,'Dummy Data'!$B$73:$C$83,2,FALSE),\"\")","v":""},{"$f":"IFERROR(VLOOKUP(CB170,'Dummy Data'!$B$73:$C$83,2,FALSE),\"\")","v":""},{"$f":"IFERROR(VLOOKUP(CC170,'Dummy Data'!$B$73:$C$83,2,FALSE),\"\")","v":""},""]
[null,null,null,null,null,null,null,null,null,null,null,null,null,null,null,null,null,null,null,null,null,null,null,null,null,null,null,null,null,null,null,null,null,null,null,null,null,null,null,null,null,null,null,null,null,null,null,null,null,null,null,null,null,null,null,null,null,null,null,null,null,null,null,null,null,null,null,null,null,null,null,null,null,null,null,null,{"$f":"'List Data'!B168","v":"312-1"},{"$f":"IFERROR(INDEX('Dummy Data'!$M$8:$M$37,SMALL(IF('Dummy Data'!$F$8:$F$37=$BY171,ROW('Dummy Data'!$F$8:$F$37)-7,\"\"),COLUMNS($BZ$4:BZ171))),\"\")","v":""},{"$f":"IFERROR(INDEX('Dummy Data'!$M$8:$M$37,SMALL(IF('Dummy Data'!$F$8:$F$37=$BY171,ROW('Dummy Data'!$F$8:$F$37)-7,\"\"),COLUMNS($BZ$4:CA171))),\"\")","v":""},{"$f":"IFERROR(INDEX('Dummy Data'!$M$8:$M$37,SMALL(IF('Dummy Data'!$F$8:$F$37=$BY171,ROW('Dummy Data'!$F$8:$F$37)-7,\"\"),COLUMNS($BZ$4:CB171))),\"\")","v":""},{"$f":"IFERROR(INDEX('Dummy Data'!$M$8:$M$37,SMALL(IF('Dummy Data'!$F$8:$F$37=$BY171,ROW('Dummy Data'!$F$8:$F$37)-7,\"\"),COLUMNS($BZ$4:CC171))),\"\")","v":""},{"$f":"IFERROR(VLOOKUP(BZ171,'Dummy Data'!$B$73:$C$83,2,FALSE),\"\")","v":""},{"$f":"IFERROR(VLOOKUP(CA171,'Dummy Data'!$B$73:$C$83,2,FALSE),\"\")","v":""},{"$f":"IFERROR(VLOOKUP(CB171,'Dummy Data'!$B$73:$C$83,2,FALSE),\"\")","v":""},{"$f":"IFERROR(VLOOKUP(CC171,'Dummy Data'!$B$73:$C$83,2,FALSE),\"\")","v":""},""]
[null,null,null,null,null,null,null,null,null,null,null,null,null,null,null,null,null,null,null,null,null,null,null,null,null,null,null,null,null,null,null,null,null,null,null,null,null,null,null,null,null,null,null,null,null,null,null,null,null,null,null,null,null,null,null,null,null,null,null,null,null,null,null,null,null,null,null,null,null,null,null,null,null,null,null,null,{"$f":"'List Data'!B169","v":"312-2"},{"$f":"IFERROR(INDEX('Dummy Data'!$M$8:$M$37,SMALL(IF('Dummy Data'!$F$8:$F$37=$BY172,ROW('Dummy Data'!$F$8:$F$37)-7,\"\"),COLUMNS($BZ$4:BZ172))),\"\")","v":""},{"$f":"IFERROR(INDEX('Dummy Data'!$M$8:$M$37,SMALL(IF('Dummy Data'!$F$8:$F$37=$BY172,ROW('Dummy Data'!$F$8:$F$37)-7,\"\"),COLUMNS($BZ$4:CA172))),\"\")","v":""},{"$f":"IFERROR(INDEX('Dummy Data'!$M$8:$M$37,SMALL(IF('Dummy Data'!$F$8:$F$37=$BY172,ROW('Dummy Data'!$F$8:$F$37)-7,\"\"),COLUMNS($BZ$4:CB172))),\"\")","v":""},{"$f":"IFERROR(INDEX('Dummy Data'!$M$8:$M$37,SMALL(IF('Dummy Data'!$F$8:$F$37=$BY172,ROW('Dummy Data'!$F$8:$F$37)-7,\"\"),COLUMNS($BZ$4:CC172))),\"\")","v":""},{"$f":"IFERROR(VLOOKUP(BZ172,'Dummy Data'!$B$73:$C$83,2,FALSE),\"\")","v":""},{"$f":"IFERROR(VLOOKUP(CA172,'Dummy Data'!$B$73:$C$83,2,FALSE),\"\")","v":""},{"$f":"IFERROR(VLOOKUP(CB172,'Dummy Data'!$B$73:$C$83,2,FALSE),\"\")","v":""},{"$f":"IFERROR(VLOOKUP(CC172,'Dummy Data'!$B$73:$C$83,2,FALSE),\"\")","v":""},""]
[null,null,null,null,null,null,null,null,null,null,null,null,null,null,null,null,null,null,null,null,null,null,null,null,null,null,null,null,null,null,null,null,null,null,null,null,null,null,null,null,null,null,null,null,null,null,null,null,null,null,null,null,null,null,null,null,null,null,null,null,null,null,null,null,null,null,null,null,null,null,null,null,null,null,null,null,{"$f":"'List Data'!B170","v":"313-1"},{"$f":"IFERROR(INDEX('Dummy Data'!$M$8:$M$37,SMALL(IF('Dummy Data'!$F$8:$F$37=$BY173,ROW('Dummy Data'!$F$8:$F$37)-7,\"\"),COLUMNS($BZ$4:BZ173))),\"\")","v":""},{"$f":"IFERROR(INDEX('Dummy Data'!$M$8:$M$37,SMALL(IF('Dummy Data'!$F$8:$F$37=$BY173,ROW('Dummy Data'!$F$8:$F$37)-7,\"\"),COLUMNS($BZ$4:CA173))),\"\")","v":""},{"$f":"IFERROR(INDEX('Dummy Data'!$M$8:$M$37,SMALL(IF('Dummy Data'!$F$8:$F$37=$BY173,ROW('Dummy Data'!$F$8:$F$37)-7,\"\"),COLUMNS($BZ$4:CB173))),\"\")","v":""},{"$f":"IFERROR(INDEX('Dummy Data'!$M$8:$M$37,SMALL(IF('Dummy Data'!$F$8:$F$37=$BY173,ROW('Dummy Data'!$F$8:$F$37)-7,\"\"),COLUMNS($BZ$4:CC173))),\"\")","v":""},{"$f":"IFERROR(VLOOKUP(BZ173,'Dummy Data'!$B$73:$C$83,2,FALSE),\"\")","v":""},{"$f":"IFERROR(VLOOKUP(CA173,'Dummy Data'!$B$73:$C$83,2,FALSE),\"\")","v":""},{"$f":"IFERROR(VLOOKUP(CB173,'Dummy Data'!$B$73:$C$83,2,FALSE),\"\")","v":""},{"$f":"IFERROR(VLOOKUP(CC173,'Dummy Data'!$B$73:$C$83,2,FALSE),\"\")","v":""},""]
[null,null,null,null,null,null,null,null,null,null,null,null,null,null,null,null,null,null,null,null,null,null,null,null,null,null,null,null,null,null,null,null,null,null,null,null,null,null,null,null,null,null,null,null,null,null,null,null,null,null,null,null,null,null,null,null,null,null,null,null,null,null,null,null,null,null,null,null,null,null,null,null,null,null,null,null,{"$f":"'List Data'!B171","v":"313-2"},{"$f":"IFERROR(INDEX('Dummy Data'!$M$8:$M$37,SMALL(IF('Dummy Data'!$F$8:$F$37=$BY174,ROW('Dummy Data'!$F$8:$F$37)-7,\"\"),COLUMNS($BZ$4:BZ174))),\"\")","v":""},{"$f":"IFERROR(INDEX('Dummy Data'!$M$8:$M$37,SMALL(IF('Dummy Data'!$F$8:$F$37=$BY174,ROW('Dummy Data'!$F$8:$F$37)-7,\"\"),COLUMNS($BZ$4:CA174))),\"\")","v":""},{"$f":"IFERROR(INDEX('Dummy Data'!$M$8:$M$37,SMALL(IF('Dummy Data'!$F$8:$F$37=$BY174,ROW('Dummy Data'!$F$8:$F$37)-7,\"\"),COLUMNS($BZ$4:CB174))),\"\")","v":""},{"$f":"IFERROR(INDEX('Dummy Data'!$M$8:$M$37,SMALL(IF('Dummy Data'!$F$8:$F$37=$BY174,ROW('Dummy Data'!$F$8:$F$37)-7,\"\"),COLUMNS($BZ$4:CC174))),\"\")","v":""},{"$f":"IFERROR(VLOOKUP(BZ174,'Dummy Data'!$B$73:$C$83,2,FALSE),\"\")","v":""},{"$f":"IFERROR(VLOOKUP(CA174,'Dummy Data'!$B$73:$C$83,2,FALSE),\"\")","v":""},{"$f":"IFERROR(VLOOKUP(CB174,'Dummy Data'!$B$73:$C$83,2,FALSE),\"\")","v":""},{"$f":"IFERROR(VLOOKUP(CC174,'Dummy Data'!$B$73:$C$83,2,FALSE),\"\")","v":""},""]
[null,null,null,null,null,null,null,null,null,null,null,null,null,null,null,null,null,null,null,null,null,null,null,null,null,null,null,null,null,null,null,null,null,null,null,null,null,null,null,null,null,null,null,null,null,null,null,null,null,null,null,null,null,null,null,null,null,null,null,null,null,null,null,null,null,null,null,null,null,null,null,null,null,null,null,null,{"$f":"'List Data'!B172","v":"314-1"},{"$f":"IFERROR(INDEX('Dummy Data'!$M$8:$M$37,SMALL(IF('Dummy Data'!$F$8:$F$37=$BY175,ROW('Dummy Data'!$F$8:$F$37)-7,\"\"),COLUMNS($BZ$4:BZ175))),\"\")","v":""},{"$f":"IFERROR(INDEX('Dummy Data'!$M$8:$M$37,SMALL(IF('Dummy Data'!$F$8:$F$37=$BY175,ROW('Dummy Data'!$F$8:$F$37)-7,\"\"),COLUMNS($BZ$4:CA175))),\"\")","v":""},{"$f":"IFERROR(INDEX('Dummy Data'!$M$8:$M$37,SMALL(IF('Dummy Data'!$F$8:$F$37=$BY175,ROW('Dummy Data'!$F$8:$F$37)-7,\"\"),COLUMNS($BZ$4:CB175))),\"\")","v":""},{"$f":"IFERROR(INDEX('Dummy Data'!$M$8:$M$37,SMALL(IF('Dummy Data'!$F$8:$F$37=$BY175,ROW('Dummy Data'!$F$8:$F$37)-7,\"\"),COLUMNS($BZ$4:CC175))),\"\")","v":""},{"$f":"IFERROR(VLOOKUP(BZ175,'Dummy Data'!$B$73:$C$83,2,FALSE),\"\")","v":""},{"$f":"IFERROR(VLOOKUP(CA175,'Dummy Data'!$B$73:$C$83,2,FALSE),\"\")","v":""},{"$f":"IFERROR(VLOOKUP(CB175,'Dummy Data'!$B$73:$C$83,2,FALSE),\"\")","v":""},{"$f":"IFERROR(VLOOKUP(CC175,'Dummy Data'!$B$73:$C$83,2,FALSE),\"\")","v":""},""]
[null,null,null,null,null,null,null,null,null,null,null,null,null,null,null,null,null,null,null,null,null,null,null,null,null,null,null,null,null,null,null,null,null,null,null,null,null,null,null,null,null,null,null,null,null,null,null,null,null,null,null,null,null,null,null,null,null,null,null,null,null,null,null,null,null,null,null,null,null,null,null,null,null,null,null,null,{"$f":"'List Data'!B173","v":"314-2"},{"$f":"IFERROR(INDEX('Dummy Data'!$M$8:$M$37,SMALL(IF('Dummy Data'!$F$8:$F$37=$BY176,ROW('Dummy Data'!$F$8:$F$37)-7,\"\"),COLUMNS($BZ$4:BZ176))),\"\")","v":""},{"$f":"IFERROR(INDEX('Dummy Data'!$M$8:$M$37,SMALL(IF('Dummy Data'!$F$8:$F$37=$BY176,ROW('Dummy Data'!$F$8:$F$37)-7,\"\"),COLUMNS($BZ$4:CA176))),\"\")","v":""},{"$f":"IFERROR(INDEX('Dummy Data'!$M$8:$M$37,SMALL(IF('Dummy Data'!$F$8:$F$37=$BY176,ROW('Dummy Data'!$F$8:$F$37)-7,\"\"),COLUMNS($BZ$4:CB176))),\"\")","v":""},{"$f":"IFERROR(INDEX('Dummy Data'!$M$8:$M$37,SMALL(IF('Dummy Data'!$F$8:$F$37=$BY176,ROW('Dummy Data'!$F$8:$F$37)-7,\"\"),COLUMNS($BZ$4:CC176))),\"\")","v":""},{"$f":"IFERROR(VLOOKUP(BZ176,'Dummy Data'!$B$73:$C$83,2,FALSE),\"\")","v":""},{"$f":"IFERROR(VLOOKUP(CA176,'Dummy Data'!$B$73:$C$83,2,FALSE),\"\")","v":""},{"$f":"IFERROR(VLOOKUP(CB176,'Dummy Data'!$B$73:$C$83,2,FALSE),\"\")","v":""},{"$f":"IFERROR(VLOOKUP(CC176,'Dummy Data'!$B$73:$C$83,2,FALSE),\"\")","v":""},""]
[null,null,null,null,null,null,null,null,null,null,null,null,null,null,null,null,null,null,null,null,null,null,null,null,null,null,null,null,null,null,null,null,null,null,null,null,null,null,null,null,null,null,null,null,null,null,null,null,null,null,null,null,null,null,null,null,null,null,null,null,null,null,null,null,null,null,null,null,null,null,null,null,null,null,null,null,{"$f":"'List Data'!B174","v":"315-1"},{"$f":"IFERROR(INDEX('Dummy Data'!$M$8:$M$37,SMALL(IF('Dummy Data'!$F$8:$F$37=$BY177,ROW('Dummy Data'!$F$8:$F$37)-7,\"\"),COLUMNS($BZ$4:BZ177))),\"\")","v":""},{"$f":"IFERROR(INDEX('Dummy Data'!$M$8:$M$37,SMALL(IF('Dummy Data'!$F$8:$F$37=$BY177,ROW('Dummy Data'!$F$8:$F$37)-7,\"\"),COLUMNS($BZ$4:CA177))),\"\")","v":""},{"$f":"IFERROR(INDEX('Dummy Data'!$M$8:$M$37,SMALL(IF('Dummy Data'!$F$8:$F$37=$BY177,ROW('Dummy Data'!$F$8:$F$37)-7,\"\"),COLUMNS($BZ$4:CB177))),\"\")","v":""},{"$f":"IFERROR(INDEX('Dummy Data'!$M$8:$M$37,SMALL(IF('Dummy Data'!$F$8:$F$37=$BY177,ROW('Dummy Data'!$F$8:$F$37)-7,\"\"),COLUMNS($BZ$4:CC177))),\"\")","v":""},{"$f":"IFERROR(VLOOKUP(BZ177,'Dummy Data'!$B$73:$C$83,2,FALSE),\"\")","v":""},{"$f":"IFERROR(VLOOKUP(CA177,'Dummy Data'!$B$73:$C$83,2,FALSE),\"\")","v":""},{"$f":"IFERROR(VLOOKUP(CB177,'Dummy Data'!$B$73:$C$83,2,FALSE),\"\")","v":""},{"$f":"IFERROR(VLOOKUP(CC177,'Dummy Data'!$B$73:$C$83,2,FALSE),\"\")","v":""},""]
[null,null,null,null,null,null,null,null,null,null,null,null,null,null,null,null,null,null,null,null,null,null,null,null,null,null,null,null,null,null,null,null,null,null,null,null,null,null,null,null,null,null,null,null,null,null,null,null,null,null,null,null,null,null,null,null,null,null,null,null,null,null,null,null,null,null,null,null,null,null,null,null,null,null,null,null,{"$f":"'List Data'!B175","v":"315-2"},{"$f":"IFERROR(INDEX('Dummy Data'!$M$8:$M$37,SMALL(IF('Dummy Data'!$F$8:$F$37=$BY178,ROW('Dummy Data'!$F$8:$F$37)-7,\"\"),COLUMNS($BZ$4:BZ178))),\"\")","v":""},{"$f":"IFERROR(INDEX('Dummy Data'!$M$8:$M$37,SMALL(IF('Dummy Data'!$F$8:$F$37=$BY178,ROW('Dummy Data'!$F$8:$F$37)-7,\"\"),COLUMNS($BZ$4:CA178))),\"\")","v":""},{"$f":"IFERROR(INDEX('Dummy Data'!$M$8:$M$37,SMALL(IF('Dummy Data'!$F$8:$F$37=$BY178,ROW('Dummy Data'!$F$8:$F$37)-7,\"\"),COLUMNS($BZ$4:CB178))),\"\")","v":""},{"$f":"IFERROR(INDEX('Dummy Data'!$M$8:$M$37,SMALL(IF('Dummy Data'!$F$8:$F$37=$BY178,ROW('Dummy Data'!$F$8:$F$37)-7,\"\"),COLUMNS($BZ$4:CC178))),\"\")","v":""},{"$f":"IFERROR(VLOOKUP(BZ178,'Dummy Data'!$B$73:$C$83,2,FALSE),\"\")","v":""},{"$f":"IFERROR(VLOOKUP(CA178,'Dummy Data'!$B$73:$C$83,2,FALSE),\"\")","v":""},{"$f":"IFERROR(VLOOKUP(CB178,'Dummy Data'!$B$73:$C$83,2,FALSE),\"\")","v":""},{"$f":"IFERROR(VLOOKUP(CC178,'Dummy Data'!$B$73:$C$83,2,FALSE),\"\")","v":""},""]
[null,null,null,null,null,null,null,null,null,null,null,null,null,null,null,null,null,null,null,null,null,null,null,null,null,null,null,null,null,null,null,null,null,null,null,null,null,null,null,null,null,null,null,null,null,null,null,null,null,null,null,null,null,null,null,null,null,null,null,null,null,null,null,null,null,null,null,null,null,null,null,null,null,null,null,null,{"$f":"'List Data'!B176","v":"316-1"},{"$f":"IFERROR(INDEX('Dummy Data'!$M$8:$M$37,SMALL(IF('Dummy Data'!$F$8:$F$37=$BY179,ROW('Dummy Data'!$F$8:$F$37)-7,\"\"),COLUMNS($BZ$4:BZ179))),\"\")","v":""},{"$f":"IFERROR(INDEX('Dummy Data'!$M$8:$M$37,SMALL(IF('Dummy Data'!$F$8:$F$37=$BY179,ROW('Dummy Data'!$F$8:$F$37)-7,\"\"),COLUMNS($BZ$4:CA179))),\"\")","v":""},{"$f":"IFERROR(INDEX('Dummy Data'!$M$8:$M$37,SMALL(IF('Dummy Data'!$F$8:$F$37=$BY179,ROW('Dummy Data'!$F$8:$F$37)-7,\"\"),COLUMNS($BZ$4:CB179))),\"\")","v":""},{"$f":"IFERROR(INDEX('Dummy Data'!$M$8:$M$37,SMALL(IF('Dummy Data'!$F$8:$F$37=$BY179,ROW('Dummy Data'!$F$8:$F$37)-7,\"\"),COLUMNS($BZ$4:CC179))),\"\")","v":""},{"$f":"IFERROR(VLOOKUP(BZ179,'Dummy Data'!$B$73:$C$83,2,FALSE),\"\")","v":""},{"$f":"IFERROR(VLOOKUP(CA179,'Dummy Data'!$B$73:$C$83,2,FALSE),\"\")","v":""},{"$f":"IFERROR(VLOOKUP(CB179,'Dummy Data'!$B$73:$C$83,2,FALSE),\"\")","v":""},{"$f":"IFERROR(VLOOKUP(CC179,'Dummy Data'!$B$73:$C$83,2,FALSE),\"\")","v":""},""]
[null,null,null,null,null,null,null,null,null,null,null,null,null,null,null,null,null,null,null,null,null,null,null,null,null,null,null,null,null,null,null,null,null,null,null,null,null,null,null,null,null,null,null,null,null,null,null,null,null,null,null,null,null,null,null,null,null,null,null,null,null,null,null,null,null,null,null,null,null,null,null,null,null,null,null,null,{"$f":"'List Data'!B177","v":"316-2"},{"$f":"IFERROR(INDEX('Dummy Data'!$M$8:$M$37,SMALL(IF('Dummy Data'!$F$8:$F$37=$BY180,ROW('Dummy Data'!$F$8:$F$37)-7,\"\"),COLUMNS($BZ$4:BZ180))),\"\")","v":""},{"$f":"IFERROR(INDEX('Dummy Data'!$M$8:$M$37,SMALL(IF('Dummy Data'!$F$8:$F$37=$BY180,ROW('Dummy Data'!$F$8:$F$37)-7,\"\"),COLUMNS($BZ$4:CA180))),\"\")","v":""},{"$f":"IFERROR(INDEX('Dummy Data'!$M$8:$M$37,SMALL(IF('Dummy Data'!$F$8:$F$37=$BY180,ROW('Dummy Data'!$F$8:$F$37)-7,\"\"),COLUMNS($BZ$4:CB180))),\"\")","v":""},{"$f":"IFERROR(INDEX('Dummy Data'!$M$8:$M$37,SMALL(IF('Dummy Data'!$F$8:$F$37=$BY180,ROW('Dummy Data'!$F$8:$F$37)-7,\"\"),COLUMNS($BZ$4:CC180))),\"\")","v":""},{"$f":"IFERROR(VLOOKUP(BZ180,'Dummy Data'!$B$73:$C$83,2,FALSE),\"\")","v":""},{"$f":"IFERROR(VLOOKUP(CA180,'Dummy Data'!$B$73:$C$83,2,FALSE),\"\")","v":""},{"$f":"IFERROR(VLOOKUP(CB180,'Dummy Data'!$B$73:$C$83,2,FALSE),\"\")","v":""},{"$f":"IFERROR(VLOOKUP(CC180,'Dummy Data'!$B$73:$C$83,2,FALSE),\"\")","v":""},""]
[null,null,null,null,null,null,null,null,null,null,null,null,null,null,null,null,null,null,null,null,null,null,null,null,null,null,null,null,null,null,null,null,null,null,null,null,null,null,null,null,null,null,null,null,null,null,null,null,null,null,null,null,null,null,null,null,null,null,null,null,null,null,null,null,null,null,null,null,null,null,null,null,null,null,null,null,{"$f":"'List Data'!B178","v":"317-1"},{"$f":"IFERROR(INDEX('Dummy Data'!$M$8:$M$37,SMALL(IF('Dummy Data'!$F$8:$F$37=$BY181,ROW('Dummy Data'!$F$8:$F$37)-7,\"\"),COLUMNS($BZ$4:BZ181))),\"\")","v":""},{"$f":"IFERROR(INDEX('Dummy Data'!$M$8:$M$37,SMALL(IF('Dummy Data'!$F$8:$F$37=$BY181,ROW('Dummy Data'!$F$8:$F$37)-7,\"\"),COLUMNS($BZ$4:CA181))),\"\")","v":""},{"$f":"IFERROR(INDEX('Dummy Data'!$M$8:$M$37,SMALL(IF('Dummy Data'!$F$8:$F$37=$BY181,ROW('Dummy Data'!$F$8:$F$37)-7,\"\"),COLUMNS($BZ$4:CB181))),\"\")","v":""},{"$f":"IFERROR(INDEX('Dummy Data'!$M$8:$M$37,SMALL(IF('Dummy Data'!$F$8:$F$37=$BY181,ROW('Dummy Data'!$F$8:$F$37)-7,\"\"),COLUMNS($BZ$4:CC181))),\"\")","v":""},{"$f":"IFERROR(VLOOKUP(BZ181,'Dummy Data'!$B$73:$C$83,2,FALSE),\"\")","v":""},{"$f":"IFERROR(VLOOKUP(CA181,'Dummy Data'!$B$73:$C$83,2,FALSE),\"\")","v":""},{"$f":"IFERROR(VLOOKUP(CB181,'Dummy Data'!$B$73:$C$83,2,FALSE),\"\")","v":""},{"$f":"IFERROR(VLOOKUP(CC181,'Dummy Data'!$B$73:$C$83,2,FALSE),\"\")","v":""},""]
[null,null,null,null,null,null,null,null,null,null,null,null,null,null,null,null,null,null,null,null,null,null,null,null,null,null,null,null,null,null,null,null,null,null,null,null,null,null,null,null,null,null,null,null,null,null,null,null,null,null,null,null,null,null,null,null,null,null,null,null,null,null,null,null,null,null,null,null,null,null,null,null,null,null,null,null,{"$f":"'List Data'!B179","v":"317-2"},{"$f":"IFERROR(INDEX('Dummy Data'!$M$8:$M$37,SMALL(IF('Dummy Data'!$F$8:$F$37=$BY182,ROW('Dummy Data'!$F$8:$F$37)-7,\"\"),COLUMNS($BZ$4:BZ182))),\"\")","v":""},{"$f":"IFERROR(INDEX('Dummy Data'!$M$8:$M$37,SMALL(IF('Dummy Data'!$F$8:$F$37=$BY182,ROW('Dummy Data'!$F$8:$F$37)-7,\"\"),COLUMNS($BZ$4:CA182))),\"\")","v":""},{"$f":"IFERROR(INDEX('Dummy Data'!$M$8:$M$37,SMALL(IF('Dummy Data'!$F$8:$F$37=$BY182,ROW('Dummy Data'!$F$8:$F$37)-7,\"\"),COLUMNS($BZ$4:CB182))),\"\")","v":""},{"$f":"IFERROR(INDEX('Dummy Data'!$M$8:$M$37,SMALL(IF('Dummy Data'!$F$8:$F$37=$BY182,ROW('Dummy Data'!$F$8:$F$37)-7,\"\"),COLUMNS($BZ$4:CC182))),\"\")","v":""},{"$f":"IFERROR(VLOOKUP(BZ182,'Dummy Data'!$B$73:$C$83,2,FALSE),\"\")","v":""},{"$f":"IFERROR(VLOOKUP(CA182,'Dummy Data'!$B$73:$C$83,2,FALSE),\"\")","v":""},{"$f":"IFERROR(VLOOKUP(CB182,'Dummy Data'!$B$73:$C$83,2,FALSE),\"\")","v":""},{"$f":"IFERROR(VLOOKUP(CC182,'Dummy Data'!$B$73:$C$83,2,FALSE),\"\")","v":""},""]
[null,null,null,null,null,null,null,null,null,null,null,null,null,null,null,null,null,null,null,null,null,null,null,null,null,null,null,null,null,null,null,null,null,null,null,null,null,null,null,null,null,null,null,null,null,null,null,null,null,null,null,null,null,null,null,null,null,null,null,null,null,null,null,null,null,null,null,null,null,null,null,null,null,null,null,null,{"$f":"'List Data'!B180","v":"319-1"},{"$f":"IFERROR(INDEX('Dummy Data'!$M$8:$M$37,SMALL(IF('Dummy Data'!$F$8:$F$37=$BY183,ROW('Dummy Data'!$F$8:$F$37)-7,\"\"),COLUMNS($BZ$4:BZ183))),\"\")","v":""},{"$f":"IFERROR(INDEX('Dummy Data'!$M$8:$M$37,SMALL(IF('Dummy Data'!$F$8:$F$37=$BY183,ROW('Dummy Data'!$F$8:$F$37)-7,\"\"),COLUMNS($BZ$4:CA183))),\"\")","v":""},{"$f":"IFERROR(INDEX('Dummy Data'!$M$8:$M$37,SMALL(IF('Dummy Data'!$F$8:$F$37=$BY183,ROW('Dummy Data'!$F$8:$F$37)-7,\"\"),COLUMNS($BZ$4:CB183))),\"\")","v":""},{"$f":"IFERROR(INDEX('Dummy Data'!$M$8:$M$37,SMALL(IF('Dummy Data'!$F$8:$F$37=$BY183,ROW('Dummy Data'!$F$8:$F$37)-7,\"\"),COLUMNS($BZ$4:CC183))),\"\")","v":""},{"$f":"IFERROR(VLOOKUP(BZ183,'Dummy Data'!$B$73:$C$83,2,FALSE),\"\")","v":""},{"$f":"IFERROR(VLOOKUP(CA183,'Dummy Data'!$B$73:$C$83,2,FALSE),\"\")","v":""},{"$f":"IFERROR(VLOOKUP(CB183,'Dummy Data'!$B$73:$C$83,2,FALSE),\"\")","v":""},{"$f":"IFERROR(VLOOKUP(CC183,'Dummy Data'!$B$73:$C$83,2,FALSE),\"\")","v":""},""]
[null,null,null,null,null,null,null,null,null,null,null,null,null,null,null,null,null,null,null,null,null,null,null,null,null,null,null,null,null,null,null,null,null,null,null,null,null,null,null,null,null,null,null,null,null,null,null,null,null,null,null,null,null,null,null,null,null,null,null,null,null,null,null,null,null,null,null,null,null,null,null,null,null,null,null,null,{"$f":"'List Data'!B181","v":"319-2"},{"$f":"IFERROR(INDEX('Dummy Data'!$M$8:$M$37,SMALL(IF('Dummy Data'!$F$8:$F$37=$BY184,ROW('Dummy Data'!$F$8:$F$37)-7,\"\"),COLUMNS($BZ$4:BZ184))),\"\")","v":""},{"$f":"IFERROR(INDEX('Dummy Data'!$M$8:$M$37,SMALL(IF('Dummy Data'!$F$8:$F$37=$BY184,ROW('Dummy Data'!$F$8:$F$37)-7,\"\"),COLUMNS($BZ$4:CA184))),\"\")","v":""},{"$f":"IFERROR(INDEX('Dummy Data'!$M$8:$M$37,SMALL(IF('Dummy Data'!$F$8:$F$37=$BY184,ROW('Dummy Data'!$F$8:$F$37)-7,\"\"),COLUMNS($BZ$4:CB184))),\"\")","v":""},{"$f":"IFERROR(INDEX('Dummy Data'!$M$8:$M$37,SMALL(IF('Dummy Data'!$F$8:$F$37=$BY184,ROW('Dummy Data'!$F$8:$F$37)-7,\"\"),COLUMNS($BZ$4:CC184))),\"\")","v":""},{"$f":"IFERROR(VLOOKUP(BZ184,'Dummy Data'!$B$73:$C$83,2,FALSE),\"\")","v":""},{"$f":"IFERROR(VLOOKUP(CA184,'Dummy Data'!$B$73:$C$83,2,FALSE),\"\")","v":""},{"$f":"IFERROR(VLOOKUP(CB184,'Dummy Data'!$B$73:$C$83,2,FALSE),\"\")","v":""},{"$f":"IFERROR(VLOOKUP(CC184,'Dummy Data'!$B$73:$C$83,2,FALSE),\"\")","v":""},""]
[null,null,null,null,null,null,null,null,null,null,null,null,null,null,null,null,null,null,null,null,null,null,null,null,null,null,null,null,null,null,null,null,null,null,null,null,null,null,null,null,null,null,null,null,null,null,null,null,null,null,null,null,null,null,null,null,null,null,null,null,null,null,null,null,null,null,null,null,null,null,null,null,null,null,null,null,{"$f":"'List Data'!B182","v":0},{"$f":"IFERROR(INDEX('Dummy Data'!$M$8:$M$37,SMALL(IF('Dummy Data'!$F$8:$F$37=$BY185,ROW('Dummy Data'!$F$8:$F$37)-7,\"\"),COLUMNS($BZ$4:BZ185))),\"\")","v":0},{"$f":"IFERROR(INDEX('Dummy Data'!$M$8:$M$37,SMALL(IF('Dummy Data'!$F$8:$F$37=$BY185,ROW('Dummy Data'!$F$8:$F$37)-7,\"\"),COLUMNS($BZ$4:CA185))),\"\")","v":0},{"$f":"IFERROR(INDEX('Dummy Data'!$M$8:$M$37,SMALL(IF('Dummy Data'!$F$8:$F$37=$BY185,ROW('Dummy Data'!$F$8:$F$37)-7,\"\"),COLUMNS($BZ$4:CB185))),\"\")","v":0},{"$f":"IFERROR(INDEX('Dummy Data'!$M$8:$M$37,SMALL(IF('Dummy Data'!$F$8:$F$37=$BY185,ROW('Dummy Data'!$F$8:$F$37)-7,\"\"),COLUMNS($BZ$4:CC185))),\"\")","v":0},{"$f":"IFERROR(VLOOKUP(BZ185,'Dummy Data'!$B$73:$C$83,2,FALSE),\"\")","v":""},{"$f":"IFERROR(VLOOKUP(CA185,'Dummy Data'!$B$73:$C$83,2,FALSE),\"\")","v":""},{"$f":"IFERROR(VLOOKUP(CB185,'Dummy Data'!$B$73:$C$83,2,FALSE),\"\")","v":""},{"$f":"IFERROR(VLOOKUP(CC185,'Dummy Data'!$B$73:$C$83,2,FALSE),\"\")","v":""},""]
[null,null,null,null,null,null,null,null,null,null,null,null,null,null,null,null,null,null,null,null,null,null,null,null,null,null,null,null,null,null,null,null,null,null,null,null,null,null,null,null,null,null,null,null,null,null,null,null,null,null,null,null,null,null,null,null,null,null,null,null,null,null,null,null,null,null,null,null,null,null,null,null,null,null,null,null,{"$f":"'List Data'!B183","v":0},{"$f":"IFERROR(INDEX('Dummy Data'!$M$8:$M$37,SMALL(IF('Dummy Data'!$F$8:$F$37=$BY186,ROW('Dummy Data'!$F$8:$F$37)-7,\"\"),COLUMNS($BZ$4:BZ186))),\"\")","v":0},{"$f":"IFERROR(INDEX('Dummy Data'!$M$8:$M$37,SMALL(IF('Dummy Data'!$F$8:$F$37=$BY186,ROW('Dummy Data'!$F$8:$F$37)-7,\"\"),COLUMNS($BZ$4:CA186))),\"\")","v":0},{"$f":"IFERROR(INDEX('Dummy Data'!$M$8:$M$37,SMALL(IF('Dummy Data'!$F$8:$F$37=$BY186,ROW('Dummy Data'!$F$8:$F$37)-7,\"\"),COLUMNS($BZ$4:CB186))),\"\")","v":0},{"$f":"IFERROR(INDEX('Dummy Data'!$M$8:$M$37,SMALL(IF('Dummy Data'!$F$8:$F$37=$BY186,ROW('Dummy Data'!$F$8:$F$37)-7,\"\"),COLUMNS($BZ$4:CC186))),\"\")","v":0},{"$f":"IFERROR(VLOOKUP(BZ186,'Dummy Data'!$B$73:$C$83,2,FALSE),\"\")","v":""},{"$f":"IFERROR(VLOOKUP(CA186,'Dummy Data'!$B$73:$C$83,2,FALSE),\"\")","v":""},{"$f":"IFERROR(VLOOKUP(CB186,'Dummy Data'!$B$73:$C$83,2,FALSE),\"\")","v":""},{"$f":"IFERROR(VLOOKUP(CC186,'Dummy Data'!$B$73:$C$83,2,FALSE),\"\")","v":""},""]
[null,null,null,null,null,null,null,null,null,null,null,null,null,null,null,null,null,null,null,null,null,null,null,null,null,null,null,null,null,null,null,null,null,null,null,null,null,null,null,null,null,null,null,null,null,null,null,null,null,null,null,null,null,null,null,null,null,null,null,null,null,null,null,null,null,null,null,null,null,null,null,null,null,null,null,null,{"$f":"'List Data'!B184","v":0},{"$f":"IFERROR(INDEX('Dummy Data'!$M$8:$M$37,SMALL(IF('Dummy Data'!$F$8:$F$37=$BY187,ROW('Dummy Data'!$F$8:$F$37)-7,\"\"),COLUMNS($BZ$4:BZ187))),\"\")","v":0},{"$f":"IFERROR(INDEX('Dummy Data'!$M$8:$M$37,SMALL(IF('Dummy Data'!$F$8:$F$37=$BY187,ROW('Dummy Data'!$F$8:$F$37)-7,\"\"),COLUMNS($BZ$4:CA187))),\"\")","v":0},{"$f":"IFERROR(INDEX('Dummy Data'!$M$8:$M$37,SMALL(IF('Dummy Data'!$F$8:$F$37=$BY187,ROW('Dummy Data'!$F$8:$F$37)-7,\"\"),COLUMNS($BZ$4:CB187))),\"\")","v":0},{"$f":"IFERROR(INDEX('Dummy Data'!$M$8:$M$37,SMALL(IF('Dummy Data'!$F$8:$F$37=$BY187,ROW('Dummy Data'!$F$8:$F$37)-7,\"\"),COLUMNS($BZ$4:CC187))),\"\")","v":0},{"$f":"IFERROR(VLOOKUP(BZ187,'Dummy Data'!$B$73:$C$83,2,FALSE),\"\")","v":""},{"$f":"IFERROR(VLOOKUP(CA187,'Dummy Data'!$B$73:$C$83,2,FALSE),\"\")","v":""},{"$f":"IFERROR(VLOOKUP(CB187,'Dummy Data'!$B$73:$C$83,2,FALSE),\"\")","v":""},{"$f":"IFERROR(VLOOKUP(CC187,'Dummy Data'!$B$73:$C$83,2,FALSE),\"\")","v":""},""]
[null,null,null,null,null,null,null,null,null,null,null,null,null,null,null,null,null,null,null,null,null,null,null,null,null,null,null,null,null,null,null,null,null,null,null,null,null,null,null,null,null,null,null,null,null,null,null,null,null,null,null,null,null,null,null,null,null,null,null,null,null,null,null,null,null,null,null,null,null,null,null,null,null,null,null,null,{"$f":"'List Data'!B185","v":0},{"$f":"IFERROR(INDEX('Dummy Data'!$M$8:$M$37,SMALL(IF('Dummy Data'!$F$8:$F$37=$BY188,ROW('Dummy Data'!$F$8:$F$37)-7,\"\"),COLUMNS($BZ$4:BZ188))),\"\")","v":0},{"$f":"IFERROR(INDEX('Dummy Data'!$M$8:$M$37,SMALL(IF('Dummy Data'!$F$8:$F$37=$BY188,ROW('Dummy Data'!$F$8:$F$37)-7,\"\"),COLUMNS($BZ$4:CA188))),\"\")","v":0},{"$f":"IFERROR(INDEX('Dummy Data'!$M$8:$M$37,SMALL(IF('Dummy Data'!$F$8:$F$37=$BY188,ROW('Dummy Data'!$F$8:$F$37)-7,\"\"),COLUMNS($BZ$4:CB188))),\"\")","v":0},{"$f":"IFERROR(INDEX('Dummy Data'!$M$8:$M$37,SMALL(IF('Dummy Data'!$F$8:$F$37=$BY188,ROW('Dummy Data'!$F$8:$F$37)-7,\"\"),COLUMNS($BZ$4:CC188))),\"\")","v":0},{"$f":"IFERROR(VLOOKUP(BZ188,'Dummy Data'!$B$73:$C$83,2,FALSE),\"\")","v":""},{"$f":"IFERROR(VLOOKUP(CA188,'Dummy Data'!$B$73:$C$83,2,FALSE),\"\")","v":""},{"$f":"IFERROR(VLOOKUP(CB188,'Dummy Data'!$B$73:$C$83,2,FALSE),\"\")","v":""},{"$f":"IFERROR(VLOOKUP(CC188,'Dummy Data'!$B$73:$C$83,2,FALSE),\"\")","v":""},""]
[null,null,null,null,null,null,null,null,null,null,null,null,null,null,null,null,null,null,null,null,null,null,null,null,null,null,null,null,null,null,null,null,null,null,null,null,null,null,null,null,null,null,null,null,null,null,null,null,null,null,null,null,null,null,null,null,null,null,null,null,null,null,null,null,null,null,null,null,null,null,null,null,null,null,null,null,{"$f":"'List Data'!B186","v":0},{"$f":"IFERROR(INDEX('Dummy Data'!$M$8:$M$37,SMALL(IF('Dummy Data'!$F$8:$F$37=$BY189,ROW('Dummy Data'!$F$8:$F$37)-7,\"\"),COLUMNS($BZ$4:BZ189))),\"\")","v":0},{"$f":"IFERROR(INDEX('Dummy Data'!$M$8:$M$37,SMALL(IF('Dummy Data'!$F$8:$F$37=$BY189,ROW('Dummy Data'!$F$8:$F$37)-7,\"\"),COLUMNS($BZ$4:CA189))),\"\")","v":0},{"$f":"IFERROR(INDEX('Dummy Data'!$M$8:$M$37,SMALL(IF('Dummy Data'!$F$8:$F$37=$BY189,ROW('Dummy Data'!$F$8:$F$37)-7,\"\"),COLUMNS($BZ$4:CB189))),\"\")","v":0},{"$f":"IFERROR(INDEX('Dummy Data'!$M$8:$M$37,SMALL(IF('Dummy Data'!$F$8:$F$37=$BY189,ROW('Dummy Data'!$F$8:$F$37)-7,\"\"),COLUMNS($BZ$4:CC189))),\"\")","v":0},{"$f":"IFERROR(VLOOKUP(BZ189,'Dummy Data'!$B$73:$C$83,2,FALSE),\"\")","v":""},{"$f":"IFERROR(VLOOKUP(CA189,'Dummy Data'!$B$73:$C$83,2,FALSE),\"\")","v":""},{"$f":"IFERROR(VLOOKUP(CB189,'Dummy Data'!$B$73:$C$83,2,FALSE),\"\")","v":""},{"$f":"IFERROR(VLOOKUP(CC189,'Dummy Data'!$B$73:$C$83,2,FALSE),\"\")","v":""},""]
[null,null,null,null,null,null,null,null,null,null,null,null,null,null,null,null,null,null,null,null,null,null,null,null,null,null,null,null,null,null,null,null,null,null,null,null,null,null,null,null,null,null,null,null,null,null,null,null,null,null,null,null,null,null,null,null,null,null,null,null,null,null,null,null,null,null,null,null,null,null,null,null,null,null,null,null,{"$f":"'List Data'!B187","v":0},{"$f":"IFERROR(INDEX('Dummy Data'!$M$8:$M$37,SMALL(IF('Dummy Data'!$F$8:$F$37=$BY190,ROW('Dummy Data'!$F$8:$F$37)-7,\"\"),COLUMNS($BZ$4:BZ190))),\"\")","v":0},{"$f":"IFERROR(INDEX('Dummy Data'!$M$8:$M$37,SMALL(IF('Dummy Data'!$F$8:$F$37=$BY190,ROW('Dummy Data'!$F$8:$F$37)-7,\"\"),COLUMNS($BZ$4:CA190))),\"\")","v":0},{"$f":"IFERROR(INDEX('Dummy Data'!$M$8:$M$37,SMALL(IF('Dummy Data'!$F$8:$F$37=$BY190,ROW('Dummy Data'!$F$8:$F$37)-7,\"\"),COLUMNS($BZ$4:CB190))),\"\")","v":0},{"$f":"IFERROR(INDEX('Dummy Data'!$M$8:$M$37,SMALL(IF('Dummy Data'!$F$8:$F$37=$BY190,ROW('Dummy Data'!$F$8:$F$37)-7,\"\"),COLUMNS($BZ$4:CC190))),\"\")","v":0},{"$f":"IFERROR(VLOOKUP(BZ190,'Dummy Data'!$B$73:$C$83,2,FALSE),\"\")","v":""},{"$f":"IFERROR(VLOOKUP(CA190,'Dummy Data'!$B$73:$C$83,2,FALSE),\"\")","v":""},{"$f":"IFERROR(VLOOKUP(CB190,'Dummy Data'!$B$73:$C$83,2,FALSE),\"\")","v":""},{"$f":"IFERROR(VLOOKUP(CC190,'Dummy Data'!$B$73:$C$83,2,FALSE),\"\")","v":""},""]
[null,null,null,null,null,null,null,null,null,null,null,null,null,null,null,null,null,null,null,null,null,null,null,null,null,null,null,null,null,null,null,null,null,null,null,null,null,null,null,null,null,null,null,null,null,null,null,null,null,null,null,null,null,null,null,null,null,null,null,null,null,null,null,null,null,null,null,null,null,null,null,null,null,null,null,null,{"$f":"'List Data'!B188","v":0},{"$f":"IFERROR(INDEX('Dummy Data'!$M$8:$M$37,SMALL(IF('Dummy Data'!$F$8:$F$37=$BY191,ROW('Dummy Data'!$F$8:$F$37)-7,\"\"),COLUMNS($BZ$4:BZ191))),\"\")","v":0},{"$f":"IFERROR(INDEX('Dummy Data'!$M$8:$M$37,SMALL(IF('Dummy Data'!$F$8:$F$37=$BY191,ROW('Dummy Data'!$F$8:$F$37)-7,\"\"),COLUMNS($BZ$4:CA191))),\"\")","v":0},{"$f":"IFERROR(INDEX('Dummy Data'!$M$8:$M$37,SMALL(IF('Dummy Data'!$F$8:$F$37=$BY191,ROW('Dummy Data'!$F$8:$F$37)-7,\"\"),COLUMNS($BZ$4:CB191))),\"\")","v":0},{"$f":"IFERROR(INDEX('Dummy Data'!$M$8:$M$37,SMALL(IF('Dummy Data'!$F$8:$F$37=$BY191,ROW('Dummy Data'!$F$8:$F$37)-7,\"\"),COLUMNS($BZ$4:CC191))),\"\")","v":0},{"$f":"IFERROR(VLOOKUP(BZ191,'Dummy Data'!$B$73:$C$83,2,FALSE),\"\")","v":""},{"$f":"IFERROR(VLOOKUP(CA191,'Dummy Data'!$B$73:$C$83,2,FALSE),\"\")","v":""},{"$f":"IFERROR(VLOOKUP(CB191,'Dummy Data'!$B$73:$C$83,2,FALSE),\"\")","v":""},{"$f":"IFERROR(VLOOKUP(CC191,'Dummy Data'!$B$73:$C$83,2,FALSE),\"\")","v":""},""]
[null,null,null,null,null,null,null,null,null,null,null,null,null,null,null,null,null,null,null,null,null,null,null,null,null,null,null,null,null,null,null,null,null,null,null,null,null,null,null,null,null,null,null,null,null,null,null,null,null,null,null,null,null,null,null,null,null,null,null,null,null,null,null,null,null,null,null,null,null,null,null,null,null,null,null,null,{"$f":"'List Data'!B189","v":0},{"$f":"IFERROR(INDEX('Dummy Data'!$M$8:$M$37,SMALL(IF('Dummy Data'!$F$8:$F$37=$BY192,ROW('Dummy Data'!$F$8:$F$37)-7,\"\"),COLUMNS($BZ$4:BZ192))),\"\")","v":0},{"$f":"IFERROR(INDEX('Dummy Data'!$M$8:$M$37,SMALL(IF('Dummy Data'!$F$8:$F$37=$BY192,ROW('Dummy Data'!$F$8:$F$37)-7,\"\"),COLUMNS($BZ$4:CA192))),\"\")","v":0},{"$f":"IFERROR(INDEX('Dummy Data'!$M$8:$M$37,SMALL(IF('Dummy Data'!$F$8:$F$37=$BY192,ROW('Dummy Data'!$F$8:$F$37)-7,\"\"),COLUMNS($BZ$4:CB192))),\"\")","v":0},{"$f":"IFERROR(INDEX('Dummy Data'!$M$8:$M$37,SMALL(IF('Dummy Data'!$F$8:$F$37=$BY192,ROW('Dummy Data'!$F$8:$F$37)-7,\"\"),COLUMNS($BZ$4:CC192))),\"\")","v":0},{"$f":"IFERROR(VLOOKUP(BZ192,'Dummy Data'!$B$73:$C$83,2,FALSE),\"\")","v":""},{"$f":"IFERROR(VLOOKUP(CA192,'Dummy Data'!$B$73:$C$83,2,FALSE),\"\")","v":""},{"$f":"IFERROR(VLOOKUP(CB192,'Dummy Data'!$B$73:$C$83,2,FALSE),\"\")","v":""},{"$f":"IFERROR(VLOOKUP(CC192,'Dummy Data'!$B$73:$C$83,2,FALSE),\"\")","v":""},""]
[null,null,null,null,null,null,null,null,null,null,null,null,null,null,null,null,null,null,null,null,null,null,null,null,null,null,null,null,null,null,null,null,null,null,null,null,null,null,null,null,null,null,null,null,null,null,null,null,null,null,null,null,null,null,null,null,null,null,null,null,null,null,null,null,null,null,null,null,null,null,null,null,null,null,null,null,{"$f":"'List Data'!B190","v":0},{"$f":"IFERROR(INDEX('Dummy Data'!$M$8:$M$37,SMALL(IF('Dummy Data'!$F$8:$F$37=$BY193,ROW('Dummy Data'!$F$8:$F$37)-7,\"\"),COLUMNS($BZ$4:BZ193))),\"\")","v":0},{"$f":"IFERROR(INDEX('Dummy Data'!$M$8:$M$37,SMALL(IF('Dummy Data'!$F$8:$F$37=$BY193,ROW('Dummy Data'!$F$8:$F$37)-7,\"\"),COLUMNS($BZ$4:CA193))),\"\")","v":0},{"$f":"IFERROR(INDEX('Dummy Data'!$M$8:$M$37,SMALL(IF('Dummy Data'!$F$8:$F$37=$BY193,ROW('Dummy Data'!$F$8:$F$37)-7,\"\"),COLUMNS($BZ$4:CB193))),\"\")","v":0},{"$f":"IFERROR(INDEX('Dummy Data'!$M$8:$M$37,SMALL(IF('Dummy Data'!$F$8:$F$37=$BY193,ROW('Dummy Data'!$F$8:$F$37)-7,\"\"),COLUMNS($BZ$4:CC193))),\"\")","v":0},{"$f":"IFERROR(VLOOKUP(BZ193,'Dummy Data'!$B$73:$C$83,2,FALSE),\"\")","v":""},{"$f":"IFERROR(VLOOKUP(CA193,'Dummy Data'!$B$73:$C$83,2,FALSE),\"\")","v":""},{"$f":"IFERROR(VLOOKUP(CB193,'Dummy Data'!$B$73:$C$83,2,FALSE),\"\")","v":""},{"$f":"IFERROR(VLOOKUP(CC193,'Dummy Data'!$B$73:$C$83,2,FALSE),\"\")","v":""},""]
[null,null,null,null,null,null,null,null,null,null,null,null,null,null,null,null,null,null,null,null,null,null,null,null,null,null,null,null,null,null,null,null,null,null,null,null,null,null,null,null,null,null,null,null,null,null,null,null,null,null,null,null,null,null,null,null,null,null,null,null,null,null,null,null,null,null,null,null,null,null,null,null,null,null,null,null,{"$f":"'List Data'!B191","v":0},{"$f":"IFERROR(INDEX('Dummy Data'!$M$8:$M$37,SMALL(IF('Dummy Data'!$F$8:$F$37=$BY194,ROW('Dummy Data'!$F$8:$F$37)-7,\"\"),COLUMNS($BZ$4:BZ194))),\"\")","v":0},{"$f":"IFERROR(INDEX('Dummy Data'!$M$8:$M$37,SMALL(IF('Dummy Data'!$F$8:$F$37=$BY194,ROW('Dummy Data'!$F$8:$F$37)-7,\"\"),COLUMNS($BZ$4:CA194))),\"\")","v":0},{"$f":"IFERROR(INDEX('Dummy Data'!$M$8:$M$37,SMALL(IF('Dummy Data'!$F$8:$F$37=$BY194,ROW('Dummy Data'!$F$8:$F$37)-7,\"\"),COLUMNS($BZ$4:CB194))),\"\")","v":0},{"$f":"IFERROR(INDEX('Dummy Data'!$M$8:$M$37,SMALL(IF('Dummy Data'!$F$8:$F$37=$BY194,ROW('Dummy Data'!$F$8:$F$37)-7,\"\"),COLUMNS($BZ$4:CC194))),\"\")","v":0},{"$f":"IFERROR(VLOOKUP(BZ194,'Dummy Data'!$B$73:$C$83,2,FALSE),\"\")","v":""},{"$f":"IFERROR(VLOOKUP(CA194,'Dummy Data'!$B$73:$C$83,2,FALSE),\"\")","v":""},{"$f":"IFERROR(VLOOKUP(CB194,'Dummy Data'!$B$73:$C$83,2,FALSE),\"\")","v":""},{"$f":"IFERROR(VLOOKUP(CC194,'Dummy Data'!$B$73:$C$83,2,FALSE),\"\")","v":""},""]
[null,null,null,null,null,null,null,null,null,null,null,null,null,null,null,null,null,null,null,null,null,null,null,null,null,null,null,null,null,null,null,null,null,null,null,null,null,null,null,null,null,null,null,null,null,null,null,null,null,null,null,null,null,null,null,null,null,null,null,null,null,null,null,null,null,null,null,null,null,null,null,null,null,null,null,null,{"$f":"'List Data'!B192","v":0},{"$f":"IFERROR(INDEX('Dummy Data'!$M$8:$M$37,SMALL(IF('Dummy Data'!$F$8:$F$37=$BY195,ROW('Dummy Data'!$F$8:$F$37)-7,\"\"),COLUMNS($BZ$4:BZ195))),\"\")","v":0},{"$f":"IFERROR(INDEX('Dummy Data'!$M$8:$M$37,SMALL(IF('Dummy Data'!$F$8:$F$37=$BY195,ROW('Dummy Data'!$F$8:$F$37)-7,\"\"),COLUMNS($BZ$4:CA195))),\"\")","v":0},{"$f":"IFERROR(INDEX('Dummy Data'!$M$8:$M$37,SMALL(IF('Dummy Data'!$F$8:$F$37=$BY195,ROW('Dummy Data'!$F$8:$F$37)-7,\"\"),COLUMNS($BZ$4:CB195))),\"\")","v":0},{"$f":"IFERROR(INDEX('Dummy Data'!$M$8:$M$37,SMALL(IF('Dummy Data'!$F$8:$F$37=$BY195,ROW('Dummy Data'!$F$8:$F$37)-7,\"\"),COLUMNS($BZ$4:CC195))),\"\")","v":0},{"$f":"IFERROR(VLOOKUP(BZ195,'Dummy Data'!$B$73:$C$83,2,FALSE),\"\")","v":""},{"$f":"IFERROR(VLOOKUP(CA195,'Dummy Data'!$B$73:$C$83,2,FALSE),\"\")","v":""},{"$f":"IFERROR(VLOOKUP(CB195,'Dummy Data'!$B$73:$C$83,2,FALSE),\"\")","v":""},{"$f":"IFERROR(VLOOKUP(CC195,'Dummy Data'!$B$73:$C$83,2,FALSE),\"\")","v":""},""]
[null,null,null,null,null,null,null,null,null,null,null,null,null,null,null,null,null,null,null,null,null,null,null,null,null,null,null,null,null,null,null,null,null,null,null,null,null,null,null,null,null,null,null,null,null,null,null,null,null,null,null,null,null,null,null,null,null,null,null,null,null,null,null,null,null,null,null,null,null,null,null,null,null,null,null,null,{"$f":"'List Data'!B193","v":0},{"$f":"IFERROR(INDEX('Dummy Data'!$M$8:$M$37,SMALL(IF('Dummy Data'!$F$8:$F$37=$BY196,ROW('Dummy Data'!$F$8:$F$37)-7,\"\"),COLUMNS($BZ$4:BZ196))),\"\")","v":0},{"$f":"IFERROR(INDEX('Dummy Data'!$M$8:$M$37,SMALL(IF('Dummy Data'!$F$8:$F$37=$BY196,ROW('Dummy Data'!$F$8:$F$37)-7,\"\"),COLUMNS($BZ$4:CA196))),\"\")","v":0},{"$f":"IFERROR(INDEX('Dummy Data'!$M$8:$M$37,SMALL(IF('Dummy Data'!$F$8:$F$37=$BY196,ROW('Dummy Data'!$F$8:$F$37)-7,\"\"),COLUMNS($BZ$4:CB196))),\"\")","v":0},{"$f":"IFERROR(INDEX('Dummy Data'!$M$8:$M$37,SMALL(IF('Dummy Data'!$F$8:$F$37=$BY196,ROW('Dummy Data'!$F$8:$F$37)-7,\"\"),COLUMNS($BZ$4:CC196))),\"\")","v":0},{"$f":"IFERROR(VLOOKUP(BZ196,'Dummy Data'!$B$73:$C$83,2,FALSE),\"\")","v":""},{"$f":"IFERROR(VLOOKUP(CA196,'Dummy Data'!$B$73:$C$83,2,FALSE),\"\")","v":""},{"$f":"IFERROR(VLOOKUP(CB196,'Dummy Data'!$B$73:$C$83,2,FALSE),\"\")","v":""},{"$f":"IFERROR(VLOOKUP(CC196,'Dummy Data'!$B$73:$C$83,2,FALSE),\"\")","v":""},""]
[null,null,null,null,null,null,null,null,null,null,null,null,null,null,null,null,null,null,null,null,null,null,null,null,null,null,null,null,null,null,null,null,null,null,null,null,null,null,null,null,null,null,null,null,null,null,null,null,null,null,null,null,null,null,null,null,null,null,null,null,null,null,null,null,null,null,null,null,null,null,null,null,null,null,null,null,{"$f":"'List Data'!B194","v":0},{"$f":"IFERROR(INDEX('Dummy Data'!$M$8:$M$37,SMALL(IF('Dummy Data'!$F$8:$F$37=$BY197,ROW('Dummy Data'!$F$8:$F$37)-7,\"\"),COLUMNS($BZ$4:BZ197))),\"\")","v":0},{"$f":"IFERROR(INDEX('Dummy Data'!$M$8:$M$37,SMALL(IF('Dummy Data'!$F$8:$F$37=$BY197,ROW('Dummy Data'!$F$8:$F$37)-7,\"\"),COLUMNS($BZ$4:CA197))),\"\")","v":0},{"$f":"IFERROR(INDEX('Dummy Data'!$M$8:$M$37,SMALL(IF('Dummy Data'!$F$8:$F$37=$BY197,ROW('Dummy Data'!$F$8:$F$37)-7,\"\"),COLUMNS($BZ$4:CB197))),\"\")","v":0},{"$f":"IFERROR(INDEX('Dummy Data'!$M$8:$M$37,SMALL(IF('Dummy Data'!$F$8:$F$37=$BY197,ROW('Dummy Data'!$F$8:$F$37)-7,\"\"),COLUMNS($BZ$4:CC197))),\"\")","v":0},{"$f":"IFERROR(VLOOKUP(BZ197,'Dummy Data'!$B$73:$C$83,2,FALSE),\"\")","v":""},{"$f":"IFERROR(VLOOKUP(CA197,'Dummy Data'!$B$73:$C$83,2,FALSE),\"\")","v":""},{"$f":"IFERROR(VLOOKUP(CB197,'Dummy Data'!$B$73:$C$83,2,FALSE),\"\")","v":""},{"$f":"IFERROR(VLOOKUP(CC197,'Dummy Data'!$B$73:$C$83,2,FALSE),\"\")","v":""},""]
[null,null,null,null,null,null,null,null,null,null,null,null,null,null,null,null,null,null,null,null,null,null,null,null,null,null,null,null,null,null,null,null,null,null,null,null,null,null,null,null,null,null,null,null,null,null,null,null,null,null,null,null,null,null,null,null,null,null,null,null,null,null,null,null,null,null,null,null,null,null,null,null,null,null,null,null,{"$f":"'List Data'!B195","v":0},{"$f":"IFERROR(INDEX('Dummy Data'!$M$8:$M$37,SMALL(IF('Dummy Data'!$F$8:$F$37=$BY198,ROW('Dummy Data'!$F$8:$F$37)-7,\"\"),COLUMNS($BZ$4:BZ198))),\"\")","v":0},{"$f":"IFERROR(INDEX('Dummy Data'!$M$8:$M$37,SMALL(IF('Dummy Data'!$F$8:$F$37=$BY198,ROW('Dummy Data'!$F$8:$F$37)-7,\"\"),COLUMNS($BZ$4:CA198))),\"\")","v":0},{"$f":"IFERROR(INDEX('Dummy Data'!$M$8:$M$37,SMALL(IF('Dummy Data'!$F$8:$F$37=$BY198,ROW('Dummy Data'!$F$8:$F$37)-7,\"\"),COLUMNS($BZ$4:CB198))),\"\")","v":0},{"$f":"IFERROR(INDEX('Dummy Data'!$M$8:$M$37,SMALL(IF('Dummy Data'!$F$8:$F$37=$BY198,ROW('Dummy Data'!$F$8:$F$37)-7,\"\"),COLUMNS($BZ$4:CC198))),\"\")","v":0},{"$f":"IFERROR(VLOOKUP(BZ198,'Dummy Data'!$B$73:$C$83,2,FALSE),\"\")","v":""},{"$f":"IFERROR(VLOOKUP(CA198,'Dummy Data'!$B$73:$C$83,2,FALSE),\"\")","v":""},{"$f":"IFERROR(VLOOKUP(CB198,'Dummy Data'!$B$73:$C$83,2,FALSE),\"\")","v":""},{"$f":"IFERROR(VLOOKUP(CC198,'Dummy Data'!$B$73:$C$83,2,FALSE),\"\")","v":""},{"$f":"IF(CD198=\"\",\"\",IF(CE198=\"\",CD198,IF(CF198=\"\",CD198&\",\"&CE198,IF(CG198=\"\",CD198&\",\"&CE198&\",\"&CF198,CD198&\",\"&CE198&\",\"&CF198&\",\"&CG198))))","v":""}]
[null,null,null,null,null,null,null,null,null,null,null,null,null,null,null,null,null,null,null,null,null,null,null,null,null,null,null,null,null,null,null,null,null,null,null,null,null,null,null,null,null,null,null,null,null,null,null,null,null,null,null,null,null,null,null,null,null,null,null,null,null,null,null,null,null,null,null,null,null,null,null,null,null,null,null,null,{"$f":"'List Data'!B196","v":0},{"$f":"IFERROR(INDEX('Dummy Data'!$M$8:$M$37,SMALL(IF('Dummy Data'!$F$8:$F$37=$BY199,ROW('Dummy Data'!$F$8:$F$37)-7,\"\"),COLUMNS($BZ$4:BZ199))),\"\")","v":0},{"$f":"IFERROR(INDEX('Dummy Data'!$M$8:$M$37,SMALL(IF('Dummy Data'!$F$8:$F$37=$BY199,ROW('Dummy Data'!$F$8:$F$37)-7,\"\"),COLUMNS($BZ$4:CA199))),\"\")","v":0},{"$f":"IFERROR(INDEX('Dummy Data'!$M$8:$M$37,SMALL(IF('Dummy Data'!$F$8:$F$37=$BY199,ROW('Dummy Data'!$F$8:$F$37)-7,\"\"),COLUMNS($BZ$4:CB199))),\"\")","v":0},{"$f":"IFERROR(INDEX('Dummy Data'!$M$8:$M$37,SMALL(IF('Dummy Data'!$F$8:$F$37=$BY199,ROW('Dummy Data'!$F$8:$F$37)-7,\"\"),COLUMNS($BZ$4:CC199))),\"\")","v":0},{"$f":"IFERROR(VLOOKUP(BZ199,'Dummy Data'!$B$73:$C$83,2,FALSE),\"\")","v":""},{"$f":"IFERROR(VLOOKUP(CA199,'Dummy Data'!$B$73:$C$83,2,FALSE),\"\")","v":""},{"$f":"IFERROR(VLOOKUP(CB199,'Dummy Data'!$B$73:$C$83,2,FALSE),\"\")","v":""},{"$f":"IFERROR(VLOOKUP(CC199,'Dummy Data'!$B$73:$C$83,2,FALSE),\"\")","v":""},""]
[null,null,null,null,null,null,null,null,null,null,null,null,null,null,null,null,null,null,null,null,null,null,null,null,null,null,null,null,null,null,null,null,null,null,null,null,null,null,null,null,null,null,null,null,null,null,null,null,null,null,null,null,null,null,null,null,null,null,null,null,null,null,null,null,null,null,null,null,null,null,null,null,null,null,null,null,{"$f":"'List Data'!B197","v":0},{"$f":"IFERROR(INDEX('Dummy Data'!$M$8:$M$37,SMALL(IF('Dummy Data'!$F$8:$F$37=$BY200,ROW('Dummy Data'!$F$8:$F$37)-7,\"\"),COLUMNS($BZ$4:BZ200))),\"\")","v":0},{"$f":"IFERROR(INDEX('Dummy Data'!$M$8:$M$37,SMALL(IF('Dummy Data'!$F$8:$F$37=$BY200,ROW('Dummy Data'!$F$8:$F$37)-7,\"\"),COLUMNS($BZ$4:CA200))),\"\")","v":0},{"$f":"IFERROR(INDEX('Dummy Data'!$M$8:$M$37,SMALL(IF('Dummy Data'!$F$8:$F$37=$BY200,ROW('Dummy Data'!$F$8:$F$37)-7,\"\"),COLUMNS($BZ$4:CB200))),\"\")","v":0},{"$f":"IFERROR(INDEX('Dummy Data'!$M$8:$M$37,SMALL(IF('Dummy Data'!$F$8:$F$37=$BY200,ROW('Dummy Data'!$F$8:$F$37)-7,\"\"),COLUMNS($BZ$4:CC200))),\"\")","v":0},{"$f":"IFERROR(VLOOKUP(BZ200,'Dummy Data'!$B$73:$C$83,2,FALSE),\"\")","v":""},{"$f":"IFERROR(VLOOKUP(CA200,'Dummy Data'!$B$73:$C$83,2,FALSE),\"\")","v":""},{"$f":"IFERROR(VLOOKUP(CB200,'Dummy Data'!$B$73:$C$83,2,FALSE),\"\")","v":""},{"$f":"IFERROR(VLOOKUP(CC200,'Dummy Data'!$B$73:$C$83,2,FALSE),\"\")","v":""},""]

{"sheet":"Sheet1","index":3,"n_rows":15,"n_cols":4,"rows_kept":15,"cut":false,"hidden":false,"merged":[]}
["uncomplicated cystitis based on sx"]
["Active monitoring or sx entered (met, not met, N/A)"]
["… so likely vs unlikely cystitis"]
["…does atb match guidelines"]
["…there are 5 other drugs to know re interactions"]
["4 modified MAI criteria to say is ATB appropriate"]
[null,"duration, drug interactions, indication, sensitivity on cx, dosing (renal function), allergy"]
[]
["Caution drugs",null,null,"Renal function"]
["phenytoin",null,"nitrofurantoin",">30"]
["coumadin"]
["methotrexate"]
["tizanidine",null,"bactrim ","15-30"]
["procainamide",null,"cipro","<15-30"]
["theophylline"]